| Back to Build/check report for BioC 3.17 |
|
This page was generated on 2023-01-02 09:00:22 -0500 (Mon, 02 Jan 2023).
| Hostname | OS | Arch (*) | R version | Installed pkgs |
|---|---|---|---|---|
| palomino5 | Windows Server 2022 Datacenter | x64 | R Under development (unstable) (2022-12-25 r83502 ucrt) -- "Unsuffered Consequences" | 4165 |
| Click on any hostname to see more info about the system (e.g. compilers) (*) as reported by 'uname -p', except on Windows and Mac OS X | ||||
|
To the developers/maintainers of the CellScore package: Make sure to use the following settings in order to reproduce any error or warning you see on this page. |
| Package 279/2158 | Hostname | OS / Arch | INSTALL | BUILD | CHECK | BUILD BIN | ||||||||
| CellScore 1.19.0 (landing page) Nancy Mah
| palomino5 | Windows Server 2022 Datacenter / x64 | OK | OK | OK | OK | ||||||||
| Package: CellScore |
| Version: 1.19.0 |
| Command: chmod a+r CellScore -R && F:\biocbuild\bbs-3.17-bioc\R\bin\R.exe CMD build --keep-empty-dirs --no-resave-data CellScore |
| StartedAt: 2022-12-28 17:09:32 -0500 (Wed, 28 Dec 2022) |
| EndedAt: 2022-12-28 17:11:59 -0500 (Wed, 28 Dec 2022) |
| EllapsedTime: 146.9 seconds |
| RetCode: 0 |
| Status: OK |
| PackageFile: CellScore_1.19.0.tar.gz |
| PackageFileSize: 4.175 MiB |
##############################################################################
##############################################################################
###
### Running command:
###
### chmod a+r CellScore -R && F:\biocbuild\bbs-3.17-bioc\R\bin\R.exe CMD build --keep-empty-dirs --no-resave-data CellScore
###
##############################################################################
##############################################################################
* checking for file 'CellScore/DESCRIPTION' ... OK
* preparing 'CellScore':
* checking DESCRIPTION meta-information ... OK
* installing the package to build vignettes
* creating vignettes ... OK
Warning: 'inst/doc' files
'CellScoreVignette.Rnw', 'CellScoreVignette.pdf', 'CellScoreVignette.R'
ignored as vignettes have been rebuilt.
Run R CMD build with --no-build-vignettes to prevent rebuilding.
* checking for LF line-endings in source and make files and shell scripts
* checking for empty or unneeded directories
Omitted 'LazyData' from DESCRIPTION
* building 'CellScore_1.19.0.tar.gz'