| Back to Build/check report for BioC 3.17 |
|
This page was generated on 2023-01-02 09:00:22 -0500 (Mon, 02 Jan 2023).
| Hostname | OS | Arch (*) | R version | Installed pkgs |
|---|---|---|---|---|
| palomino5 | Windows Server 2022 Datacenter | x64 | R Under development (unstable) (2022-12-25 r83502 ucrt) -- "Unsuffered Consequences" | 4165 |
| Click on any hostname to see more info about the system (e.g. compilers) (*) as reported by 'uname -p', except on Windows and Mac OS X | ||||
|
To the developers/maintainers of the CellMapper package: Make sure to use the following settings in order to reproduce any error or warning you see on this page. |
| Package 274/2158 | Hostname | OS / Arch | INSTALL | BUILD | CHECK | BUILD BIN | ||||||||
| CellMapper 1.25.0 (landing page) Brad Nelms
| palomino5 | Windows Server 2022 Datacenter / x64 | OK | OK | WARNINGS | OK | ||||||||
| Package: CellMapper |
| Version: 1.25.0 |
| Command: rm -rf CellMapper.buildbin-libdir && mkdir CellMapper.buildbin-libdir && F:\biocbuild\bbs-3.17-bioc\R\bin\R.exe CMD INSTALL --build --library=CellMapper.buildbin-libdir CellMapper_1.25.0.tar.gz |
| StartedAt: 2022-12-29 04:56:25 -0500 (Thu, 29 Dec 2022) |
| EndedAt: 2022-12-29 04:56:32 -0500 (Thu, 29 Dec 2022) |
| EllapsedTime: 7.4 seconds |
| RetCode: 0 |
| Status: OK |
| PackageFile: CellMapper_1.25.0.zip |
| PackageFileSize: 354 KiB |
############################################################################## ############################################################################## ### ### Running command: ### ### rm -rf CellMapper.buildbin-libdir && mkdir CellMapper.buildbin-libdir && F:\biocbuild\bbs-3.17-bioc\R\bin\R.exe CMD INSTALL --build --library=CellMapper.buildbin-libdir CellMapper_1.25.0.tar.gz ### ############################################################################## ############################################################################## * installing *source* package 'CellMapper' ... ** using staged installation ** R ** data ** inst ** byte-compile and prepare package for lazy loading Warning: replacing previous import 'stats::var' by 'S4Vectors::var' when loading 'CellMapper' Warning: replacing previous import 'stats::sd' by 'S4Vectors::sd' when loading 'CellMapper' ** help *** installing help indices ** building package indices ** installing vignettes ** testing if installed package can be loaded from temporary location Warning: replacing previous import 'stats::var' by 'S4Vectors::var' when loading 'CellMapper' Warning: replacing previous import 'stats::sd' by 'S4Vectors::sd' when loading 'CellMapper' ** testing if installed package can be loaded from final location Warning: replacing previous import 'stats::var' by 'S4Vectors::var' when loading 'CellMapper' Warning: replacing previous import 'stats::sd' by 'S4Vectors::sd' when loading 'CellMapper' ** testing if installed package keeps a record of temporary installation path * MD5 sums packaged installation of 'CellMapper' as CellMapper_1.25.0.zip * DONE (CellMapper)