| Back to Build/check report for BioC 3.17 |
|
This page was generated on 2023-01-02 09:00:22 -0500 (Mon, 02 Jan 2023).
| Hostname | OS | Arch (*) | R version | Installed pkgs |
|---|---|---|---|---|
| palomino5 | Windows Server 2022 Datacenter | x64 | R Under development (unstable) (2022-12-25 r83502 ucrt) -- "Unsuffered Consequences" | 4165 |
| Click on any hostname to see more info about the system (e.g. compilers) (*) as reported by 'uname -p', except on Windows and Mac OS X | ||||
|
To the developers/maintainers of the CeTF package: Make sure to use the following settings in order to reproduce any error or warning you see on this page. |
| Package 286/2158 | Hostname | OS / Arch | INSTALL | BUILD | CHECK | BUILD BIN | ||||||||
| CeTF 1.11.0 (landing page) Carlos Alberto Oliveira de Biagi Junior
| palomino5 | Windows Server 2022 Datacenter / x64 | ERROR | ERROR | skipped | skipped | ||||||||
| Package: CeTF |
| Version: 1.11.0 |
| Command: chmod a+r CeTF -R && F:\biocbuild\bbs-3.17-bioc\R\bin\R.exe CMD build --keep-empty-dirs --no-resave-data CeTF |
| StartedAt: 2022-12-28 17:10:24 -0500 (Wed, 28 Dec 2022) |
| EndedAt: 2022-12-28 17:10:26 -0500 (Wed, 28 Dec 2022) |
| EllapsedTime: 2.3 seconds |
| RetCode: 1 |
| Status: ERROR |
| PackageFile: None |
| PackageFileSize: NA |
##############################################################################
##############################################################################
###
### Running command:
###
### chmod a+r CeTF -R && F:\biocbuild\bbs-3.17-bioc\R\bin\R.exe CMD build --keep-empty-dirs --no-resave-data CeTF
###
##############################################################################
##############################################################################
* checking for file 'CeTF/DESCRIPTION' ... OK
* preparing 'CeTF':
* checking DESCRIPTION meta-information ... OK
* cleaning src
* installing the package to build vignettes
-----------------------------------
ERROR: dependency 'GenomicTools' is not available for package 'CeTF'
* removing 'F:/biocbuild/bbs-3.17-bioc-rtools43/tmpdir/Rtmpqc2Ii9/Rinst3174461b18c4/CeTF'
-----------------------------------
ERROR: package installation failed