| Back to Build/check report for BioC 3.17 | 
 | 
This page was generated on 2023-01-02 09:00:25 -0500 (Mon, 02 Jan 2023).
| Hostname | OS | Arch (*) | R version | Installed pkgs | 
|---|---|---|---|---|
| palomino5 | Windows Server 2022 Datacenter | x64 | R Under development (unstable) (2022-12-25 r83502 ucrt) -- "Unsuffered Consequences" | 4165 | 
| Click on any hostname to see more info about the system (e.g. compilers) (*) as reported by 'uname -p', except on Windows and Mac OS X | ||||
| To the developers/maintainers of the CSAR package: Make sure to use the following settings in order to reproduce any error or warning you see on this page. | 
| Package 437/2158 | Hostname | OS / Arch | INSTALL | BUILD | CHECK | BUILD BIN | ||||||||
| CSAR 1.51.0  (landing page) Jose M Muino 
 | palomino5 | Windows Server 2022 Datacenter / x64 | OK | OK | OK | OK | ||||||||
| Package: CSAR | 
| Version: 1.51.0 | 
| Command: F:\biocbuild\bbs-3.17-bioc\R\bin\R.exe CMD check --no-multiarch --install=check:CSAR.install-out.txt --library=F:\biocbuild\bbs-3.17-bioc\R\library --no-vignettes --timings CSAR_1.51.0.tar.gz | 
| StartedAt: 2022-12-28 22:53:28 -0500 (Wed, 28 Dec 2022) | 
| EndedAt: 2022-12-28 22:55:34 -0500 (Wed, 28 Dec 2022) | 
| EllapsedTime: 126.5 seconds | 
| RetCode: 0 | 
| Status: OK | 
| CheckDir: CSAR.Rcheck | 
| Warnings: 0 | 
##############################################################################
##############################################################################
###
### Running command:
###
###   F:\biocbuild\bbs-3.17-bioc\R\bin\R.exe CMD check --no-multiarch --install=check:CSAR.install-out.txt --library=F:\biocbuild\bbs-3.17-bioc\R\library --no-vignettes --timings CSAR_1.51.0.tar.gz
###
##############################################################################
##############################################################################
* using log directory 'F:/biocbuild/bbs-3.17-bioc-rtools43/meat/CSAR.Rcheck'
* using R Under development (unstable) (2022-12-25 r83502 ucrt)
* using platform: x86_64-w64-mingw32 (64-bit)
* R was compiled by
    gcc.exe (GCC) 10.4.0
    GNU Fortran (GCC) 10.4.0
* running under: Windows Server x64 (build 20348)
* using session charset: UTF-8
* using option '--no-vignettes'
* checking for file 'CSAR/DESCRIPTION' ... OK
* checking extension type ... Package
* this is package 'CSAR' version '1.51.0'
* checking package namespace information ... OK
* checking package dependencies ... OK
* checking if this is a source package ... OK
* checking if there is a namespace ... OK
* checking for hidden files and directories ... OK
* checking for portable file names ... OK
* checking whether package 'CSAR' can be installed ... OK
* used C compiler: 'gcc.exe (GCC) 12.2.0'
* checking installed package size ... OK
* checking package directory ... OK
* checking 'build' directory ... OK
* checking DESCRIPTION meta-information ... OK
* checking top-level files ... OK
* checking for left-over files ... OK
* checking index information ... OK
* checking package subdirectories ... OK
* checking R files for non-ASCII characters ... OK
* checking R files for syntax errors ... OK
* checking whether the package can be loaded ... OK
* checking whether the package can be loaded with stated dependencies ... OK
* checking whether the package can be unloaded cleanly ... OK
* checking whether the namespace can be loaded with stated dependencies ... OK
* checking whether the namespace can be unloaded cleanly ... OK
* checking dependencies in R code ... OK
* checking S3 generic/method consistency ... OK
* checking replacement functions ... OK
* checking foreign function calls ... OK
* checking R code for possible problems ... NOTE
mappedReads2Nhits: no visible global function definition for
  'chromosome'
mappedReads2Nhits: no visible global function definition for 'position'
Undefined global functions or variables:
  chromosome position
* checking Rd files ... OK
* checking Rd metadata ... OK
* checking Rd cross-references ... OK
* checking for missing documentation entries ... OK
* checking for code/documentation mismatches ... OK
* checking Rd \usage sections ... OK
* checking Rd contents ... OK
* checking for unstated dependencies in examples ... OK
* checking contents of 'data' directory ... OK
* checking data for non-ASCII characters ... OK
* checking LazyData ... OK
* checking data for ASCII and uncompressed saves ... OK
* checking line endings in C/C++/Fortran sources/headers ... OK
* checking compiled code ... NOTE
Note: information on .o files for x64 is not available
File 'F:/biocbuild/bbs-3.17-bioc/R/library/CSAR/libs/x64/CSAR.dll':
  Found 'abort', possibly from 'abort' (C), 'runtime' (Fortran)
Compiled code should not call entry points which might terminate R nor
write to stdout/stderr instead of to the console, nor use Fortran I/O
nor system RNGs nor [v]sprintf. The detected symbols are linked into
the code but might come from libraries and not actually be called.
See 'Writing portable packages' in the 'Writing R Extensions' manual.
* checking sizes of PDF files under 'inst/doc' ... OK
* checking files in 'vignettes' ... OK
* checking examples ... OK
Examples with CPU (user + system) or elapsed time > 5s
                        user system elapsed
getThreshold           11.16   0.01   11.17
CSAR-package           10.95   0.03   10.99
permutatedWinScores     9.72   0.05    9.76
getPermutatedWinScores  9.47   0.02    9.48
* checking for unstated dependencies in vignettes ... OK
* checking package vignettes in 'inst/doc' ... OK
* checking running R code from vignettes ... SKIPPED
* checking re-building of vignette outputs ... SKIPPED
* checking PDF version of manual ... OK
* DONE
Status: 2 NOTEs
See
  'F:/biocbuild/bbs-3.17-bioc-rtools43/meat/CSAR.Rcheck/00check.log'
for details.
CSAR.Rcheck/00install.out
############################################################################## ############################################################################## ### ### Running command: ### ### F:\biocbuild\bbs-3.17-bioc\R\bin\R.exe CMD INSTALL CSAR ### ############################################################################## ############################################################################## * installing to library 'F:/biocbuild/bbs-3.17-bioc/R/library' * installing *source* package 'CSAR' ... ** using staged installation ** libs using C compiler: 'gcc.exe (GCC) 12.2.0' gcc -I"F:/biocbuild/bbs-3.17-bioc/R/include" -DNDEBUG -I"c:/rtools42/x86_64-w64-mingw32.static.posix/include" -O2 -Wall -std=gnu99 -mfpmath=sse -msse2 -mstackrealign -c CSAR.c -o CSAR.o gcc -shared -s -static-libgcc -o CSAR.dll tmp.def CSAR.o -Lc:/rtools42/x86_64-w64-mingw32.static.posix/lib/x64 -Lc:/rtools42/x86_64-w64-mingw32.static.posix/lib -LF:/biocbuild/bbs-3.17-bioc/R/bin/x64 -lR installing to F:/biocbuild/bbs-3.17-bioc/R/library/00LOCK-CSAR/00new/CSAR/libs/x64 ** R ** data *** moving datasets to lazyload DB ** inst ** byte-compile and prepare package for lazy loading ** help *** installing help indices ** building package indices ** installing vignettes ** testing if installed package can be loaded from temporary location ** testing if installed package can be loaded from final location ** testing if installed package keeps a record of temporary installation path * DONE (CSAR)
CSAR.Rcheck/CSAR-Ex.timings
| name | user | system | elapsed | |
| CSAR-package | 10.95 | 0.03 | 10.99 | |
| ChIPseqScore | 2.68 | 0.02 | 2.69 | |
| distance2Genes | 3.48 | 0.02 | 3.50 | |
| genesWithPeaks | 3.48 | 0.01 | 3.50 | |
| getPermutatedWinScores | 9.47 | 0.02 | 9.48 | |
| getThreshold | 11.16 | 0.01 | 11.17 | |
| loadMappedReads | 0 | 0 | 0 | |
| mappedReads2Nhits | 1.19 | 0.00 | 1.19 | |
| permutatedWinScores | 9.72 | 0.05 | 9.76 | |
| sampleSEP3_test | 0 | 0 | 0 | |
| score2wig | 2.81 | 0.01 | 2.83 | |
| sigWin | 3.45 | 0.00 | 3.46 | |