| Back to Build/check report for BioC 3.17 |
|
This page was generated on 2023-01-02 09:00:24 -0500 (Mon, 02 Jan 2023).
| Hostname | OS | Arch (*) | R version | Installed pkgs |
|---|---|---|---|---|
| palomino5 | Windows Server 2022 Datacenter | x64 | R Under development (unstable) (2022-12-25 r83502 ucrt) -- "Unsuffered Consequences" | 4165 |
| Click on any hostname to see more info about the system (e.g. compilers) (*) as reported by 'uname -p', except on Windows and Mac OS X | ||||
|
To the developers/maintainers of the COMPASS package: Make sure to use the following settings in order to reproduce any error or warning you see on this page. |
| Package 385/2158 | Hostname | OS / Arch | INSTALL | BUILD | CHECK | BUILD BIN | ||||||||
| COMPASS 1.37.0 (landing page) Greg Finak
| palomino5 | Windows Server 2022 Datacenter / x64 | OK | OK | OK | OK | ||||||||
| Package: COMPASS |
| Version: 1.37.0 |
| Command: F:\biocbuild\bbs-3.17-bioc\R\bin\R.exe CMD INSTALL COMPASS |
| StartedAt: 2022-12-28 16:00:58 -0500 (Wed, 28 Dec 2022) |
| EndedAt: 2022-12-28 16:02:04 -0500 (Wed, 28 Dec 2022) |
| EllapsedTime: 66.0 seconds |
| RetCode: 0 |
| Status: OK |
##############################################################################
##############################################################################
###
### Running command:
###
### F:\biocbuild\bbs-3.17-bioc\R\bin\R.exe CMD INSTALL COMPASS
###
##############################################################################
##############################################################################
* installing to library 'F:/biocbuild/bbs-3.17-bioc/R/library'
* installing *source* package 'COMPASS' ...
** using staged installation
** libs
using C compiler: 'gcc.exe (GCC) 12.2.0'
using C++ compiler: 'G__~1.EXE (GCC) 12.2.0'
gcc -I"F:/biocbuild/bbs-3.17-bioc/R/include" -DNDEBUG -I'F:/biocbuild/bbs-3.17-bioc/R/library/Rcpp/include' -I"c:/rtools42/x86_64-w64-mingw32.static.posix/include" -O2 -Wall -std=gnu99 -mfpmath=sse -msse2 -mstackrealign -c COMPASS_init.c -o COMPASS_init.o
g++ -std=gnu++11 -I"F:/biocbuild/bbs-3.17-bioc/R/include" -DNDEBUG -I'F:/biocbuild/bbs-3.17-bioc/R/library/Rcpp/include' -I"c:/rtools42/x86_64-w64-mingw32.static.posix/include" -O2 -Wall -mfpmath=sse -msse2 -mstackrealign -c CellCounts.cpp -o CellCounts.o
g++ -std=gnu++11 -I"F:/biocbuild/bbs-3.17-bioc/R/include" -DNDEBUG -I'F:/biocbuild/bbs-3.17-bioc/R/library/Rcpp/include' -I"c:/rtools42/x86_64-w64-mingw32.static.posix/include" -O2 -Wall -mfpmath=sse -msse2 -mstackrealign -c CellCounts_character.cpp -o CellCounts_character.o
g++ -std=gnu++11 -I"F:/biocbuild/bbs-3.17-bioc/R/include" -DNDEBUG -I'F:/biocbuild/bbs-3.17-bioc/R/library/Rcpp/include' -I"c:/rtools42/x86_64-w64-mingw32.static.posix/include" -O2 -Wall -mfpmath=sse -msse2 -mstackrealign -c RcppExports.cpp -o RcppExports.o
gcc -I"F:/biocbuild/bbs-3.17-bioc/R/include" -DNDEBUG -I'F:/biocbuild/bbs-3.17-bioc/R/library/Rcpp/include' -I"c:/rtools42/x86_64-w64-mingw32.static.posix/include" -O2 -Wall -std=gnu99 -mfpmath=sse -msse2 -mstackrealign -c digamma.c -o digamma.o
gcc -I"F:/biocbuild/bbs-3.17-bioc/R/include" -DNDEBUG -I'F:/biocbuild/bbs-3.17-bioc/R/library/Rcpp/include' -I"c:/rtools42/x86_64-w64-mingw32.static.posix/include" -O2 -Wall -std=gnu99 -mfpmath=sse -msse2 -mstackrealign -c mat2vec.c -o mat2vec.o
gcc -I"F:/biocbuild/bbs-3.17-bioc/R/include" -DNDEBUG -I'F:/biocbuild/bbs-3.17-bioc/R/library/Rcpp/include' -I"c:/rtools42/x86_64-w64-mingw32.static.posix/include" -O2 -Wall -std=gnu99 -mfpmath=sse -msse2 -mstackrealign -c melt_dataframe.c -o melt_dataframe.o
gcc -I"F:/biocbuild/bbs-3.17-bioc/R/include" -DNDEBUG -I'F:/biocbuild/bbs-3.17-bioc/R/library/Rcpp/include' -I"c:/rtools42/x86_64-w64-mingw32.static.posix/include" -O2 -Wall -std=gnu99 -mfpmath=sse -msse2 -mstackrealign -c melt_matrix.c -o melt_matrix.o
g++ -std=gnu++11 -I"F:/biocbuild/bbs-3.17-bioc/R/include" -DNDEBUG -I'F:/biocbuild/bbs-3.17-bioc/R/library/Rcpp/include' -I"c:/rtools42/x86_64-w64-mingw32.static.posix/include" -O2 -Wall -mfpmath=sse -msse2 -mstackrealign -c samplePuPs.cpp -o samplePuPs.o
gcc -I"F:/biocbuild/bbs-3.17-bioc/R/include" -DNDEBUG -I'F:/biocbuild/bbs-3.17-bioc/R/library/Rcpp/include' -I"c:/rtools42/x86_64-w64-mingw32.static.posix/include" -O2 -Wall -std=gnu99 -mfpmath=sse -msse2 -mstackrealign -c transpose_list.c -o transpose_list.o
g++ -std=gnu++11 -I"F:/biocbuild/bbs-3.17-bioc/R/include" -DNDEBUG -I'F:/biocbuild/bbs-3.17-bioc/R/library/Rcpp/include' -I"c:/rtools42/x86_64-w64-mingw32.static.posix/include" -O2 -Wall -mfpmath=sse -msse2 -mstackrealign -c updatealphas_Exp.cpp -o updatealphas_Exp.o
g++ -std=gnu++11 -I"F:/biocbuild/bbs-3.17-bioc/R/include" -DNDEBUG -I'F:/biocbuild/bbs-3.17-bioc/R/library/Rcpp/include' -I"c:/rtools42/x86_64-w64-mingw32.static.posix/include" -O2 -Wall -mfpmath=sse -msse2 -mstackrealign -c updatealphas_Exp_MH.cpp -o updatealphas_Exp_MH.o
updatealphas_Exp_MH.cpp: In function 'SEXPREC* updatealphas_Exp_MH(SEXP, SEXP, SEXP, SEXP, SEXP, SEXP, SEXP, SEXP, SEXP)':
updatealphas_Exp_MH.cpp:26:10: warning: variable 'psik' set but not used [-Wunused-but-set-variable]
26 | double psik = 0.;
| ^~~~
updatealphas_Exp_MH.cpp:35:7: warning: variable 'flagkk' set but not used [-Wunused-but-set-variable]
35 | int flagkk = 0;
| ^~~~~~
g++ -std=gnu++11 -I"F:/biocbuild/bbs-3.17-bioc/R/include" -DNDEBUG -I'F:/biocbuild/bbs-3.17-bioc/R/library/Rcpp/include' -I"c:/rtools42/x86_64-w64-mingw32.static.posix/include" -O2 -Wall -mfpmath=sse -msse2 -mstackrealign -c updatealphau.cpp -o updatealphau.o
g++ -std=gnu++11 -I"F:/biocbuild/bbs-3.17-bioc/R/include" -DNDEBUG -I'F:/biocbuild/bbs-3.17-bioc/R/library/Rcpp/include' -I"c:/rtools42/x86_64-w64-mingw32.static.posix/include" -O2 -Wall -mfpmath=sse -msse2 -mstackrealign -c updatealphau_noPu_Exp.cpp -o updatealphau_noPu_Exp.o
g++ -std=gnu++11 -I"F:/biocbuild/bbs-3.17-bioc/R/include" -DNDEBUG -I'F:/biocbuild/bbs-3.17-bioc/R/library/Rcpp/include' -I"c:/rtools42/x86_64-w64-mingw32.static.posix/include" -O2 -Wall -mfpmath=sse -msse2 -mstackrealign -c updatealphau_noPu_Exp_MH.cpp -o updatealphau_noPu_Exp_MH.o
g++ -std=gnu++11 -I"F:/biocbuild/bbs-3.17-bioc/R/include" -DNDEBUG -I'F:/biocbuild/bbs-3.17-bioc/R/library/Rcpp/include' -I"c:/rtools42/x86_64-w64-mingw32.static.posix/include" -O2 -Wall -mfpmath=sse -msse2 -mstackrealign -c updatebeta_RW.cpp -o updatebeta_RW.o
g++ -std=gnu++11 -I"F:/biocbuild/bbs-3.17-bioc/R/include" -DNDEBUG -I'F:/biocbuild/bbs-3.17-bioc/R/library/Rcpp/include' -I"c:/rtools42/x86_64-w64-mingw32.static.posix/include" -O2 -Wall -mfpmath=sse -msse2 -mstackrealign -c updategammak_noPu.cpp -o updategammak_noPu.o
gcc -I"F:/biocbuild/bbs-3.17-bioc/R/include" -DNDEBUG -I'F:/biocbuild/bbs-3.17-bioc/R/library/Rcpp/include' -I"c:/rtools42/x86_64-w64-mingw32.static.posix/include" -O2 -Wall -std=gnu99 -mfpmath=sse -msse2 -mstackrealign -c utils.c -o utils.o
g++ -std=gnu++11 -shared -s -static-libgcc -o COMPASS.dll tmp.def COMPASS_init.o CellCounts.o CellCounts_character.o RcppExports.o digamma.o mat2vec.o melt_dataframe.o melt_matrix.o samplePuPs.o transpose_list.o updatealphas_Exp.o updatealphas_Exp_MH.o updatealphau.o updatealphau_noPu_Exp.o updatealphau_noPu_Exp_MH.o updatebeta_RW.o updategammak_noPu.o utils.o -LF:/biocbuild/bbs-3.17-bioc/R/bin/x64 -lRlapack -LF:/biocbuild/bbs-3.17-bioc/R/bin/x64 -lRblas -lgfortran -lm -lquadmath -Lc:/rtools42/x86_64-w64-mingw32.static.posix/lib/x64 -Lc:/rtools42/x86_64-w64-mingw32.static.posix/lib -LF:/biocbuild/bbs-3.17-bioc/R/bin/x64 -lR
installing to F:/biocbuild/bbs-3.17-bioc/R/library/00LOCK-COMPASS/00new/COMPASS/libs/x64
** R
** data
*** moving datasets to lazyload DB
** inst
** byte-compile and prepare package for lazy loading
** help
*** installing help indices
** building package indices
** installing vignettes
** testing if installed package can be loaded from temporary location
** testing if installed package can be loaded from final location
** testing if installed package keeps a record of temporary installation path
* DONE (COMPASS)