| Back to Build/check report for BioC 3.17 | 
 | 
This page was generated on 2023-01-02 09:00:22 -0500 (Mon, 02 Jan 2023).
| Hostname | OS | Arch (*) | R version | Installed pkgs | 
|---|---|---|---|---|
| palomino5 | Windows Server 2022 Datacenter | x64 | R Under development (unstable) (2022-12-25 r83502 ucrt) -- "Unsuffered Consequences" | 4165 | 
| Click on any hostname to see more info about the system (e.g. compilers) (*) as reported by 'uname -p', except on Windows and Mac OS X | ||||
| To the developers/maintainers of the CGEN package: Make sure to use the following settings in order to reproduce any error or warning you see on this page. | 
| Package 290/2158 | Hostname | OS / Arch | INSTALL | BUILD | CHECK | BUILD BIN | ||||||||
| CGEN 3.35.0  (landing page) Justin Lee 
 | palomino5 | Windows Server 2022 Datacenter / x64 | OK | OK | OK | OK | ||||||||
| Package: CGEN | 
| Version: 3.35.0 | 
| Command: rm -rf CGEN.buildbin-libdir && mkdir CGEN.buildbin-libdir && F:\biocbuild\bbs-3.17-bioc\R\bin\R.exe CMD INSTALL --build --library=CGEN.buildbin-libdir CGEN_3.35.0.tar.gz | 
| StartedAt: 2022-12-29 04:56:49 -0500 (Thu, 29 Dec 2022) | 
| EndedAt: 2022-12-29 04:57:22 -0500 (Thu, 29 Dec 2022) | 
| EllapsedTime: 33.6 seconds | 
| RetCode: 0 | 
| Status: OK | 
| PackageFile: CGEN_3.35.0.zip | 
| PackageFileSize: 1.759 MiB | 
##############################################################################
##############################################################################
###
### Running command:
###
###   rm -rf CGEN.buildbin-libdir && mkdir CGEN.buildbin-libdir && F:\biocbuild\bbs-3.17-bioc\R\bin\R.exe CMD INSTALL --build --library=CGEN.buildbin-libdir CGEN_3.35.0.tar.gz
###
##############################################################################
##############################################################################
* installing *source* package 'CGEN' ...
** using staged installation
** libs
using C compiler: 'gcc.exe (GCC) 12.2.0'
using Fortran compiler: 'GNU Fortran (GCC) 12.2.0'
gcc  -I"F:/biocbuild/bbs-3.17-bioc/R/include" -DNDEBUG     -I"c:/rtools42/x86_64-w64-mingw32.static.posix/include"     -O2 -Wall  -std=gnu99 -mfpmath=sse -msse2 -mstackrealign  -c Additive.c -o Additive.o
Additive.c: In function 'compute_g':
Additive.c:233:19: warning: 'et22' may be used uninitialized [-Wmaybe-uninitialized]
  233 |       x    = et12 + et22 - 1;
      |              ~~~~~^~~~~~
Additive.c:207:51: note: 'et22' was declared here
  207 |   double t11, t12, t21, t22, x, et11, et12, et21, et22, logx;
      |                                                   ^~~~
Additive.c:235:25: warning: 't22' may be used uninitialized [-Wmaybe-uninitialized]
  235 |       *g22 = logx - t12 - t22;
      |              ~~~~~~~~~~~^~~~~
Additive.c:207:25: note: 't22' was declared here
  207 |   double t11, t12, t21, t22, x, et11, et12, et21, et22, logx;
      |                         ^~~
gcc  -I"F:/biocbuild/bbs-3.17-bioc/R/include" -DNDEBUG     -I"c:/rtools42/x86_64-w64-mingw32.static.posix/include"     -O2 -Wall  -std=gnu99 -mfpmath=sse -msse2 -mstackrealign  -c CML.c -o CML.o
gcc  -I"F:/biocbuild/bbs-3.17-bioc/R/include" -DNDEBUG     -I"c:/rtools42/x86_64-w64-mingw32.static.posix/include"     -O2 -Wall  -std=gnu99 -mfpmath=sse -msse2 -mstackrealign  -c ccl.c -o ccl.o
gfortran      -O2  -mfpmath=sse -msse2 -mstackrealign  -c csclust.f -o csclust.o
csclust.f:72:72:
   72 |  10      FLAG(I)=.TRUE.
      |                                                                        1
Warning: Fortran 2018 deleted feature: DO termination statement which is not END DO or CONTINUE with label 10 at (1)
gcc  -I"F:/biocbuild/bbs-3.17-bioc/R/include" -DNDEBUG     -I"c:/rtools42/x86_64-w64-mingw32.static.posix/include"     -O2 -Wall  -std=gnu99 -mfpmath=sse -msse2 -mstackrealign  -c fsclust.c -o fsclust.o
gcc  -I"F:/biocbuild/bbs-3.17-bioc/R/include" -DNDEBUG     -I"c:/rtools42/x86_64-w64-mingw32.static.posix/include"     -O2 -Wall  -std=gnu99 -mfpmath=sse -msse2 -mstackrealign  -c hcl.c -o hcl.o
gcc  -I"F:/biocbuild/bbs-3.17-bioc/R/include" -DNDEBUG     -I"c:/rtools42/x86_64-w64-mingw32.static.posix/include"     -O2 -Wall  -std=gnu99 -mfpmath=sse -msse2 -mstackrealign  -c pmatch.c -o pmatch.o
gcc  -I"F:/biocbuild/bbs-3.17-bioc/R/include" -DNDEBUG     -I"c:/rtools42/x86_64-w64-mingw32.static.posix/include"     -O2 -Wall  -std=gnu99 -mfpmath=sse -msse2 -mstackrealign  -c score.c -o score.o
gcc -shared -s -static-libgcc -o CGEN.dll tmp.def Additive.o CML.o ccl.o csclust.o fsclust.o hcl.o pmatch.o score.o -Lc:/rtools42/x86_64-w64-mingw32.static.posix/lib/x64 -Lc:/rtools42/x86_64-w64-mingw32.static.posix/lib -lgfortran -lm -lquadmath -LF:/biocbuild/bbs-3.17-bioc/R/bin/x64 -lR
installing to F:/biocbuild/bbs-3.17-bioc-rtools43/meat/CGEN.buildbin-libdir/00LOCK-CGEN/00new/CGEN/libs/x64
** R
** data
** inst
** byte-compile and prepare package for lazy loading
** help
*** installing help indices
** building package indices
** installing vignettes
** testing if installed package can be loaded from temporary location
** testing if installed package can be loaded from final location
** testing if installed package keeps a record of temporary installation path
* MD5 sums
packaged installation of 'CGEN' as CGEN_3.35.0.zip
* DONE (CGEN)