| Back to Build/check report for BioC 3.17 |
|
This page was generated on 2023-01-02 09:00:21 -0500 (Mon, 02 Jan 2023).
| Hostname | OS | Arch (*) | R version | Installed pkgs |
|---|---|---|---|---|
| palomino5 | Windows Server 2022 Datacenter | x64 | R Under development (unstable) (2022-12-25 r83502 ucrt) -- "Unsuffered Consequences" | 4165 |
| Click on any hostname to see more info about the system (e.g. compilers) (*) as reported by 'uname -p', except on Windows and Mac OS X | ||||
|
To the developers/maintainers of the BufferedMatrixMethods package: Make sure to use the following settings in order to reproduce any error or warning you see on this page. |
| Package 228/2158 | Hostname | OS / Arch | INSTALL | BUILD | CHECK | BUILD BIN | ||||||||
| BufferedMatrixMethods 1.63.0 (landing page) Ben Bolstad
| palomino5 | Windows Server 2022 Datacenter / x64 | OK | OK | OK | OK | ||||||||
| Package: BufferedMatrixMethods |
| Version: 1.63.0 |
| Command: rm -rf BufferedMatrixMethods.buildbin-libdir && mkdir BufferedMatrixMethods.buildbin-libdir && F:\biocbuild\bbs-3.17-bioc\R\bin\R.exe CMD INSTALL --build --library=BufferedMatrixMethods.buildbin-libdir BufferedMatrixMethods_1.63.0.tar.gz |
| StartedAt: 2022-12-29 04:54:40 -0500 (Thu, 29 Dec 2022) |
| EndedAt: 2022-12-29 04:54:47 -0500 (Thu, 29 Dec 2022) |
| EllapsedTime: 6.2 seconds |
| RetCode: 0 |
| Status: OK |
| PackageFile: BufferedMatrixMethods_1.63.0.zip |
| PackageFileSize: 52.48 KiB |
##############################################################################
##############################################################################
###
### Running command:
###
### rm -rf BufferedMatrixMethods.buildbin-libdir && mkdir BufferedMatrixMethods.buildbin-libdir && F:\biocbuild\bbs-3.17-bioc\R\bin\R.exe CMD INSTALL --build --library=BufferedMatrixMethods.buildbin-libdir BufferedMatrixMethods_1.63.0.tar.gz
###
##############################################################################
##############################################################################
* installing *source* package 'BufferedMatrixMethods' ...
** using staged installation
** libs
using C compiler: 'gcc.exe (GCC) 12.2.0'
gcc -I"F:/biocbuild/bbs-3.17-bioc/R/include" -DNDEBUG -I'F:/biocbuild/bbs-3.17-bioc/R/library/BufferedMatrix/include' -I"c:/rtools42/x86_64-w64-mingw32.static.posix/include" -O2 -Wall -std=gnu99 -mfpmath=sse -msse2 -mstackrealign -c init_package.c -o init_package.o
gcc -I"F:/biocbuild/bbs-3.17-bioc/R/include" -DNDEBUG -I'F:/biocbuild/bbs-3.17-bioc/R/library/BufferedMatrix/include' -I"c:/rtools42/x86_64-w64-mingw32.static.posix/include" -O2 -Wall -std=gnu99 -mfpmath=sse -msse2 -mstackrealign -c preprocess_bm.c -o preprocess_bm.o
preprocess_bm.c: In function 'bm_rma_bg_correct':
preprocess_bm.c:344:7: warning: unused variable 'i' [-Wunused-variable]
344 | int i,j;
| ^
preprocess_bm.c: In function 'R_bm_rma_bg_correct':
preprocess_bm.c:378:7: warning: unused variable 'current_mode' [-Wunused-variable]
378 | int current_mode;
| ^~~~~~~~~~~~
preprocess_bm.c: In function 'R_bm_quantile_normalize':
preprocess_bm.c:593:7: warning: unused variable 'current_mode' [-Wunused-variable]
593 | int current_mode;
| ^~~~~~~~~~~~
preprocess_bm.c: In function 'do_RMA_buffmat':
preprocess_bm.c:924:7: warning: variable 'first_ind' set but not used [-Wunused-but-set-variable]
924 | int first_ind;
| ^~~~~~~~~
preprocess_bm.c: In function 'R_bm_rma_bg_correct_quantile_normalize':
preprocess_bm.c:1151:7: warning: unused variable 'current_mode' [-Wunused-variable]
1151 | int current_mode;
| ^~~~~~~~~~~~
preprocess_bm.c: At top level:
preprocess_bm.c:453:12: warning: 'min' defined but not used [-Wunused-function]
453 | static int min(int x1,int x2){
| ^~~
gcc -shared -s -static-libgcc -o BufferedMatrixMethods.dll tmp.def init_package.o preprocess_bm.o -Lc:/rtools42/x86_64-w64-mingw32.static.posix/lib/x64 -Lc:/rtools42/x86_64-w64-mingw32.static.posix/lib -LF:/biocbuild/bbs-3.17-bioc/R/bin/x64 -lR
installing to F:/biocbuild/bbs-3.17-bioc-rtools43/meat/BufferedMatrixMethods.buildbin-libdir/00LOCK-BufferedMatrixMethods/00new/BufferedMatrixMethods/libs/x64
** R
** byte-compile and prepare package for lazy loading
** help
*** installing help indices
** building package indices
** testing if installed package can be loaded from temporary location
** testing if installed package can be loaded from final location
** testing if installed package keeps a record of temporary installation path
* MD5 sums
packaged installation of 'BufferedMatrixMethods' as BufferedMatrixMethods_1.63.0.zip
* DONE (BufferedMatrixMethods)