| Back to Build/check report for BioC 3.17 |
|
This page was generated on 2023-01-02 09:00:21 -0500 (Mon, 02 Jan 2023).
| Hostname | OS | Arch (*) | R version | Installed pkgs |
|---|---|---|---|---|
| palomino5 | Windows Server 2022 Datacenter | x64 | R Under development (unstable) (2022-12-25 r83502 ucrt) -- "Unsuffered Consequences" | 4165 |
| Click on any hostname to see more info about the system (e.g. compilers) (*) as reported by 'uname -p', except on Windows and Mac OS X | ||||
|
To the developers/maintainers of the BubbleTree package: Make sure to use the following settings in order to reproduce any error or warning you see on this page. |
| Package 226/2158 | Hostname | OS / Arch | INSTALL | BUILD | CHECK | BUILD BIN | ||||||||
| BubbleTree 2.29.0 (landing page) Todd Creasy
| palomino5 | Windows Server 2022 Datacenter / x64 | OK | OK | OK | OK | ||||||||
| Package: BubbleTree |
| Version: 2.29.0 |
| Command: chmod a+r BubbleTree -R && F:\biocbuild\bbs-3.17-bioc\R\bin\R.exe CMD build --keep-empty-dirs --no-resave-data BubbleTree |
| StartedAt: 2022-12-28 17:02:34 -0500 (Wed, 28 Dec 2022) |
| EndedAt: 2022-12-28 17:06:19 -0500 (Wed, 28 Dec 2022) |
| EllapsedTime: 224.5 seconds |
| RetCode: 0 |
| Status: OK |
| PackageFile: BubbleTree_2.29.0.tar.gz |
| PackageFileSize: 26.12 MiB |
############################################################################## ############################################################################## ### ### Running command: ### ### chmod a+r BubbleTree -R && F:\biocbuild\bbs-3.17-bioc\R\bin\R.exe CMD build --keep-empty-dirs --no-resave-data BubbleTree ### ############################################################################## ############################################################################## * checking for file 'BubbleTree/DESCRIPTION' ... OK * preparing 'BubbleTree': * checking DESCRIPTION meta-information ... OK * installing the package to build vignettes * creating vignettes ... OK Warning in person1(given = given[[i]], family = family[[i]], middle = middle[[i]], : It is recommended to use 'given' instead of 'middle'. * checking for LF line-endings in source and make files and shell scripts * checking for empty or unneeded directories * looking to see if a 'data/datalist' file should be added * building 'BubbleTree_2.29.0.tar.gz'