| Back to Build/check report for BioC 3.17 |
|
This page was generated on 2023-01-02 09:00:20 -0500 (Mon, 02 Jan 2023).
| Hostname | OS | Arch (*) | R version | Installed pkgs |
|---|---|---|---|---|
| palomino5 | Windows Server 2022 Datacenter | x64 | R Under development (unstable) (2022-12-25 r83502 ucrt) -- "Unsuffered Consequences" | 4165 |
| Click on any hostname to see more info about the system (e.g. compilers) (*) as reported by 'uname -p', except on Windows and Mac OS X | ||||
|
To the developers/maintainers of the BiocVersion package: Make sure to use the following settings in order to reproduce any error or warning you see on this page. |
| Package 174/2158 | Hostname | OS / Arch | INSTALL | BUILD | CHECK | BUILD BIN | ||||||||
| BiocVersion 3.17.1 (landing page) Bioconductor Package Maintainer
| palomino5 | Windows Server 2022 Datacenter / x64 | OK | OK | OK | OK | ||||||||
| Package: BiocVersion |
| Version: 3.17.1 |
| Command: rm -rf BiocVersion.buildbin-libdir && mkdir BiocVersion.buildbin-libdir && F:\biocbuild\bbs-3.17-bioc\R\bin\R.exe CMD INSTALL --build --library=BiocVersion.buildbin-libdir BiocVersion_3.17.1.tar.gz |
| StartedAt: 2022-12-29 04:53:05 -0500 (Thu, 29 Dec 2022) |
| EndedAt: 2022-12-29 04:53:07 -0500 (Thu, 29 Dec 2022) |
| EllapsedTime: 2.4 seconds |
| RetCode: 0 |
| Status: OK |
| PackageFile: BiocVersion_3.17.1.zip |
| PackageFileSize: 8.127 KiB |
############################################################################## ############################################################################## ### ### Running command: ### ### rm -rf BiocVersion.buildbin-libdir && mkdir BiocVersion.buildbin-libdir && F:\biocbuild\bbs-3.17-bioc\R\bin\R.exe CMD INSTALL --build --library=BiocVersion.buildbin-libdir BiocVersion_3.17.1.tar.gz ### ############################################################################## ############################################################################## * installing *source* package 'BiocVersion' ... ** using staged installation ** help *** installing help indices ** building package indices ** testing if installed package can be loaded from temporary location ** testing if installed package can be loaded from final location ** testing if installed package keeps a record of temporary installation path * MD5 sums packaged installation of 'BiocVersion' as BiocVersion_3.17.1.zip * DONE (BiocVersion)