| Back to Build/check report for BioC 3.17 |
|
This page was generated on 2023-01-02 09:00:20 -0500 (Mon, 02 Jan 2023).
| Hostname | OS | Arch (*) | R version | Installed pkgs |
|---|---|---|---|---|
| palomino5 | Windows Server 2022 Datacenter | x64 | R Under development (unstable) (2022-12-25 r83502 ucrt) -- "Unsuffered Consequences" | 4165 |
| Click on any hostname to see more info about the system (e.g. compilers) (*) as reported by 'uname -p', except on Windows and Mac OS X | ||||
|
To the developers/maintainers of the BiocParallel package: Make sure to use the following settings in order to reproduce any error or warning you see on this page. |
| Package 167/2158 | Hostname | OS / Arch | INSTALL | BUILD | CHECK | BUILD BIN | ||||||||
| BiocParallel 1.33.9 (landing page) Martin Morgan
| palomino5 | Windows Server 2022 Datacenter / x64 | OK | OK | OK | OK | ||||||||
| Package: BiocParallel |
| Version: 1.33.9 |
| Command: F:\biocbuild\bbs-3.17-bioc\R\bin\R.exe CMD INSTALL BiocParallel |
| StartedAt: 2022-12-28 15:42:34 -0500 (Wed, 28 Dec 2022) |
| EndedAt: 2022-12-28 15:43:09 -0500 (Wed, 28 Dec 2022) |
| EllapsedTime: 35.0 seconds |
| RetCode: 0 |
| Status: OK |
##############################################################################
##############################################################################
###
### Running command:
###
### F:\biocbuild\bbs-3.17-bioc\R\bin\R.exe CMD INSTALL BiocParallel
###
##############################################################################
##############################################################################
* installing to library 'F:/biocbuild/bbs-3.17-bioc/R/library'
* installing *source* package 'BiocParallel' ...
** using staged installation
**********************************************
WARNING: this package has a configure script
It probably needs manual configuration
**********************************************
** libs
using C++ compiler: 'G__~1.EXE (GCC) 12.2.0'
using C++11
g++ -std=gnu++11 -I"F:/biocbuild/bbs-3.17-bioc/R/include" -DNDEBUG -I'F:/biocbuild/bbs-3.17-bioc/R/library/BH/include' -I'F:/biocbuild/bbs-3.17-bioc/R/library/cpp11/include' -I"c:/rtools42/x86_64-w64-mingw32.static.posix/include" -O2 -Wall -mfpmath=sse -msse2 -mstackrealign -c cpp11.cpp -o cpp11.o
g++ -std=gnu++11 -I"F:/biocbuild/bbs-3.17-bioc/R/include" -DNDEBUG -I'F:/biocbuild/bbs-3.17-bioc/R/library/BH/include' -I'F:/biocbuild/bbs-3.17-bioc/R/library/cpp11/include' -I"c:/rtools42/x86_64-w64-mingw32.static.posix/include" -O2 -Wall -mfpmath=sse -msse2 -mstackrealign -c ipcmutex.cpp -o ipcmutex.o
In file included from F:/biocbuild/bbs-3.17-bioc/R/library/BH/include/boost/mpl/aux_/na_assert.hpp:23,
from F:/biocbuild/bbs-3.17-bioc/R/library/BH/include/boost/mpl/arg.hpp:25,
from F:/biocbuild/bbs-3.17-bioc/R/library/BH/include/boost/mpl/placeholders.hpp:24,
from F:/biocbuild/bbs-3.17-bioc/R/library/BH/include/boost/mpl/apply.hpp:24,
from F:/biocbuild/bbs-3.17-bioc/R/library/BH/include/boost/mpl/aux_/fold_impl.hpp:19,
from F:/biocbuild/bbs-3.17-bioc/R/library/BH/include/boost/mpl/fold.hpp:20,
from F:/biocbuild/bbs-3.17-bioc/R/library/BH/include/boost/mpl/remove_if.hpp:18,
from F:/biocbuild/bbs-3.17-bioc/R/library/BH/include/boost/mpl/remove.hpp:18,
from F:/biocbuild/bbs-3.17-bioc/R/library/BH/include/boost/function_types/components.hpp:44,
from F:/biocbuild/bbs-3.17-bioc/R/library/BH/include/boost/function_types/is_member_function_pointer.hpp:14,
from F:/biocbuild/bbs-3.17-bioc/R/library/BH/include/boost/tti/detail/dmem_fun.hpp:10,
from F:/biocbuild/bbs-3.17-bioc/R/library/BH/include/boost/tti/has_member_function.hpp:15,
from F:/biocbuild/bbs-3.17-bioc/R/library/BH/include/boost/uuid/random_generator.hpp:20,
from F:/biocbuild/bbs-3.17-bioc/R/library/BH/include/boost/uuid/uuid_generators.hpp:17,
from ipcmutex.cpp:3:
F:/biocbuild/bbs-3.17-bioc/R/library/BH/include/boost/mpl/assert.hpp:194:21: warning: unnecessary parentheses in declaration of 'assert_arg' [-Wparentheses]
194 | failed ************ (Pred::************
| ^~~~~~~~~~~~~~~~~~~
195 | assert_arg( void (*)(Pred), typename assert_arg_pred<Pred>::type )
| ~~~~~~~~~~~~~~~~~~~~~~~~~~~~~~~~~~~~~~~~~~~~~~~~~~~~~~~~~~~~~~~~~~
196 | );
| ~
F:/biocbuild/bbs-3.17-bioc/R/library/BH/include/boost/mpl/assert.hpp:194:21: note: remove parentheses
194 | failed ************ (Pred::************
| ^~~~~~~~~~~~~~~~~~~
| -
195 | assert_arg( void (*)(Pred), typename assert_arg_pred<Pred>::type )
| ~~~~~~~~~~~~~~~~~~~~~~~~~~~~~~~~~~~~~~~~~~~~~~~~~~~~~~~~~~~~~~~~~~
196 | );
| ~
| -
F:/biocbuild/bbs-3.17-bioc/R/library/BH/include/boost/mpl/assert.hpp:199:21: warning: unnecessary parentheses in declaration of 'assert_not_arg' [-Wparentheses]
199 | failed ************ (boost::mpl::not_<Pred>::************
| ^~~~~~~~~~~~~~~~~~~~~~~~~~~~~~~~~~~~~
200 | assert_not_arg( void (*)(Pred), typename assert_arg_pred_not<Pred>::type )
| ~~~~~~~~~~~~~~~~~~~~~~~~~~~~~~~~~~~~~~~~~~~~~~~~~~~~~~~~~~~~~~~~~~~~~~~~~~
201 | );
| ~
F:/biocbuild/bbs-3.17-bioc/R/library/BH/include/boost/mpl/assert.hpp:199:21: note: remove parentheses
199 | failed ************ (boost::mpl::not_<Pred>::************
| ^~~~~~~~~~~~~~~~~~~~~~~~~~~~~~~~~~~~~
| -
200 | assert_not_arg( void (*)(Pred), typename assert_arg_pred_not<Pred>::type )
| ~~~~~~~~~~~~~~~~~~~~~~~~~~~~~~~~~~~~~~~~~~~~~~~~~~~~~~~~~~~~~~~~~~~~~~~~~~
201 | );
| ~
| -
g++ -shared -s -static-libgcc -o BiocParallel.dll tmp.def cpp11.o ipcmutex.o -lbcrypt -Lc:/rtools42/x86_64-w64-mingw32.static.posix/lib/x64 -Lc:/rtools42/x86_64-w64-mingw32.static.posix/lib -LF:/biocbuild/bbs-3.17-bioc/R/bin/x64 -lR
installing to F:/biocbuild/bbs-3.17-bioc/R/library/00LOCK-BiocParallel/00new/BiocParallel/libs/x64
** R
** inst
** byte-compile and prepare package for lazy loading
** help
*** installing help indices
** building package indices
** installing vignettes
** testing if installed package can be loaded from temporary location
** testing if installed package can be loaded from final location
** testing if installed package keeps a record of temporary installation path
* DONE (BiocParallel)