| Back to Build/check report for BioC 3.17 | 
 | 
This page was generated on 2023-01-02 09:00:21 -0500 (Mon, 02 Jan 2023).
| Hostname | OS | Arch (*) | R version | Installed pkgs | 
|---|---|---|---|---|
| palomino5 | Windows Server 2022 Datacenter | x64 | R Under development (unstable) (2022-12-25 r83502 ucrt) -- "Unsuffered Consequences" | 4165 | 
| Click on any hostname to see more info about the system (e.g. compilers) (*) as reported by 'uname -p', except on Windows and Mac OS X | ||||
| To the developers/maintainers of the BioTIP package: Make sure to use the following settings in order to reproduce any error or warning you see on this page. | 
| Package 200/2158 | Hostname | OS / Arch | INSTALL | BUILD | CHECK | BUILD BIN | ||||||||
| BioTIP 1.13.0  (landing page) Yuxi (Jennifer) Sun 
 | palomino5 | Windows Server 2022 Datacenter / x64 | OK | OK | WARNINGS | OK | ||||||||
| Package: BioTIP | 
| Version: 1.13.0 | 
| Command: chmod a+r BioTIP -R && F:\biocbuild\bbs-3.17-bioc\R\bin\R.exe CMD build --keep-empty-dirs --no-resave-data BioTIP | 
| StartedAt: 2022-12-28 16:56:50 -0500 (Wed, 28 Dec 2022) | 
| EndedAt: 2022-12-28 16:59:16 -0500 (Wed, 28 Dec 2022) | 
| EllapsedTime: 145.7 seconds | 
| RetCode: 0 | 
| Status: OK | 
| PackageFile: BioTIP_1.13.0.tar.gz | 
| PackageFileSize: 8.092 MiB | 
############################################################################## ############################################################################## ### ### Running command: ### ### chmod a+r BioTIP -R && F:\biocbuild\bbs-3.17-bioc\R\bin\R.exe CMD build --keep-empty-dirs --no-resave-data BioTIP ### ############################################################################## ############################################################################## * checking for file 'BioTIP/DESCRIPTION' ... OK * preparing 'BioTIP': * checking DESCRIPTION meta-information ... OK * installing the package to build vignettes * creating vignettes ... OK * checking for LF line-endings in source and make files and shell scripts * checking for empty or unneeded directories * building 'BioTIP_1.13.0.tar.gz'