| Back to Build/check report for BioC 3.17 |
|
This page was generated on 2023-01-02 09:00:21 -0500 (Mon, 02 Jan 2023).
| Hostname | OS | Arch (*) | R version | Installed pkgs |
|---|---|---|---|---|
| palomino5 | Windows Server 2022 Datacenter | x64 | R Under development (unstable) (2022-12-25 r83502 ucrt) -- "Unsuffered Consequences" | 4165 |
| Click on any hostname to see more info about the system (e.g. compilers) (*) as reported by 'uname -p', except on Windows and Mac OS X | ||||
|
To the developers/maintainers of the BioNAR package: Make sure to use the following settings in order to reproduce any error or warning you see on this page. |
| Package 193/2158 | Hostname | OS / Arch | INSTALL | BUILD | CHECK | BUILD BIN | ||||||||
| BioNAR 1.1.0 (landing page) Anatoly Sorokin
| palomino5 | Windows Server 2022 Datacenter / x64 | OK | OK | OK | OK | ||||||||
| Package: BioNAR |
| Version: 1.1.0 |
| Command: rm -rf BioNAR.buildbin-libdir && mkdir BioNAR.buildbin-libdir && F:\biocbuild\bbs-3.17-bioc\R\bin\R.exe CMD INSTALL --build --library=BioNAR.buildbin-libdir BioNAR_1.1.0.tar.gz |
| StartedAt: 2022-12-29 04:53:32 -0500 (Thu, 29 Dec 2022) |
| EndedAt: 2022-12-29 04:54:15 -0500 (Thu, 29 Dec 2022) |
| EllapsedTime: 43.5 seconds |
| RetCode: 0 |
| Status: OK |
| PackageFile: BioNAR_1.1.0.zip |
| PackageFileSize: 2.028 MiB |
############################################################################## ############################################################################## ### ### Running command: ### ### rm -rf BioNAR.buildbin-libdir && mkdir BioNAR.buildbin-libdir && F:\biocbuild\bbs-3.17-bioc\R\bin\R.exe CMD INSTALL --build --library=BioNAR.buildbin-libdir BioNAR_1.1.0.tar.gz ### ############################################################################## ############################################################################## * installing *source* package 'BioNAR' ... ** using staged installation ** R ** inst ** byte-compile and prepare package for lazy loading Using 'localHub=TRUE' If offline, please also see BiocManager vignette section on offline use snapshotDate(): 2022-12-16 loading from cache ** help *** installing help indices ** building package indices ** installing vignettes ** testing if installed package can be loaded from temporary location Using 'localHub=TRUE' If offline, please also see BiocManager vignette section on offline use snapshotDate(): 2022-12-16 loading from cache ** testing if installed package can be loaded from final location Using 'localHub=TRUE' If offline, please also see BiocManager vignette section on offline use snapshotDate(): 2022-12-16 loading from cache ** testing if installed package keeps a record of temporary installation path * MD5 sums packaged installation of 'BioNAR' as BioNAR_1.1.0.zip * DONE (BioNAR)