| Back to Build/check report for BioC 3.17 |
|
This page was generated on 2023-01-02 09:00:20 -0500 (Mon, 02 Jan 2023).
| Hostname | OS | Arch (*) | R version | Installed pkgs |
|---|---|---|---|---|
| palomino5 | Windows Server 2022 Datacenter | x64 | R Under development (unstable) (2022-12-25 r83502 ucrt) -- "Unsuffered Consequences" | 4165 |
| Click on any hostname to see more info about the system (e.g. compilers) (*) as reported by 'uname -p', except on Windows and Mac OS X | ||||
|
To the developers/maintainers of the BioCor package: Make sure to use the following settings in order to reproduce any error or warning you see on this page. |
| Package 166/2158 | Hostname | OS / Arch | INSTALL | BUILD | CHECK | BUILD BIN | ||||||||
| BioCor 1.23.0 (landing page) LluĂs Revilla Sancho
| palomino5 | Windows Server 2022 Datacenter / x64 | OK | OK | OK | OK | ||||||||
| Package: BioCor |
| Version: 1.23.0 |
| Command: F:\biocbuild\bbs-3.17-bioc\R\bin\R.exe CMD INSTALL BioCor |
| StartedAt: 2022-12-28 15:48:17 -0500 (Wed, 28 Dec 2022) |
| EndedAt: 2022-12-28 15:48:41 -0500 (Wed, 28 Dec 2022) |
| EllapsedTime: 24.1 seconds |
| RetCode: 0 |
| Status: OK |
############################################################################## ############################################################################## ### ### Running command: ### ### F:\biocbuild\bbs-3.17-bioc\R\bin\R.exe CMD INSTALL BioCor ### ############################################################################## ############################################################################## * installing to library 'F:/biocbuild/bbs-3.17-bioc/R/library' * installing *source* package 'BioCor' ... ** using staged installation ** R ** byte-compile and prepare package for lazy loading Creating a generic function from function 'clusterGeneSim' in package 'BioCor' Creating a generic function from function 'clusterSim' in package 'BioCor' Creating a generic function from function 'geneSim' in package 'BioCor' Creating a generic function from function 'mclusterGeneSim' in package 'BioCor' Creating a generic function from function 'mclusterSim' in package 'BioCor' Creating a generic function from function 'mgeneSim' in package 'BioCor' Creating a generic function from function 'mpathSim' in package 'BioCor' Creating a generic function from function 'pathSim' in package 'BioCor' ** help *** installing help indices *** copying figures ** building package indices ** installing vignettes ** testing if installed package can be loaded from temporary location ** testing if installed package can be loaded from final location ** testing if installed package keeps a record of temporary installation path * DONE (BioCor)