| Back to Build/check report for BioC 3.17 |
|
This page was generated on 2023-01-02 09:00:21 -0500 (Mon, 02 Jan 2023).
| Hostname | OS | Arch (*) | R version | Installed pkgs |
|---|---|---|---|---|
| palomino5 | Windows Server 2022 Datacenter | x64 | R Under development (unstable) (2022-12-25 r83502 ucrt) -- "Unsuffered Consequences" | 4165 |
| Click on any hostname to see more info about the system (e.g. compilers) (*) as reported by 'uname -p', except on Windows and Mac OS X | ||||
|
To the developers/maintainers of the BiRewire package: Make sure to use the following settings in order to reproduce any error or warning you see on this page. |
| Package 203/2158 | Hostname | OS / Arch | INSTALL | BUILD | CHECK | BUILD BIN | ||||||||
| BiRewire 3.31.0 (landing page) Andrea Gobbi
| palomino5 | Windows Server 2022 Datacenter / x64 | OK | OK | WARNINGS | OK | ||||||||
| Package: BiRewire |
| Version: 3.31.0 |
| Command: rm -rf BiRewire.buildbin-libdir && mkdir BiRewire.buildbin-libdir && F:\biocbuild\bbs-3.17-bioc\R\bin\R.exe CMD INSTALL --build --library=BiRewire.buildbin-libdir BiRewire_3.31.0.tar.gz |
| StartedAt: 2022-12-29 04:53:49 -0500 (Thu, 29 Dec 2022) |
| EndedAt: 2022-12-29 04:54:03 -0500 (Thu, 29 Dec 2022) |
| EllapsedTime: 14.5 seconds |
| RetCode: 0 |
| Status: OK |
| PackageFile: BiRewire_3.31.0.zip |
| PackageFileSize: 623.9 KiB |
##############################################################################
##############################################################################
###
### Running command:
###
### rm -rf BiRewire.buildbin-libdir && mkdir BiRewire.buildbin-libdir && F:\biocbuild\bbs-3.17-bioc\R\bin\R.exe CMD INSTALL --build --library=BiRewire.buildbin-libdir BiRewire_3.31.0.tar.gz
###
##############################################################################
##############################################################################
* installing *source* package 'BiRewire' ...
** using staged installation
** libs
using C compiler: 'gcc.exe (GCC) 12.2.0'
gcc -I"F:/biocbuild/bbs-3.17-bioc/R/include" -DNDEBUG -I"c:/rtools42/x86_64-w64-mingw32.static.posix/include" -O2 -Wall -std=gnu99 -mfpmath=sse -msse2 -mstackrealign -c BiRewire.c -o BiRewire.o
BiRewire.c: In function 'rewire_sparse':
BiRewire.c:1066:30: warning: suggest parentheses around comparison in operand of '&' [-Wparentheses]
1066 | if( a!=c && b!=d & a!=d && c!=b && (( ad==1 && cb==1 )|| (ac==1 && bd==1) )) {
| ~^~~
BiRewire.c: In function 'rewire_sparse_ex':
BiRewire.c:1149:30: warning: suggest parentheses around comparison in operand of '&' [-Wparentheses]
1149 | if( a!=c && b!=d & a!=d && c!=b && (( ad==1 && cb==1 )|| (ac==1 && bd==1) )) {
| ~^~~
gcc -I"F:/biocbuild/bbs-3.17-bioc/R/include" -DNDEBUG -I"c:/rtools42/x86_64-w64-mingw32.static.posix/include" -O2 -Wall -std=gnu99 -mfpmath=sse -msse2 -mstackrealign -c interface.c -o interface.o
gcc -shared -s -static-libgcc -o BiRewire.dll tmp.def BiRewire.o interface.o -Lc:/rtools42/x86_64-w64-mingw32.static.posix/lib/x64 -Lc:/rtools42/x86_64-w64-mingw32.static.posix/lib -LF:/biocbuild/bbs-3.17-bioc/R/bin/x64 -lR
installing to F:/biocbuild/bbs-3.17-bioc-rtools43/meat/BiRewire.buildbin-libdir/00LOCK-BiRewire/00new/BiRewire/libs/x64
** R
** data
** inst
** byte-compile and prepare package for lazy loading
** help
*** installing help indices
** building package indices
** installing vignettes
** testing if installed package can be loaded from temporary location
** testing if installed package can be loaded from final location
** testing if installed package keeps a record of temporary installation path
* MD5 sums
packaged installation of 'BiRewire' as BiRewire_3.31.0.zip
* DONE (BiRewire)