| Back to Build/check report for BioC 3.17 |
|
This page was generated on 2023-01-02 09:00:19 -0500 (Mon, 02 Jan 2023).
| Hostname | OS | Arch (*) | R version | Installed pkgs |
|---|---|---|---|---|
| palomino5 | Windows Server 2022 Datacenter | x64 | R Under development (unstable) (2022-12-25 r83502 ucrt) -- "Unsuffered Consequences" | 4165 |
| Click on any hostname to see more info about the system (e.g. compilers) (*) as reported by 'uname -p', except on Windows and Mac OS X | ||||
|
To the developers/maintainers of the BasicSTARRseq package: Make sure to use the following settings in order to reproduce any error or warning you see on this page. |
| Package 118/2158 | Hostname | OS / Arch | INSTALL | BUILD | CHECK | BUILD BIN | ||||||||
| BasicSTARRseq 1.27.0 (landing page) Annika Buerger
| palomino5 | Windows Server 2022 Datacenter / x64 | OK | OK | OK | OK | ||||||||
| Package: BasicSTARRseq |
| Version: 1.27.0 |
| Command: F:\biocbuild\bbs-3.17-bioc\R\bin\R.exe CMD check --no-multiarch --install=check:BasicSTARRseq.install-out.txt --library=F:\biocbuild\bbs-3.17-bioc\R\library --no-vignettes --timings BasicSTARRseq_1.27.0.tar.gz |
| StartedAt: 2022-12-28 21:45:50 -0500 (Wed, 28 Dec 2022) |
| EndedAt: 2022-12-28 21:48:02 -0500 (Wed, 28 Dec 2022) |
| EllapsedTime: 132.2 seconds |
| RetCode: 0 |
| Status: OK |
| CheckDir: BasicSTARRseq.Rcheck |
| Warnings: 0 |
##############################################################################
##############################################################################
###
### Running command:
###
### F:\biocbuild\bbs-3.17-bioc\R\bin\R.exe CMD check --no-multiarch --install=check:BasicSTARRseq.install-out.txt --library=F:\biocbuild\bbs-3.17-bioc\R\library --no-vignettes --timings BasicSTARRseq_1.27.0.tar.gz
###
##############################################################################
##############################################################################
* using log directory 'F:/biocbuild/bbs-3.17-bioc-rtools43/meat/BasicSTARRseq.Rcheck'
* using R Under development (unstable) (2022-12-25 r83502 ucrt)
* using platform: x86_64-w64-mingw32 (64-bit)
* R was compiled by
gcc.exe (GCC) 10.4.0
GNU Fortran (GCC) 10.4.0
* running under: Windows Server x64 (build 20348)
* using session charset: UTF-8
* using option '--no-vignettes'
* checking for file 'BasicSTARRseq/DESCRIPTION' ... OK
* checking extension type ... Package
* this is package 'BasicSTARRseq' version '1.27.0'
* checking package namespace information ... OK
* checking package dependencies ... OK
* checking if this is a source package ... OK
* checking if there is a namespace ... OK
* checking for hidden files and directories ... OK
* checking for portable file names ... OK
* checking whether package 'BasicSTARRseq' can be installed ... OK
* checking installed package size ... OK
* checking package directory ... OK
* checking 'build' directory ... OK
* checking DESCRIPTION meta-information ... OK
* checking top-level files ... OK
* checking for left-over files ... OK
* checking index information ... OK
* checking package subdirectories ... OK
* checking R files for non-ASCII characters ... OK
* checking R files for syntax errors ... OK
* checking whether the package can be loaded ... OK
* checking whether the package can be loaded with stated dependencies ... OK
* checking whether the package can be unloaded cleanly ... OK
* checking whether the namespace can be loaded with stated dependencies ... OK
* checking whether the namespace can be unloaded cleanly ... OK
* checking dependencies in R code ... OK
* checking S3 generic/method consistency ... OK
* checking replacement functions ... OK
* checking foreign function calls ... OK
* checking R code for possible problems ... NOTE
getPeaks,STARRseqData : <anonymous>: no visible global function
definition for 'pbinom'
Undefined global functions or variables:
pbinom
Consider adding
importFrom("stats", "pbinom")
to your NAMESPACE file.
* checking Rd files ... OK
* checking Rd metadata ... OK
* checking Rd cross-references ... OK
* checking for missing documentation entries ... OK
* checking for code/documentation mismatches ... OK
* checking Rd \usage sections ... OK
* checking Rd contents ... OK
* checking for unstated dependencies in examples ... OK
* checking sizes of PDF files under 'inst/doc' ... OK
* checking files in 'vignettes' ... OK
* checking examples ... OK
* checking for unstated dependencies in vignettes ... OK
* checking package vignettes in 'inst/doc' ... OK
* checking running R code from vignettes ... SKIPPED
* checking re-building of vignette outputs ... SKIPPED
* checking PDF version of manual ... OK
* DONE
Status: 1 NOTE
See
'F:/biocbuild/bbs-3.17-bioc-rtools43/meat/BasicSTARRseq.Rcheck/00check.log'
for details.
BasicSTARRseq.Rcheck/00install.out
############################################################################## ############################################################################## ### ### Running command: ### ### F:\biocbuild\bbs-3.17-bioc\R\bin\R.exe CMD INSTALL BasicSTARRseq ### ############################################################################## ############################################################################## * installing to library 'F:/biocbuild/bbs-3.17-bioc/R/library' * installing *source* package 'BasicSTARRseq' ... ** using staged installation ** R ** inst ** byte-compile and prepare package for lazy loading Creating a new generic function for 'sample' in package 'BasicSTARRseq' ** help *** installing help indices ** building package indices ** installing vignettes ** testing if installed package can be loaded from temporary location ** testing if installed package can be loaded from final location ** testing if installed package keeps a record of temporary installation path * DONE (BasicSTARRseq)
BasicSTARRseq.Rcheck/BasicSTARRseq-Ex.timings
| name | user | system | elapsed | |
| STARRseqData-class | 0.35 | 0.04 | 0.83 | |
| getPeaks | 0.82 | 0.05 | 0.87 | |