| Back to Build/check report for BioC 3.17 | 
  | 
This page was generated on 2023-01-02 09:00:19 -0500 (Mon, 02 Jan 2023).
| Hostname | OS | Arch (*) | R version | Installed pkgs | 
|---|---|---|---|---|
| palomino5 | Windows Server 2022 Datacenter | x64 | R Under development (unstable) (2022-12-25 r83502 ucrt) -- "Unsuffered Consequences" | 4165 | 
| Click on any hostname to see more info about the system (e.g. compilers) (*) as reported by 'uname -p', except on Windows and Mac OS X | ||||
| 
To the developers/maintainers of the ARRmNormalization package: Make sure to use the following settings in order to reproduce any error or warning you see on this page.  | 
| Package 79/2158 | Hostname | OS / Arch | INSTALL | BUILD | CHECK | BUILD BIN | ||||||||
| ARRmNormalization 1.39.0  (landing page) Jean-Philippe Fortin 
  | palomino5 | Windows Server 2022 Datacenter / x64 | OK | OK | OK | OK | ||||||||
| Package: ARRmNormalization | 
| Version: 1.39.0 | 
| Command: chmod a+r ARRmNormalization -R && F:\biocbuild\bbs-3.17-bioc\R\bin\R.exe CMD build --keep-empty-dirs --no-resave-data ARRmNormalization | 
| StartedAt: 2022-12-28 16:39:28 -0500 (Wed, 28 Dec 2022) | 
| EndedAt: 2022-12-28 16:39:55 -0500 (Wed, 28 Dec 2022) | 
| EllapsedTime: 27.6 seconds | 
| RetCode: 0 | 
| Status: OK | 
| PackageFile: ARRmNormalization_1.39.0.tar.gz | 
| PackageFileSize: 1007 KiB | 
############################################################################## ############################################################################## ### ### Running command: ### ### chmod a+r ARRmNormalization -R && F:\biocbuild\bbs-3.17-bioc\R\bin\R.exe CMD build --keep-empty-dirs --no-resave-data ARRmNormalization ### ############################################################################## ############################################################################## * checking for file 'ARRmNormalization/DESCRIPTION' ... OK * preparing 'ARRmNormalization': * checking DESCRIPTION meta-information ... OK * installing the package to build vignettes * creating vignettes ... OK * checking for LF line-endings in source and make files and shell scripts * checking for empty or unneeded directories * looking to see if a 'data/datalist' file should be added * building 'ARRmNormalization_1.39.0.tar.gz'