| Back to Mac ARM64 build report for BioC 3.17 |
|
This page was generated on 2023-10-20 09:38:11 -0400 (Fri, 20 Oct 2023).
| Hostname | OS | Arch (*) | R version | Installed pkgs |
|---|---|---|---|---|
| kjohnson2 | macOS 12.6.1 Monterey | arm64 | 4.3.1 (2023-06-16) -- "Beagle Scouts" | 4347 |
| Click on any hostname to see more info about the system (e.g. compilers) (*) as reported by 'uname -p', except on Windows and Mac OS X | ||||
| Package 1838/2230 | Hostname | OS / Arch | INSTALL | BUILD | CHECK | BUILD BIN | ||||||||
| scFeatures 1.0.0 (landing page) Yue Cao
| kjohnson2 | macOS 12.6.1 Monterey / arm64 | OK | OK | OK | OK | ||||||||
|
To the developers/maintainers of the scFeatures package: - Use the following Renviron settings to reproduce errors and warnings. - If 'R CMD check' started to fail recently on the Linux builder(s) over a missing dependency, add the missing dependency to 'Suggests:' in your DESCRIPTION file. See Renviron.bioc for more information. |
| Package: scFeatures |
| Version: 1.0.0 |
| Command: /Library/Frameworks/R.framework/Resources/bin/R CMD check --install=check:scFeatures.install-out.txt --library=/Library/Frameworks/R.framework/Resources/library --no-vignettes --timings scFeatures_1.0.0.tar.gz |
| StartedAt: 2023-10-18 22:20:08 -0400 (Wed, 18 Oct 2023) |
| EndedAt: 2023-10-18 22:37:09 -0400 (Wed, 18 Oct 2023) |
| EllapsedTime: 1020.5 seconds |
| RetCode: 0 |
| Status: OK |
| CheckDir: scFeatures.Rcheck |
| Warnings: 0 |
##############################################################################
##############################################################################
###
### Running command:
###
### /Library/Frameworks/R.framework/Resources/bin/R CMD check --install=check:scFeatures.install-out.txt --library=/Library/Frameworks/R.framework/Resources/library --no-vignettes --timings scFeatures_1.0.0.tar.gz
###
##############################################################################
##############################################################################
* using log directory ‘/Users/biocbuild/bbs-3.17-bioc-mac-arm64/meat/scFeatures.Rcheck’
* using R version 4.3.1 (2023-06-16)
* using platform: aarch64-apple-darwin20 (64-bit)
* R was compiled by
Apple clang version 14.0.0 (clang-1400.0.29.202)
GNU Fortran (GCC) 12.2.0
* running under: macOS Monterey 12.6.7
* using session charset: UTF-8
* using option ‘--no-vignettes’
* checking for file ‘scFeatures/DESCRIPTION’ ... OK
* this is package ‘scFeatures’ version ‘1.0.0’
* package encoding: UTF-8
* checking package namespace information ... OK
* checking package dependencies ... OK
* checking if this is a source package ... OK
* checking if there is a namespace ... OK
* checking for hidden files and directories ... OK
* checking for portable file names ... OK
* checking for sufficient/correct file permissions ... OK
* checking whether package ‘scFeatures’ can be installed ... OK
* checking installed package size ... OK
* checking package directory ... OK
* checking ‘build’ directory ... OK
* checking DESCRIPTION meta-information ... OK
* checking top-level files ... OK
* checking for left-over files ... OK
* checking index information ... OK
* checking package subdirectories ... OK
* checking R files for non-ASCII characters ... OK
* checking R files for syntax errors ... OK
* checking whether the package can be loaded ... OK
* checking whether the package can be loaded with stated dependencies ... OK
* checking whether the package can be unloaded cleanly ... OK
* checking whether the namespace can be loaded with stated dependencies ... OK
* checking whether the namespace can be unloaded cleanly ... OK
* checking dependencies in R code ... NOTE
Namespace in Imports field not imported from: 'DT'
All declared Imports should be used.
* checking S3 generic/method consistency ... OK
* checking replacement functions ... OK
* checking foreign function calls ... OK
* checking R code for possible problems ... NOTE
helper_CCI: no visible binding for global variable 'LRdb'
helper_CCI: no visible global function definition for 'capture.output'
run_pathway_gsva: no visible global function definition for
'capture.output'
Undefined global functions or variables:
LRdb capture.output
Consider adding
importFrom("utils", "capture.output")
to your NAMESPACE file.
* checking Rd files ... OK
* checking Rd metadata ... OK
* checking Rd cross-references ... OK
* checking for missing documentation entries ... OK
* checking for code/documentation mismatches ... OK
* checking Rd \usage sections ... OK
* checking Rd contents ... OK
* checking for unstated dependencies in examples ... OK
* checking contents of ‘data’ directory ... OK
* checking data for non-ASCII characters ... OK
* checking data for ASCII and uncompressed saves ... OK
* checking files in ‘vignettes’ ... OK
* checking examples ... OK
Examples with CPU (user + system) or elapsed time > 5s
user system elapsed
run_pathway_prop 19.369 0.461 33.615
run_pathway_mean 10.277 0.393 18.644
run_pathway_gsva 9.348 0.480 17.399
run_association_study_report 4.342 0.832 13.778
run_gene_prop_celltype 4.758 0.055 8.621
run_gene_mean_celltype 4.726 0.062 8.563
run_gene_mean 3.794 0.078 6.933
run_gene_cor_celltype 3.791 0.059 6.978
run_gene_cor 2.646 0.086 5.043
* checking for unstated dependencies in vignettes ... OK
* checking package vignettes in ‘inst/doc’ ... OK
* checking running R code from vignettes ... SKIPPED
* checking re-building of vignette outputs ... SKIPPED
* checking PDF version of manual ... OK
* DONE
Status: 2 NOTEs
See
‘/Users/biocbuild/bbs-3.17-bioc-mac-arm64/meat/scFeatures.Rcheck/00check.log’
for details.
scFeatures.Rcheck/00install.out
############################################################################## ############################################################################## ### ### Running command: ### ### /Library/Frameworks/R.framework/Resources/bin/R CMD INSTALL scFeatures ### ############################################################################## ############################################################################## * installing to library ‘/Library/Frameworks/R.framework/Versions/4.3-arm64/Resources/library’ * installing *source* package ‘scFeatures’ ... ** using staged installation ** R ** data ** inst ** byte-compile and prepare package for lazy loading ** help *** installing help indices ** building package indices ** installing vignettes ** testing if installed package can be loaded from temporary location ** testing if installed package can be loaded from final location ** testing if installed package keeps a record of temporary installation path * DONE (scFeatures)
scFeatures.Rcheck/scFeatures-Ex.timings
| name | user | system | elapsed | |
| get_num_cell_per_spot | 0.217 | 0.015 | 0.421 | |
| makeSeurat | 0.211 | 0.016 | 0.562 | |
| process_data | 0.539 | 0.028 | 1.152 | |
| remove_mito_ribo | 1.694 | 0.052 | 2.991 | |
| run_CCI | 1.607 | 0.141 | 3.471 | |
| run_L_function | 1.092 | 0.103 | 2.225 | |
| run_Morans_I | 1.565 | 0.053 | 2.880 | |
| run_association_study_report | 4.342 | 0.832 | 13.778 | |
| run_celltype_interaction | 2.058 | 0.111 | 3.976 | |
| run_gene_cor | 2.646 | 0.086 | 5.043 | |
| run_gene_cor_celltype | 3.791 | 0.059 | 6.978 | |
| run_gene_mean | 3.794 | 0.078 | 6.933 | |
| run_gene_mean_celltype | 4.726 | 0.062 | 8.563 | |
| run_gene_prop | 2.638 | 0.035 | 4.846 | |
| run_gene_prop_celltype | 4.758 | 0.055 | 8.621 | |
| run_nn_correlation | 0.996 | 0.028 | 1.836 | |
| run_pathway_gsva | 9.348 | 0.480 | 17.399 | |
| run_pathway_mean | 10.277 | 0.393 | 18.644 | |
| run_pathway_prop | 19.369 | 0.461 | 33.615 | |
| run_proportion_logit | 0.361 | 0.013 | 0.660 | |
| run_proportion_ratio | 0.465 | 0.015 | 0.852 | |
| run_proportion_raw | 0.356 | 0.013 | 0.661 | |
| scFeatures | 1.023 | 0.041 | 1.216 | |