Back to Mac ARM64 build report for BioC 3.17 |
|
This page was generated on 2023-10-20 09:38:09 -0400 (Fri, 20 Oct 2023).
Hostname | OS | Arch (*) | R version | Installed pkgs |
---|---|---|---|---|
kjohnson2 | macOS 12.6.1 Monterey | arm64 | 4.3.1 (2023-06-16) -- "Beagle Scouts" | 4347 |
Click on any hostname to see more info about the system (e.g. compilers) (*) as reported by 'uname -p', except on Windows and Mac OS X |
Package 1627/2230 | Hostname | OS / Arch | INSTALL | BUILD | CHECK | BUILD BIN | ||||||||
randRotation 1.12.0 (landing page) Peter Hettegger
| kjohnson2 | macOS 12.6.1 Monterey / arm64 | OK | OK | ERROR | OK | ||||||||
To the developers/maintainers of the randRotation package: - Use the following Renviron settings to reproduce errors and warnings. - If 'R CMD check' started to fail recently on the Linux builder(s) over a missing dependency, add the missing dependency to 'Suggests:' in your DESCRIPTION file. See Renviron.bioc for more information. |
Package: randRotation |
Version: 1.12.0 |
Command: /Library/Frameworks/R.framework/Resources/bin/R CMD check --install=check:randRotation.install-out.txt --library=/Library/Frameworks/R.framework/Resources/library --no-vignettes --timings randRotation_1.12.0.tar.gz |
StartedAt: 2023-10-18 17:20:59 -0400 (Wed, 18 Oct 2023) |
EndedAt: 2023-10-18 17:22:29 -0400 (Wed, 18 Oct 2023) |
EllapsedTime: 90.2 seconds |
RetCode: 1 |
Status: ERROR |
CheckDir: randRotation.Rcheck |
Warnings: NA |
############################################################################## ############################################################################## ### ### Running command: ### ### /Library/Frameworks/R.framework/Resources/bin/R CMD check --install=check:randRotation.install-out.txt --library=/Library/Frameworks/R.framework/Resources/library --no-vignettes --timings randRotation_1.12.0.tar.gz ### ############################################################################## ############################################################################## * using log directory ‘/Users/biocbuild/bbs-3.17-bioc-mac-arm64/meat/randRotation.Rcheck’ * using R version 4.3.1 (2023-06-16) * using platform: aarch64-apple-darwin20 (64-bit) * R was compiled by Apple clang version 14.0.0 (clang-1400.0.29.202) GNU Fortran (GCC) 12.2.0 * running under: macOS Monterey 12.6.7 * using session charset: UTF-8 * using option ‘--no-vignettes’ * checking for file ‘randRotation/DESCRIPTION’ ... OK * this is package ‘randRotation’ version ‘1.12.0’ * package encoding: UTF-8 * checking package namespace information ... OK * checking package dependencies ... OK * checking if this is a source package ... OK * checking if there is a namespace ... OK * checking for hidden files and directories ... OK * checking for portable file names ... OK * checking for sufficient/correct file permissions ... OK * checking whether package ‘randRotation’ can be installed ... OK * checking installed package size ... OK * checking package directory ... OK * checking ‘build’ directory ... OK * checking DESCRIPTION meta-information ... OK * checking top-level files ... OK * checking for left-over files ... OK * checking index information ... OK * checking package subdirectories ... OK * checking R files for non-ASCII characters ... OK * checking R files for syntax errors ... OK * checking whether the package can be loaded ... OK * checking whether the package can be loaded with stated dependencies ... OK * checking whether the package can be unloaded cleanly ... OK * checking whether the namespace can be loaded with stated dependencies ... OK * checking whether the namespace can be unloaded cleanly ... OK * checking dependencies in R code ... OK * checking S3 generic/method consistency ... OK * checking replacement functions ... OK * checking foreign function calls ... OK * checking R code for possible problems ... OK * checking Rd files ... OK * checking Rd metadata ... OK * checking Rd cross-references ... OK * checking for missing documentation entries ... OK * checking for code/documentation mismatches ... OK * checking Rd \usage sections ... OK * checking Rd contents ... OK * checking for unstated dependencies in examples ... OK * checking sizes of PDF files under ‘inst/doc’ ... OK * checking files in ‘vignettes’ ... OK * checking examples ... OK Examples with CPU (user + system) or elapsed time > 5s user system elapsed pFdr 8.616 0.329 15.211 * checking for unstated dependencies in ‘tests’ ... OK * checking tests ... Running ‘testthat.R’ ERROR Running the tests in ‘tests/testthat.R’ failed. Last 13 lines of output: [3] 0.958 - 0.993 == -0.035391 [4] 0.991 - 0.998 == -0.007912 [5] 1.000 - 1.000 == -0.000377 ── Failure ('test_rotateStat_pFdr.R:33:3'): Test execution of rotateStat (including parallel computation mode), pFdr with "fdr.q" and "fdr.qu" ── sort(pFdr(res1, "fdr.qu"))[1:10] not equal to c(0.87, 0.94, 0.99303, 0.99844, 0.99992, 0.99999, 1, 1, 1, 1). 5/10 mismatches (average diff: 0.143) [1] 0.210 - 0.870 == -0.660000 [2] 0.950 - 0.940 == 0.010000 [3] 0.958 - 0.993 == -0.035391 [4] 0.991 - 0.998 == -0.007912 [5] 1.000 - 1.000 == -0.000377 [ FAIL 3 | WARN 0 | SKIP 0 | PASS 16 ] Error: Test failures Execution halted * checking for unstated dependencies in vignettes ... OK * checking package vignettes in ‘inst/doc’ ... OK * checking running R code from vignettes ... SKIPPED * checking re-building of vignette outputs ... SKIPPED * checking PDF version of manual ... OK * DONE Status: 1 ERROR See ‘/Users/biocbuild/bbs-3.17-bioc-mac-arm64/meat/randRotation.Rcheck/00check.log’ for details.
randRotation.Rcheck/00install.out
############################################################################## ############################################################################## ### ### Running command: ### ### /Library/Frameworks/R.framework/Resources/bin/R CMD INSTALL randRotation ### ############################################################################## ############################################################################## * installing to library ‘/Library/Frameworks/R.framework/Versions/4.3-arm64/Resources/library’ * installing *source* package ‘randRotation’ ... ** using staged installation ** R ** inst ** byte-compile and prepare package for lazy loading ** help Loading required namespace: randRotation *** installing help indices ** building package indices ** installing vignettes ** testing if installed package can be loaded from temporary location ** testing if installed package can be loaded from final location ** testing if installed package keeps a record of temporary installation path * DONE (randRotation)
randRotation.Rcheck/tests/testthat.Rout.fail
R version 4.3.1 (2023-06-16) -- "Beagle Scouts" Copyright (C) 2023 The R Foundation for Statistical Computing Platform: aarch64-apple-darwin20 (64-bit) R is free software and comes with ABSOLUTELY NO WARRANTY. You are welcome to redistribute it under certain conditions. Type 'license()' or 'licence()' for distribution details. R is a collaborative project with many contributors. Type 'contributors()' for more information and 'citation()' on how to cite R or R packages in publications. Type 'demo()' for some demos, 'help()' for on-line help, or 'help.start()' for an HTML browser interface to help. Type 'q()' to quit R. > library(testthat) > library(randRotation) > > test_check("randRotation") [ FAIL 3 | WARN 0 | SKIP 0 | PASS 16 ] ══ Failed tests ════════════════════════════════════════════════════════════════ ── Failure ('test_rotateStat_pFdr.R:31:3'): Test execution of rotateStat (including parallel computation mode), pFdr with "fdr.q" and "fdr.qu" ── sort(pFdr(res1))[1:10] not equal to c(...). 9/10 mismatches (average diff: 0.00167) [1] 0.0022 - 0.0088 == -6.60e-03 [2] 0.0096 - 0.0095 == 9.99e-05 [3] 0.0163 - 0.0151 == 1.20e-03 [5] 0.0258 - 0.0259 == -1.00e-04 [6] 0.0263 - 0.0268 == -5.00e-04 [7] 0.0373 - 0.0362 == 1.10e-03 [8] 0.0395 - 0.0394 == 1.00e-04 [9] 0.0416 - 0.0457 == -4.10e-03 [10] 0.0461 - 0.0473 == -1.20e-03 ── Failure ('test_rotateStat_pFdr.R:32:3'): Test execution of rotateStat (including parallel computation mode), pFdr with "fdr.q" and "fdr.qu" ── sort(pFdr(res1, "fdr.q"))[1:10] not equal to c(0.87, 0.94, 0.99303, 0.99844, 0.99992, 0.99999, 1, 1, 1, 1). 5/10 mismatches (average diff: 0.143) [1] 0.210 - 0.870 == -0.660000 [2] 0.950 - 0.940 == 0.010000 [3] 0.958 - 0.993 == -0.035391 [4] 0.991 - 0.998 == -0.007912 [5] 1.000 - 1.000 == -0.000377 ── Failure ('test_rotateStat_pFdr.R:33:3'): Test execution of rotateStat (including parallel computation mode), pFdr with "fdr.q" and "fdr.qu" ── sort(pFdr(res1, "fdr.qu"))[1:10] not equal to c(0.87, 0.94, 0.99303, 0.99844, 0.99992, 0.99999, 1, 1, 1, 1). 5/10 mismatches (average diff: 0.143) [1] 0.210 - 0.870 == -0.660000 [2] 0.950 - 0.940 == 0.010000 [3] 0.958 - 0.993 == -0.035391 [4] 0.991 - 0.998 == -0.007912 [5] 1.000 - 1.000 == -0.000377 [ FAIL 3 | WARN 0 | SKIP 0 | PASS 16 ] Error: Test failures Execution halted
randRotation.Rcheck/randRotation-Ex.timings
name | user | system | elapsed | |
X_decomp | 0.002 | 0.001 | 0.006 | |
contrastModel | 0.005 | 0.001 | 0.006 | |
initRandrot | 0.012 | 0.002 | 0.023 | |
initRandrotW | 0.022 | 0.001 | 0.038 | |
pFdr | 8.616 | 0.329 | 15.211 | |
qqunif | 0.015 | 0.002 | 0.029 | |
randorth | 0.054 | 0.006 | 0.124 | |
randpermut | 0.001 | 0.000 | 0.001 | |
randrot | 0.012 | 0.003 | 0.023 | |
rotateStat | 0.348 | 0.039 | 0.706 | |
weights | 0.014 | 0.001 | 0.027 | |