Back to Mac ARM64 build report for BioC 3.17
ABCDEFGHIJKLMNO[P]QRSTUVWXYZ

This page was generated on 2023-04-23 05:30:45 -0400 (Sun, 23 Apr 2023).

HostnameOSArch (*)R versionInstalled pkgs
kjohnson2macOS 12.6.1 Montereyarm644.3.0 RC (2023-04-13 r84266) -- "Already Tomorrow" 4308
Click on any hostname to see more info about the system (e.g. compilers)      (*) as reported by 'uname -p', except on Windows and Mac OS X

BUILD BIN results for pkgDepTools on kjohnson2


To the developers/maintainers of the pkgDepTools package:
Use the following Renviron settings to reproduce errors and warnings.

Note: If "R CMD check" recently failed on the Linux builder over a missing dependency, add the missing dependency to "Suggests" in your DESCRIPTION file. See the Renviron.bioc for details.

raw results

Package 1522/2224HostnameOS / ArchINSTALLBUILDCHECKBUILD BIN
pkgDepTools 1.65.1  (landing page)
Bioconductor Package Maintainer
Snapshot Date: 2023-04-19 22:02:38 -0400 (Wed, 19 Apr 2023)
git_url: https://git.bioconductor.org/packages/pkgDepTools
git_branch: devel
git_last_commit: fea3b6d
git_last_commit_date: 2023-01-06 13:06:59 -0400 (Fri, 06 Jan 2023)
kjohnson2macOS 12.6.1 Monterey / arm64  OK    OK    WARNINGS    OK  UNNEEDED, same version is already published

Summary

Package: pkgDepTools
Version: 1.65.1
Command: rm -rf pkgDepTools.buildbin-libdir && mkdir pkgDepTools.buildbin-libdir && /Users/biocbuild/BBS/utils/build-universal.sh pkgDepTools_1.65.1.tar.gz /Library/Frameworks/R.framework/Resources/bin/R pkgDepTools.buildbin-libdir
StartedAt: 2023-04-20 09:26:53 -0400 (Thu, 20 Apr 2023)
EndedAt: 2023-04-20 09:26:56 -0400 (Thu, 20 Apr 2023)
EllapsedTime: 3.0 seconds
RetCode: 0
Status:   OK  
PackageFile: pkgDepTools_1.65.1.tgz
PackageFileSize: 273.7 KiB

Command output

##############################################################################
##############################################################################
###
### Running command:
###
###   rm -rf pkgDepTools.buildbin-libdir && mkdir pkgDepTools.buildbin-libdir && /Users/biocbuild/BBS/utils/build-universal.sh pkgDepTools_1.65.1.tar.gz /Library/Frameworks/R.framework/Resources/bin/R pkgDepTools.buildbin-libdir
###
##############################################################################
##############################################################################


>>>>>>> 
>>>>>>> INSTALLATION WITH 'R CMD INSTALL --preclean --no-multiarch --library=pkgDepTools.buildbin-libdir pkgDepTools_1.65.1.tar.gz'
>>>>>>> 

* installing *source* package ‘pkgDepTools’ ...
** using staged installation
** R
** inst
** byte-compile and prepare package for lazy loading
** help
*** installing help indices
** building package indices
** installing vignettes
** testing if installed package can be loaded from temporary location
Warning: Package 'pkgDepTools' is deprecated and will be removed from
  Bioconductor version 3.18
** testing if installed package can be loaded from final location
Warning: Package 'pkgDepTools' is deprecated and will be removed from
  Bioconductor version 3.18
** testing if installed package keeps a record of temporary installation path
* DONE (pkgDepTools)