| Back to Mac ARM64 build report for BioC 3.17 |
|
This page was generated on 2023-10-20 09:38:08 -0400 (Fri, 20 Oct 2023).
| Hostname | OS | Arch (*) | R version | Installed pkgs |
|---|---|---|---|---|
| kjohnson2 | macOS 12.6.1 Monterey | arm64 | 4.3.1 (2023-06-16) -- "Beagle Scouts" | 4347 |
| Click on any hostname to see more info about the system (e.g. compilers) (*) as reported by 'uname -p', except on Windows and Mac OS X | ||||
| Package 1481/2230 | Hostname | OS / Arch | INSTALL | BUILD | CHECK | BUILD BIN | ||||||||
| pathwayPCA 1.16.1 (landing page) Gabriel Odom
| kjohnson2 | macOS 12.6.1 Monterey / arm64 | OK | OK | OK | OK | ||||||||
|
To the developers/maintainers of the pathwayPCA package: - Use the following Renviron settings to reproduce errors and warnings. - If 'R CMD check' started to fail recently on the Linux builder(s) over a missing dependency, add the missing dependency to 'Suggests:' in your DESCRIPTION file. See Renviron.bioc for more information. |
| Package: pathwayPCA |
| Version: 1.16.1 |
| Command: /Library/Frameworks/R.framework/Resources/bin/R CMD check --install=check:pathwayPCA.install-out.txt --library=/Library/Frameworks/R.framework/Resources/library --no-vignettes --timings pathwayPCA_1.16.1.tar.gz |
| StartedAt: 2023-10-18 13:45:14 -0400 (Wed, 18 Oct 2023) |
| EndedAt: 2023-10-18 13:50:00 -0400 (Wed, 18 Oct 2023) |
| EllapsedTime: 285.6 seconds |
| RetCode: 0 |
| Status: OK |
| CheckDir: pathwayPCA.Rcheck |
| Warnings: 0 |
##############################################################################
##############################################################################
###
### Running command:
###
### /Library/Frameworks/R.framework/Resources/bin/R CMD check --install=check:pathwayPCA.install-out.txt --library=/Library/Frameworks/R.framework/Resources/library --no-vignettes --timings pathwayPCA_1.16.1.tar.gz
###
##############################################################################
##############################################################################
* using log directory ‘/Users/biocbuild/bbs-3.17-bioc-mac-arm64/meat/pathwayPCA.Rcheck’
* using R version 4.3.1 (2023-06-16)
* using platform: aarch64-apple-darwin20 (64-bit)
* R was compiled by
Apple clang version 14.0.0 (clang-1400.0.29.202)
GNU Fortran (GCC) 12.2.0
* running under: macOS Monterey 12.6.7
* using session charset: UTF-8
* using option ‘--no-vignettes’
* checking for file ‘pathwayPCA/DESCRIPTION’ ... OK
* checking extension type ... Package
* this is package ‘pathwayPCA’ version ‘1.16.1’
* package encoding: UTF-8
* checking package namespace information ... OK
* checking package dependencies ... OK
* checking if this is a source package ... OK
* checking if there is a namespace ... OK
* checking for hidden files and directories ... OK
* checking for portable file names ... OK
* checking for sufficient/correct file permissions ... OK
* checking whether package ‘pathwayPCA’ can be installed ... OK
* checking installed package size ... OK
* checking package directory ... OK
* checking ‘build’ directory ... OK
* checking DESCRIPTION meta-information ... OK
* checking top-level files ... OK
* checking for left-over files ... OK
* checking index information ... OK
* checking package subdirectories ... OK
* checking R files for non-ASCII characters ... OK
* checking R files for syntax errors ... OK
* checking whether the package can be loaded ... OK
* checking whether the package can be loaded with stated dependencies ... OK
* checking whether the package can be unloaded cleanly ... OK
* checking whether the namespace can be loaded with stated dependencies ... OK
* checking whether the namespace can be unloaded cleanly ... OK
* checking dependencies in R code ... OK
* checking S3 generic/method consistency ... OK
* checking replacement functions ... OK
* checking foreign function calls ... OK
* checking R code for possible problems ... OK
* checking Rd files ... OK
* checking Rd metadata ... OK
* checking Rd cross-references ... OK
* checking for missing documentation entries ... OK
* checking for code/documentation mismatches ... OK
* checking Rd \usage sections ... OK
* checking Rd contents ... OK
* checking for unstated dependencies in examples ... OK
* checking contents of ‘data’ directory ... OK
* checking data for non-ASCII characters ... OK
* checking data for ASCII and uncompressed saves ... OK
* checking files in ‘vignettes’ ... OK
* checking examples ... OK
Examples with CPU (user + system) or elapsed time > 5s
user system elapsed
SE2Tidy 10.308 0.350 16.617
AESPCA_pVals 0.483 0.110 11.374
LoadOntoPCs 0.438 0.124 10.070
ExtractAESPCs 0.400 0.098 7.723
SuperPCA_pVals 0.462 0.027 11.419
getPathPCLs 0.426 0.035 14.912
getPathpVals 0.338 0.024 14.813
* checking for unstated dependencies in ‘tests’ ... OK
* checking tests ...
Running ‘testthat.R’
OK
* checking for unstated dependencies in vignettes ... OK
* checking package vignettes in ‘inst/doc’ ... OK
* checking running R code from vignettes ... SKIPPED
* checking re-building of vignette outputs ... SKIPPED
* checking PDF version of manual ... OK
* DONE
Status: OK
pathwayPCA.Rcheck/00install.out
############################################################################## ############################################################################## ### ### Running command: ### ### /Library/Frameworks/R.framework/Resources/bin/R CMD INSTALL pathwayPCA ### ############################################################################## ############################################################################## * installing to library ‘/Library/Frameworks/R.framework/Versions/4.3-arm64/Resources/library’ * installing *source* package ‘pathwayPCA’ ... ** using staged installation ** R ** data ** inst ** byte-compile and prepare package for lazy loading ** help *** installing help indices ** building package indices ** installing vignettes ** testing if installed package can be loaded from temporary location ** testing if installed package can be loaded from final location ** testing if installed package keeps a record of temporary installation path * DONE (pathwayPCA)
pathwayPCA.Rcheck/tests/testthat.Rout
R version 4.3.1 (2023-06-16) -- "Beagle Scouts"
Copyright (C) 2023 The R Foundation for Statistical Computing
Platform: aarch64-apple-darwin20 (64-bit)
R is free software and comes with ABSOLUTELY NO WARRANTY.
You are welcome to redistribute it under certain conditions.
Type 'license()' or 'licence()' for distribution details.
R is a collaborative project with many contributors.
Type 'contributors()' for more information and
'citation()' on how to cite R or R packages in publications.
Type 'demo()' for some demos, 'help()' for on-line help, or
'help.start()' for an HTML browser interface to help.
Type 'q()' to quit R.
> library(testthat)
> library(pathwayPCA)
>
> test_check("pathwayPCA")
[ FAIL 0 | WARN 0 | SKIP 0 | PASS 47 ]
>
> proc.time()
user system elapsed
15.817 0.797 80.127
pathwayPCA.Rcheck/pathwayPCA-Ex.timings
| name | user | system | elapsed | |
| AESPCA_pVals | 0.483 | 0.110 | 11.374 | |
| CheckAssay | 0 | 0 | 0 | |
| CheckPwyColl | 0 | 0 | 0 | |
| CheckSampleIDs | 0.000 | 0.001 | 0.000 | |
| Contains | 0.000 | 0.000 | 0.001 | |
| ControlFDR | 0.000 | 0.000 | 0.005 | |
| CreateOmics | 0.420 | 0.021 | 0.663 | |
| CreateOmicsPathway | 0.260 | 0.008 | 0.447 | |
| CreatePathwayCollection | 0.007 | 0.002 | 0.015 | |
| ExtractAESPCs | 0.400 | 0.098 | 7.723 | |
| GumbelMixpValues | 0.000 | 0.001 | 0.004 | |
| IntersectOmicsPwyCollct | 0 | 0 | 0 | |
| JoinPhenoAssay | 0.000 | 0.000 | 0.001 | |
| LoadOntoPCs | 0.438 | 0.124 | 10.070 | |
| OptimGumbelMixParams | 0.000 | 0.000 | 0.001 | |
| PathwaytValues | 0.000 | 0.000 | 0.001 | |
| PermTestCateg | 0.001 | 0.000 | 0.001 | |
| PermTestReg | 0.000 | 0.001 | 0.004 | |
| PermTestSurv | 0.000 | 0.001 | 0.000 | |
| SE2Tidy | 10.308 | 0.350 | 16.617 | |
| SubsetPathwayCollection | 0.003 | 0.002 | 0.010 | |
| SubsetPathwayData | 0.381 | 0.072 | 0.790 | |
| SuperPCA_pVals | 0.462 | 0.027 | 11.419 | |
| TabulatepValues | 0.001 | 0.001 | 0.001 | |
| TransposeAssay | 0.058 | 0.042 | 0.148 | |
| WhichPathways | 0.007 | 0.002 | 0.011 | |
| aespca | 0 | 0 | 0 | |
| coxTrain_fun | 0 | 0 | 0 | |
| getPathPCLs | 0.426 | 0.035 | 14.912 | |
| getPathpVals | 0.338 | 0.024 | 14.813 | |
| get_set_OmicsPathway | 1.002 | 0.488 | 2.699 | |
| get_set_OmicsRegCateg | 0.433 | 0.012 | 0.784 | |
| get_set_OmicsSurv | 0.307 | 0.012 | 0.558 | |
| glmTrain_fun | 0 | 0 | 0 | |
| lars.lsa | 0.001 | 0.001 | 0.000 | |
| mysvd | 0 | 0 | 0 | |
| normalize | 0 | 0 | 0 | |
| olsTrain_fun | 0 | 0 | 0 | |
| pathway_tControl | 0.001 | 0.000 | 0.000 | |
| pathway_tScores | 0.000 | 0.001 | 0.000 | |
| permuteSamps | 0 | 0 | 0 | |
| print.pathwayCollection | 0.004 | 0.001 | 0.009 | |
| read_gmt | 0.109 | 0.003 | 0.204 | |
| show-OmicsPathway-method | 0.399 | 0.012 | 0.733 | |
| superpc.st | 0.000 | 0.001 | 0.001 | |
| superpc.train | 0.000 | 0.001 | 0.000 | |
| write_gmt | 0.003 | 0.001 | 0.007 | |