Back to Mac ARM64 build report for BioC 3.17
ABCDEFGHIJKLMN[O]PQRSTUVWXYZ

This page was generated on 2023-03-16 11:02:07 -0400 (Thu, 16 Mar 2023).

HostnameOSArch (*)R versionInstalled pkgs
kjohnson2macOS 12.6.1 Montereyarm64R Under development (unstable) (2023-01-10 r83596) -- "Unsuffered Consequences" 4115
Click on any hostname to see more info about the system (e.g. compilers)      (*) as reported by 'uname -p', except on Windows and Mac OS X

CHECK results for omada on kjohnson2


To the developers/maintainers of the omada package:
Make sure to use the following settings in order to reproduce any error or warning you see on this page.

raw results

Package 1391/2189HostnameOS / ArchINSTALLBUILDCHECKBUILD BIN
omada 1.1.0  (landing page)
Sokratis Kariotis
Snapshot Date: 2023-03-13 13:00:01 -0400 (Mon, 13 Mar 2023)
git_url: https://git.bioconductor.org/packages/omada
git_branch: master
git_last_commit: ef8f09a
git_last_commit_date: 2022-11-01 11:27:27 -0400 (Tue, 01 Nov 2022)
kjohnson2macOS 12.6.1 Monterey / arm64  OK    OK    OK    OK  UNNEEDED, same version is already published

Summary

Package: omada
Version: 1.1.0
Command: /Library/Frameworks/R.framework/Resources/bin/R CMD check --install=check:omada.install-out.txt --library=/Library/Frameworks/R.framework/Resources/library --no-vignettes --timings omada_1.1.0.tar.gz
StartedAt: 2023-03-14 09:06:27 -0400 (Tue, 14 Mar 2023)
EndedAt: 2023-03-14 09:11:04 -0400 (Tue, 14 Mar 2023)
EllapsedTime: 277.1 seconds
RetCode: 0
Status:   OK  
CheckDir: omada.Rcheck
Warnings: 0

Command output

##############################################################################
##############################################################################
###
### Running command:
###
###   /Library/Frameworks/R.framework/Resources/bin/R CMD check --install=check:omada.install-out.txt --library=/Library/Frameworks/R.framework/Resources/library --no-vignettes --timings omada_1.1.0.tar.gz
###
##############################################################################
##############################################################################


* using log directory ‘/Users/biocbuild/bbs-3.17-bioc-mac-arm64/meat/omada.Rcheck’
* using R Under development (unstable) (2023-01-10 r83596)
* using platform: aarch64-apple-darwin20 (64-bit)
* R was compiled by
    Apple clang version 13.0.0 (clang-1300.0.29.3)
    GNU Fortran (GCC) 12.0.1 20220312 (experimental)
* running under: macOS Monterey 12.6.1
* using session charset: UTF-8
* using option ‘--no-vignettes’
* checking for file ‘omada/DESCRIPTION’ ... OK
* checking extension type ... Package
* this is package ‘omada’ version ‘1.1.0’
* package encoding: UTF-8
* checking package namespace information ... OK
* checking package dependencies ... NOTE
Depends: includes the non-default packages:
  'pdfCluster', 'kernlab', 'fpc', 'Rcpp', 'diceR', 'ggplot2',
  'reshape', 'clusterCrit', 'clValid', 'glmnet', 'dplyr'
Adding so many packages to the search path is excessive and importing
selectively is preferable.
* checking if this is a source package ... OK
* checking if there is a namespace ... OK
* checking for hidden files and directories ... OK
* checking for portable file names ... OK
* checking for sufficient/correct file permissions ... OK
* checking whether package ‘omada’ can be installed ... OK
* checking installed package size ... OK
* checking package directory ... OK
* checking ‘build’ directory ... OK
* checking DESCRIPTION meta-information ... OK
* checking top-level files ... NOTE
File
  LICENSE
is not mentioned in the DESCRIPTION file.
* checking for left-over files ... OK
* checking index information ... OK
* checking package subdirectories ... OK
* checking R files for non-ASCII characters ... OK
* checking R files for syntax errors ... OK
* checking whether the package can be loaded ... OK
* checking whether the package can be loaded with stated dependencies ... OK
* checking whether the package can be unloaded cleanly ... OK
* checking whether the namespace can be loaded with stated dependencies ... OK
* checking whether the namespace can be unloaded cleanly ... OK
* checking dependencies in R code ... NOTE
Packages in Depends field not imported from:
  ‘Rcpp’ ‘clusterCrit’ ‘glmnet’ ‘kernlab’ ‘reshape’
  These packages need to be imported from (in the NAMESPACE file)
  for when this namespace is loaded but not attached.
* checking S3 generic/method consistency ... OK
* checking replacement functions ... OK
* checking foreign function calls ... OK
* checking R code for possible problems ... NOTE
clusterVoting: no visible binding for global variable ‘k’
clusterVoting: no visible binding for global variable ‘Frequency’
clusteringMethodSelection: no visible binding for global variable
  ‘value’
clusteringMethodSelection: no visible binding for global variable
  ‘methods’
featureSelection: no visible binding for global variable ‘featureSet’
featureSelection: no visible binding for global variable ‘means’
geneSignatures: no visible global function definition for ‘where’
geneSignatures: no visible binding for global variable ‘features’
geneSignatures: no visible binding for global variable ‘value’
geneSignatures: no visible binding for global variable ‘variable’
Undefined global functions or variables:
  Frequency featureSet features k means methods value variable where
Consider adding
  importFrom("utils", "methods")
to your NAMESPACE file.
* checking Rd files ... OK
* checking Rd metadata ... OK
* checking Rd cross-references ... OK
* checking for missing documentation entries ... OK
* checking for code/documentation mismatches ... OK
* checking Rd \usage sections ... OK
* checking Rd contents ... OK
* checking for unstated dependencies in examples ... OK
* checking contents of ‘data’ directory ... OK
* checking data for non-ASCII characters ... OK
* checking LazyData ... OK
* checking data for ASCII and uncompressed saves ... OK
* checking files in ‘vignettes’ ... OK
* checking examples ... OK
Examples with CPU (user + system) or elapsed time > 5s
                                                   user system elapsed
get_feature_selection_optimal_number_of_features 16.753  0.307  17.062
get_feature_selection_scores                     15.389  0.349  15.740
get_signature_feature_coefs                      12.982  0.127  13.130
plot_feature_selection                           12.450  0.170  12.654
get_cluster_voting_k_votes                       11.832  0.121  11.988
get_feature_selection_optimal_features           11.744  0.203  11.949
get_partition_agreement_scores                   11.570  0.237  11.824
get_cluster_voting_metric_votes                  11.566  0.187  11.755
get_sample_memberships                           11.452  0.150  11.629
get_cluster_voting_memberships                   11.369  0.184  11.564
plot_partition_agreement                         11.257  0.213  11.472
plot_signature_feature                           10.907  0.187  11.095
get_cluster_voting_scores                        10.819  0.204  11.026
omada                                             9.285  0.122   9.422
plot_cluster_voting                               8.933  0.141   9.101
* checking for unstated dependencies in ‘tests’ ... OK
* checking tests ...
  Running ‘testthat.R’
 OK
* checking for unstated dependencies in vignettes ... OK
* checking package vignettes in ‘inst/doc’ ... OK
* checking running R code from vignettes ... SKIPPED
* checking re-building of vignette outputs ... SKIPPED
* checking PDF version of manual ... OK
* DONE

Status: 4 NOTEs
See
  ‘/Users/biocbuild/bbs-3.17-bioc-mac-arm64/meat/omada.Rcheck/00check.log’
for details.



Installation output

omada.Rcheck/00install.out

##############################################################################
##############################################################################
###
### Running command:
###
###   /Library/Frameworks/R.framework/Resources/bin/R CMD INSTALL omada
###
##############################################################################
##############################################################################


* installing to library ‘/Library/Frameworks/R.framework/Versions/4.3-arm64/Resources/library’
* installing *source* package ‘omada’ ...
** using staged installation
** R
** data
*** moving datasets to lazyload DB
** inst
** byte-compile and prepare package for lazy loading
** help
*** installing help indices
** building package indices
** installing vignettes
** testing if installed package can be loaded from temporary location
** testing if installed package can be loaded from final location
** testing if installed package keeps a record of temporary installation path
* DONE (omada)

Tests output

omada.Rcheck/tests/testthat.Rout


R Under development (unstable) (2023-01-10 r83596) -- "Unsuffered Consequences"
Copyright (C) 2023 The R Foundation for Statistical Computing
Platform: aarch64-apple-darwin20 (64-bit)

R is free software and comes with ABSOLUTELY NO WARRANTY.
You are welcome to redistribute it under certain conditions.
Type 'license()' or 'licence()' for distribution details.

R is a collaborative project with many contributors.
Type 'contributors()' for more information and
'citation()' on how to cite R or R packages in publications.

Type 'demo()' for some demos, 'help()' for on-line help, or
'help.start()' for an HTML browser interface to help.
Type 'q()' to quit R.

> library(testthat)
> library(omada)
Loading required package: pdfCluster
pdfCluster 1.0-4
Loading required package: kernlab
Loading required package: fpc
Loading required package: Rcpp
Loading required package: diceR
Loading required package: ggplot2

Attaching package: 'ggplot2'

The following object is masked from 'package:kernlab':

    alpha

Loading required package: reshape
Loading required package: clusterCrit
Loading required package: clValid
Loading required package: cluster
Loading required package: glmnet
Loading required package: Matrix

Attaching package: 'Matrix'

The following object is masked from 'package:reshape':

    expand

Loaded glmnet 4.1-6
Loading required package: dplyr

Attaching package: 'dplyr'

The following object is masked from 'package:reshape':

    rename

The following object is masked from 'package:pdfCluster':

    groups

The following object is masked from 'package:testthat':

    matches

The following objects are masked from 'package:stats':

    filter, lag

The following objects are masked from 'package:base':

    intersect, setdiff, setequal, union

> 
> test_check("omada")
[ FAIL 0 | WARN 1 | SKIP 0 | PASS 39 ]

[ FAIL 0 | WARN 1 | SKIP 0 | PASS 39 ]
> 
> proc.time()
   user  system elapsed 
 28.717   0.516  29.231 

Example timings

omada.Rcheck/omada-Ex.timings

nameusersystemelapsed
clusterVoting0.9350.0200.960
clusteringMethodSelection0.4350.0080.443
feasibilityAnalysis0.4240.0020.428
feasibilityAnalysisDataBased1.3620.0231.386
featureSelection3.0320.0373.076
geneSignatures0.3750.0060.382
get_agreement_scores0.0730.0010.074
get_average_feature_k_stabilities2.2280.0262.259
get_average_stabilities_per_k0.2830.0020.287
get_average_stability0.2910.0020.293
get_cluster_memberships_k0.1360.0040.141
get_cluster_voting_k_votes11.832 0.12111.988
get_cluster_voting_memberships11.369 0.18411.564
get_cluster_voting_metric_votes11.566 0.18711.755
get_cluster_voting_scores10.819 0.20411.026
get_coefficient_dataset0.1670.0030.172
get_feature_selection_optimal_features11.744 0.20311.949
get_feature_selection_optimal_number_of_features16.753 0.30717.062
get_feature_selection_scores15.389 0.34915.740
get_generated_dataset1.1250.0171.142
get_internal_metric_scores0.1150.0030.119
get_max_stability0.2820.0060.287
get_metric_votes_k0.1160.0030.119
get_optimal_features3.8480.0643.912
get_optimal_memberships2.9890.0633.052
get_optimal_number_of_features4.0860.0644.150
get_optimal_parameter_used3.0000.0553.055
get_optimal_stability_score3.0780.0783.156
get_partition_agreement_scores11.570 0.23711.824
get_sample_memberships11.452 0.15011.629
get_signature_feature_coefs12.982 0.12713.130
get_vote_frequencies_k0.1320.0030.134
omada9.2850.1229.422
optimalClustering0.0260.0030.028
partitionAgreement0.1420.0040.146
plot_average_stabilities3.6080.0793.691
plot_cluster_voting8.9330.1419.101
plot_feature_selection12.450 0.17012.654
plot_partition_agreement11.257 0.21311.472
plot_signature_feature10.907 0.18711.095
plot_top30percent_coefficients0.2450.0020.247
plot_vote_frequencies0.3100.0040.316
toy_gene_memberships0.0060.0010.007
toy_genes0.0000.0010.000