| Back to Mac ARM64 build report for BioC 3.17 |
|
This page was generated on 2023-10-20 09:38:01 -0400 (Fri, 20 Oct 2023).
| Hostname | OS | Arch (*) | R version | Installed pkgs |
|---|---|---|---|---|
| kjohnson2 | macOS 12.6.1 Monterey | arm64 | 4.3.1 (2023-06-16) -- "Beagle Scouts" | 4347 |
| Click on any hostname to see more info about the system (e.g. compilers) (*) as reported by 'uname -p', except on Windows and Mac OS X | ||||
| Package 602/2230 | Hostname | OS / Arch | INSTALL | BUILD | CHECK | BUILD BIN | ||||||||
| easier 1.6.3 (landing page) Oscar Lapuente-Santana
| kjohnson2 | macOS 12.6.1 Monterey / arm64 | OK | OK | OK | OK | ||||||||
|
To the developers/maintainers of the easier package: - Use the following Renviron settings to reproduce errors and warnings. - If 'R CMD check' started to fail recently on the Linux builder(s) over a missing dependency, add the missing dependency to 'Suggests:' in your DESCRIPTION file. See Renviron.bioc for more information. |
| Package: easier |
| Version: 1.6.3 |
| Command: /Library/Frameworks/R.framework/Resources/bin/R CMD check --install=check:easier.install-out.txt --library=/Library/Frameworks/R.framework/Resources/library --no-vignettes --timings easier_1.6.3.tar.gz |
| StartedAt: 2023-10-17 17:02:43 -0400 (Tue, 17 Oct 2023) |
| EndedAt: 2023-10-17 17:17:51 -0400 (Tue, 17 Oct 2023) |
| EllapsedTime: 908.7 seconds |
| RetCode: 0 |
| Status: OK |
| CheckDir: easier.Rcheck |
| Warnings: 0 |
##############################################################################
##############################################################################
###
### Running command:
###
### /Library/Frameworks/R.framework/Resources/bin/R CMD check --install=check:easier.install-out.txt --library=/Library/Frameworks/R.framework/Resources/library --no-vignettes --timings easier_1.6.3.tar.gz
###
##############################################################################
##############################################################################
* using log directory ‘/Users/biocbuild/bbs-3.17-bioc-mac-arm64/meat/easier.Rcheck’
* using R version 4.3.1 (2023-06-16)
* using platform: aarch64-apple-darwin20 (64-bit)
* R was compiled by
Apple clang version 14.0.0 (clang-1400.0.29.202)
GNU Fortran (GCC) 12.2.0
* running under: macOS Monterey 12.6.7
* using session charset: UTF-8
* using option ‘--no-vignettes’
* checking for file ‘easier/DESCRIPTION’ ... OK
* this is package ‘easier’ version ‘1.6.3’
* package encoding: UTF-8
* checking package namespace information ... OK
* checking package dependencies ... OK
* checking if this is a source package ... OK
* checking if there is a namespace ... OK
* checking for hidden files and directories ... OK
* checking for portable file names ... OK
* checking for sufficient/correct file permissions ... OK
* checking whether package ‘easier’ can be installed ... OK
* checking installed package size ... OK
* checking package directory ... OK
* checking ‘build’ directory ... OK
* checking DESCRIPTION meta-information ... OK
* checking top-level files ... OK
* checking for left-over files ... OK
* checking index information ... OK
* checking package subdirectories ... OK
* checking R files for non-ASCII characters ... OK
* checking R files for syntax errors ... OK
* checking whether the package can be loaded ... OK
* checking whether the package can be loaded with stated dependencies ... OK
* checking whether the package can be unloaded cleanly ... OK
* checking whether the namespace can be loaded with stated dependencies ... OK
* checking whether the namespace can be unloaded cleanly ... OK
* checking dependencies in R code ... NOTE
There are ::: calls to the package's namespace in its code. A package
almost never needs to use ::: for its own objects:
‘reannotate_genes’
* checking S3 generic/method consistency ... OK
* checking replacement functions ... OK
* checking foreign function calls ... OK
* checking R code for possible problems ... NOTE
compute_TF_activity: no visible binding for global variable ‘condition’
compute_TF_activity: no visible binding for global variable ‘score’
Undefined global functions or variables:
condition score
* checking Rd files ... OK
* checking Rd metadata ... OK
* checking Rd cross-references ... OK
* checking for missing documentation entries ... OK
* checking for code/documentation mismatches ... OK
* checking Rd \usage sections ... OK
* checking Rd contents ... OK
* checking for unstated dependencies in examples ... OK
* checking files in ‘vignettes’ ... OK
* checking examples ... OK
Examples with CPU (user + system) or elapsed time > 5s
user system elapsed
compute_cell_fractions 122.886 1.469 185.315
assess_immune_response 28.264 3.321 56.873
explore_biomarkers 30.256 1.303 48.667
retrieve_easier_score 20.259 1.754 36.025
compute_CC_pairs 16.965 1.267 29.073
predict_immune_response 17.194 0.970 31.433
compute_CCpair_score 15.806 1.118 25.802
compute_pathway_activity 11.562 0.476 18.247
compute_LR_pairs 10.576 0.655 18.034
compute_TF_activity 9.088 0.594 16.313
compute_scores_immune_response 6.073 0.366 9.317
* checking for unstated dependencies in ‘tests’ ... OK
* checking tests ...
Running ‘testthat.R’
OK
* checking for unstated dependencies in vignettes ... OK
* checking package vignettes in ‘inst/doc’ ... OK
* checking running R code from vignettes ... SKIPPED
* checking re-building of vignette outputs ... SKIPPED
* checking PDF version of manual ... OK
* DONE
Status: 2 NOTEs
See
‘/Users/biocbuild/bbs-3.17-bioc-mac-arm64/meat/easier.Rcheck/00check.log’
for details.
easier.Rcheck/00install.out
############################################################################## ############################################################################## ### ### Running command: ### ### /Library/Frameworks/R.framework/Resources/bin/R CMD INSTALL easier ### ############################################################################## ############################################################################## * installing to library ‘/Library/Frameworks/R.framework/Versions/4.3-arm64/Resources/library’ * installing *source* package ‘easier’ ... ** using staged installation ** R ** inst ** byte-compile and prepare package for lazy loading ** help *** installing help indices ** building package indices ** installing vignettes ** testing if installed package can be loaded from temporary location ** testing if installed package can be loaded from final location ** testing if installed package keeps a record of temporary installation path * DONE (easier)
easier.Rcheck/tests/testthat.Rout
R version 4.3.1 (2023-06-16) -- "Beagle Scouts"
Copyright (C) 2023 The R Foundation for Statistical Computing
Platform: aarch64-apple-darwin20 (64-bit)
R is free software and comes with ABSOLUTELY NO WARRANTY.
You are welcome to redistribute it under certain conditions.
Type 'license()' or 'licence()' for distribution details.
R is a collaborative project with many contributors.
Type 'contributors()' for more information and
'citation()' on how to cite R or R packages in publications.
Type 'demo()' for some demos, 'help()' for on-line help, or
'help.start()' for an HTML browser interface to help.
Type 'q()' to quit R.
> library(testthat)
> library(easier)
>
> test_check("easier")
Loading required package: MatrixGenerics
Loading required package: matrixStats
Attaching package: 'MatrixGenerics'
The following objects are masked from 'package:matrixStats':
colAlls, colAnyNAs, colAnys, colAvgsPerRowSet, colCollapse,
colCounts, colCummaxs, colCummins, colCumprods, colCumsums,
colDiffs, colIQRDiffs, colIQRs, colLogSumExps, colMadDiffs,
colMads, colMaxs, colMeans2, colMedians, colMins, colOrderStats,
colProds, colQuantiles, colRanges, colRanks, colSdDiffs, colSds,
colSums2, colTabulates, colVarDiffs, colVars, colWeightedMads,
colWeightedMeans, colWeightedMedians, colWeightedSds,
colWeightedVars, rowAlls, rowAnyNAs, rowAnys, rowAvgsPerColSet,
rowCollapse, rowCounts, rowCummaxs, rowCummins, rowCumprods,
rowCumsums, rowDiffs, rowIQRDiffs, rowIQRs, rowLogSumExps,
rowMadDiffs, rowMads, rowMaxs, rowMeans2, rowMedians, rowMins,
rowOrderStats, rowProds, rowQuantiles, rowRanges, rowRanks,
rowSdDiffs, rowSds, rowSums2, rowTabulates, rowVarDiffs, rowVars,
rowWeightedMads, rowWeightedMeans, rowWeightedMedians,
rowWeightedSds, rowWeightedVars
Loading required package: GenomicRanges
Loading required package: stats4
Loading required package: BiocGenerics
Attaching package: 'BiocGenerics'
The following objects are masked from 'package:stats':
IQR, mad, sd, var, xtabs
The following objects are masked from 'package:base':
Filter, Find, Map, Position, Reduce, anyDuplicated, aperm, append,
as.data.frame, basename, cbind, colnames, dirname, do.call,
duplicated, eval, evalq, get, grep, grepl, intersect, is.unsorted,
lapply, mapply, match, mget, order, paste, pmax, pmax.int, pmin,
pmin.int, rank, rbind, rownames, sapply, setdiff, sort, table,
tapply, union, unique, unsplit, which.max, which.min
Loading required package: S4Vectors
Attaching package: 'S4Vectors'
The following object is masked from 'package:utils':
findMatches
The following objects are masked from 'package:base':
I, expand.grid, unname
Loading required package: IRanges
Loading required package: GenomeInfoDb
Loading required package: Biobase
Welcome to Bioconductor
Vignettes contain introductory material; view with
'browseVignettes()'. To cite Bioconductor, see
'citation("Biobase")', and for packages 'citation("pkgname")'.
Attaching package: 'Biobase'
The following object is masked from 'package:MatrixGenerics':
rowMedians
The following objects are masked from 'package:matrixStats':
anyMissing, rowMedians
Retrieving Mariathasan2018_PDL1_treatment dataset...
see ?easierData and browseVignettes('easierData') for documentation
loading from cache
Regulated transcripts found in data set: 3084/3254 (94.8%)
TF activity computed!
Computing predictions using tfs...
Retrieving Mariathasan2018_PDL1_treatment dataset...
see ?easierData and browseVignettes('easierData') for documentation
loading from cache
Regulated transcripts found in data set: 3084/3254 (94.8%)
TF activity computed!
[ FAIL 0 | WARN 0 | SKIP 0 | PASS 2 ]
>
> proc.time()
user system elapsed
45.791 3.510 85.788
easier.Rcheck/easier-Ex.timings
| name | user | system | elapsed | |
| assess_immune_response | 28.264 | 3.321 | 56.873 | |
| calc_z_score | 0 | 0 | 0 | |
| categorize_TMB | 2.912 | 0.198 | 4.566 | |
| compute_CC_pairs | 16.965 | 1.267 | 29.073 | |
| compute_CCpair_score | 15.806 | 1.118 | 25.802 | |
| compute_LR_pairs | 10.576 | 0.655 | 18.034 | |
| compute_TF_activity | 9.088 | 0.594 | 16.313 | |
| compute_cell_fractions | 122.886 | 1.469 | 185.315 | |
| compute_pathway_activity | 11.562 | 0.476 | 18.247 | |
| compute_scores_immune_response | 6.073 | 0.366 | 9.317 | |
| discretize | 0 | 0 | 0 | |
| explore_biomarkers | 30.256 | 1.303 | 48.667 | |
| get_OE_bulk | 0.000 | 0.001 | 0.000 | |
| get_semi_random_OE | 0 | 0 | 0 | |
| predict_immune_response | 17.194 | 0.970 | 31.433 | |
| predict_with_rmtlr | 0 | 0 | 0 | |
| reannotate_genes | 0 | 0 | 0 | |
| retrieve_easier_score | 20.259 | 1.754 | 36.025 | |
| rmtlr_test | 0.000 | 0.000 | 0.001 | |