| Back to Mac ARM64 build report for BioC 3.17 |
|
This page was generated on 2023-10-20 09:38:01 -0400 (Fri, 20 Oct 2023).
| Hostname | OS | Arch (*) | R version | Installed pkgs |
|---|---|---|---|---|
| kjohnson2 | macOS 12.6.1 Monterey | arm64 | 4.3.1 (2023-06-16) -- "Beagle Scouts" | 4347 |
| Click on any hostname to see more info about the system (e.g. compilers) (*) as reported by 'uname -p', except on Windows and Mac OS X | ||||
| Package 526/2230 | Hostname | OS / Arch | INSTALL | BUILD | CHECK | BUILD BIN | ||||||||
| deltaCaptureC 1.14.0 (landing page) Michael Shapiro
| kjohnson2 | macOS 12.6.1 Monterey / arm64 | OK | OK | OK | OK | ||||||||
|
To the developers/maintainers of the deltaCaptureC package: - Use the following Renviron settings to reproduce errors and warnings. - If 'R CMD check' started to fail recently on the Linux builder(s) over a missing dependency, add the missing dependency to 'Suggests:' in your DESCRIPTION file. See Renviron.bioc for more information. |
| Package: deltaCaptureC |
| Version: 1.14.0 |
| Command: /Library/Frameworks/R.framework/Resources/bin/R CMD check --install=check:deltaCaptureC.install-out.txt --library=/Library/Frameworks/R.framework/Resources/library --no-vignettes --timings deltaCaptureC_1.14.0.tar.gz |
| StartedAt: 2023-10-17 14:59:19 -0400 (Tue, 17 Oct 2023) |
| EndedAt: 2023-10-17 15:06:43 -0400 (Tue, 17 Oct 2023) |
| EllapsedTime: 444.1 seconds |
| RetCode: 0 |
| Status: OK |
| CheckDir: deltaCaptureC.Rcheck |
| Warnings: 0 |
##############################################################################
##############################################################################
###
### Running command:
###
### /Library/Frameworks/R.framework/Resources/bin/R CMD check --install=check:deltaCaptureC.install-out.txt --library=/Library/Frameworks/R.framework/Resources/library --no-vignettes --timings deltaCaptureC_1.14.0.tar.gz
###
##############################################################################
##############################################################################
* using log directory ‘/Users/biocbuild/bbs-3.17-bioc-mac-arm64/meat/deltaCaptureC.Rcheck’
* using R version 4.3.1 (2023-06-16)
* using platform: aarch64-apple-darwin20 (64-bit)
* R was compiled by
Apple clang version 14.0.0 (clang-1400.0.29.202)
GNU Fortran (GCC) 12.2.0
* running under: macOS Monterey 12.6.7
* using session charset: UTF-8
* using option ‘--no-vignettes’
* checking for file ‘deltaCaptureC/DESCRIPTION’ ... OK
* this is package ‘deltaCaptureC’ version ‘1.14.0’
* package encoding: UTF-8
* checking package namespace information ... OK
* checking package dependencies ... OK
* checking if this is a source package ... OK
* checking if there is a namespace ... OK
* checking for hidden files and directories ... OK
* checking for portable file names ... OK
* checking for sufficient/correct file permissions ... OK
* checking whether package ‘deltaCaptureC’ can be installed ... OK
* checking installed package size ... OK
* checking package directory ... OK
* checking ‘build’ directory ... OK
* checking DESCRIPTION meta-information ... OK
* checking top-level files ... OK
* checking for left-over files ... OK
* checking index information ... OK
* checking package subdirectories ... OK
* checking R files for non-ASCII characters ... OK
* checking R files for syntax errors ... OK
* checking whether the package can be loaded ... OK
* checking whether the package can be loaded with stated dependencies ... OK
* checking whether the package can be unloaded cleanly ... OK
* checking whether the namespace can be loaded with stated dependencies ... OK
* checking whether the namespace can be unloaded cleanly ... OK
* checking dependencies in R code ... NOTE
Namespace in Imports field not imported from: ‘tictoc’
All declared Imports should be used.
* checking S3 generic/method consistency ... OK
* checking replacement functions ... OK
* checking foreign function calls ... OK
* checking R code for possible problems ... NOTE
getDeltaSE: warning in SummarizedExperiment(assay = list(delta =
delta), colData = colData): partial argument match of 'assay' to
'assays'
plotSignificantRegions: no visible binding for global variable ‘ctr’
plotSignificantRegions: no visible binding for global variable ‘delta’
plotSignificantRegions: no visible binding for global variable
‘significance’
Undefined global functions or variables:
ctr delta significance
* checking Rd files ... OK
* checking Rd metadata ... OK
* checking Rd cross-references ... OK
* checking for missing documentation entries ... OK
* checking for code/documentation mismatches ... OK
* checking Rd \usage sections ... OK
* checking Rd contents ... OK
* checking for unstated dependencies in examples ... OK
* checking contents of ‘data’ directory ... OK
* checking data for non-ASCII characters ... OK
* checking LazyData ... OK
* checking data for ASCII and uncompressed saves ... OK
* checking files in ‘vignettes’ ... OK
* checking examples ... OK
Examples with CPU (user + system) or elapsed time > 5s
user system elapsed
binSummarizedExperiment 99.081 0.948 148.999
getOverlapWeights 12.703 0.113 19.721
* checking for unstated dependencies in vignettes ... OK
* checking package vignettes in ‘inst/doc’ ... OK
* checking running R code from vignettes ... SKIPPED
* checking re-building of vignette outputs ... SKIPPED
* checking PDF version of manual ... OK
* DONE
Status: 2 NOTEs
See
‘/Users/biocbuild/bbs-3.17-bioc-mac-arm64/meat/deltaCaptureC.Rcheck/00check.log’
for details.
deltaCaptureC.Rcheck/00install.out
############################################################################## ############################################################################## ### ### Running command: ### ### /Library/Frameworks/R.framework/Resources/bin/R CMD INSTALL deltaCaptureC ### ############################################################################## ############################################################################## * installing to library ‘/Library/Frameworks/R.framework/Versions/4.3-arm64/Resources/library’ * installing *source* package ‘deltaCaptureC’ ... ** using staged installation ** R ** data *** moving datasets to lazyload DB ** inst ** byte-compile and prepare package for lazy loading ** help *** installing help indices ** building package indices ** installing vignettes ** testing if installed package can be loaded from temporary location ** testing if installed package can be loaded from final location ** testing if installed package keeps a record of temporary installation path * DONE (deltaCaptureC)
deltaCaptureC.Rcheck/deltaCaptureC-Ex.timings
| name | user | system | elapsed | |
| binSummarizedExperiment | 99.081 | 0.948 | 148.999 | |
| downshiftDFtoMatrix | 0.002 | 0.001 | 0.004 | |
| generatePermutation | 0.022 | 0.001 | 0.037 | |
| getDeltaSE | 0.346 | 0.004 | 0.536 | |
| getLopsidedness | 0.089 | 0.001 | 0.137 | |
| getMeanNormalizedCountsSE | 0.200 | 0.002 | 0.307 | |
| getNormalizedCountsSE | 0.156 | 0.002 | 0.244 | |
| getOverlapWeights | 12.703 | 0.113 | 19.721 | |
| getPValueCutoff | 0.001 | 0.000 | 0.001 | |
| getRunTotals | 0.130 | 0.002 | 0.201 | |
| getSizeFactorsDF | 0.002 | 0.000 | 0.003 | |
| getSizeFactorsSE | 0.02 | 0.00 | 0.03 | |
| plotSignificantRegions | 0.061 | 0.001 | 0.095 | |
| rebinToMultiple | 0.603 | 0.006 | 0.939 | |