| Back to Mac ARM64 build report for BioC 3.17 | 
 | 
This page was generated on 2023-10-20 09:38:00 -0400 (Fri, 20 Oct 2023).
| Hostname | OS | Arch (*) | R version | Installed pkgs | 
|---|---|---|---|---|
| kjohnson2 | macOS 12.6.1 Monterey | arm64 | 4.3.1 (2023-06-16) -- "Beagle Scouts" | 4347 | 
| Click on any hostname to see more info about the system (e.g. compilers) (*) as reported by 'uname -p', except on Windows and Mac OS X | ||||
| Package 446/2230 | Hostname | OS / Arch | INSTALL | BUILD | CHECK | BUILD BIN | ||||||||
| cpvSNP 1.32.0  (landing page) Caitlin McHugh 
 | kjohnson2 | macOS 12.6.1 Monterey / arm64 | OK | OK | OK | OK |  | |||||||
| To the developers/maintainers of the cpvSNP package: - Use the following Renviron settings to reproduce errors and warnings. - If 'R CMD check' started to fail recently on the Linux builder(s) over a missing dependency, add the missing dependency to 'Suggests:' in your DESCRIPTION file. See Renviron.bioc for more information. | 
| Package: cpvSNP | 
| Version: 1.32.0 | 
| Command: /Library/Frameworks/R.framework/Resources/bin/R CMD build --keep-empty-dirs --no-resave-data cpvSNP | 
| StartedAt: 2023-10-16 00:27:01 -0400 (Mon, 16 Oct 2023) | 
| EndedAt: 2023-10-16 00:28:23 -0400 (Mon, 16 Oct 2023) | 
| EllapsedTime: 82.4 seconds | 
| RetCode: 0 | 
| Status: OK | 
| PackageFile: cpvSNP_1.32.0.tar.gz | 
| PackageFileSize: 2.003 MiB | 
##############################################################################
##############################################################################
###
### Running command:
###
###   /Library/Frameworks/R.framework/Resources/bin/R CMD build --keep-empty-dirs --no-resave-data cpvSNP
###
##############################################################################
##############################################################################
* checking for file ‘cpvSNP/DESCRIPTION’ ... OK
* preparing ‘cpvSNP’:
* checking DESCRIPTION meta-information ... OK
* installing the package to build vignettes
* creating vignettes ... OK
* checking for LF line-endings in source and make files and shell scripts
* checking for empty or unneeded directories
* looking to see if a ‘data/datalist’ file should be added
  NB: this package now depends on R (>= 3.5.0)
  WARNING: Added dependency on R >= 3.5.0 because serialized objects in
  serialize/load version 3 cannot be read in older versions of R.
  File(s) containing such objects:
    ‘cpvSNP/data/test_genesHg19.RData’
* building ‘cpvSNP_1.32.0.tar.gz’