| Back to Mac ARM64 build report for BioC 3.17 |
|
This page was generated on 2023-10-20 09:38:00 -0400 (Fri, 20 Oct 2023).
| Hostname | OS | Arch (*) | R version | Installed pkgs |
|---|---|---|---|---|
| kjohnson2 | macOS 12.6.1 Monterey | arm64 | 4.3.1 (2023-06-16) -- "Beagle Scouts" | 4347 |
| Click on any hostname to see more info about the system (e.g. compilers) (*) as reported by 'uname -p', except on Windows and Mac OS X | ||||
| Package 373/2230 | Hostname | OS / Arch | INSTALL | BUILD | CHECK | BUILD BIN | ||||||||
| cmapR 1.12.0 (landing page) Ted Natoli
| kjohnson2 | macOS 12.6.1 Monterey / arm64 | OK | OK | OK | OK | ||||||||
|
To the developers/maintainers of the cmapR package: - Use the following Renviron settings to reproduce errors and warnings. - If 'R CMD check' started to fail recently on the Linux builder(s) over a missing dependency, add the missing dependency to 'Suggests:' in your DESCRIPTION file. See Renviron.bioc for more information. |
| Package: cmapR |
| Version: 1.12.0 |
| Command: /Library/Frameworks/R.framework/Resources/bin/R CMD check --install=check:cmapR.install-out.txt --library=/Library/Frameworks/R.framework/Resources/library --no-vignettes --timings cmapR_1.12.0.tar.gz |
| StartedAt: 2023-10-17 10:25:08 -0400 (Tue, 17 Oct 2023) |
| EndedAt: 2023-10-17 10:30:09 -0400 (Tue, 17 Oct 2023) |
| EllapsedTime: 301.6 seconds |
| RetCode: 0 |
| Status: OK |
| CheckDir: cmapR.Rcheck |
| Warnings: 0 |
##############################################################################
##############################################################################
###
### Running command:
###
### /Library/Frameworks/R.framework/Resources/bin/R CMD check --install=check:cmapR.install-out.txt --library=/Library/Frameworks/R.framework/Resources/library --no-vignettes --timings cmapR_1.12.0.tar.gz
###
##############################################################################
##############################################################################
* using log directory ‘/Users/biocbuild/bbs-3.17-bioc-mac-arm64/meat/cmapR.Rcheck’
* using R version 4.3.1 (2023-06-16)
* using platform: aarch64-apple-darwin20 (64-bit)
* R was compiled by
Apple clang version 14.0.0 (clang-1400.0.29.202)
GNU Fortran (GCC) 12.2.0
* running under: macOS Monterey 12.6.7
* using session charset: UTF-8
* using option ‘--no-vignettes’
* checking for file ‘cmapR/DESCRIPTION’ ... OK
* checking extension type ... Package
* this is package ‘cmapR’ version ‘1.12.0’
* checking package namespace information ... OK
* checking package dependencies ... OK
* checking if this is a source package ... OK
* checking if there is a namespace ... OK
* checking for hidden files and directories ... NOTE
Found the following hidden files and directories:
.dockerignore
docs/build/html/.buildinfo
These were most likely included in error. See section ‘Package
structure’ in the ‘Writing R Extensions’ manual.
* checking for portable file names ... OK
* checking for sufficient/correct file permissions ... OK
* checking whether package ‘cmapR’ can be installed ... OK
* checking installed package size ... NOTE
installed size is 5.1Mb
sub-directories of 1Mb or more:
data 2.3Mb
extdata 2.1Mb
* checking package directory ... OK
* checking ‘build’ directory ... OK
* checking DESCRIPTION meta-information ... OK
* checking top-level files ... OK
* checking for left-over files ... OK
* checking index information ... OK
* checking package subdirectories ... OK
* checking R files for non-ASCII characters ... OK
* checking R files for syntax errors ... OK
* checking whether the package can be loaded ... OK
* checking whether the package can be loaded with stated dependencies ... OK
* checking whether the package can be unloaded cleanly ... OK
* checking whether the namespace can be loaded with stated dependencies ... OK
* checking whether the namespace can be unloaded cleanly ... OK
* checking dependencies in R code ... OK
* checking S3 generic/method consistency ... OK
* checking replacement functions ... OK
* checking foreign function calls ... OK
* checking R code for possible problems ... NOTE
aggregate_gct: no visible binding for global variable ‘.SD’
Undefined global functions or variables:
.SD
* checking Rd files ... OK
* checking Rd metadata ... OK
* checking Rd cross-references ... OK
* checking for missing documentation entries ... OK
* checking for code/documentation mismatches ... OK
* checking Rd \usage sections ... OK
* checking Rd contents ... OK
* checking for unstated dependencies in examples ... OK
* checking contents of ‘data’ directory ... OK
* checking data for non-ASCII characters ... OK
* checking LazyData ... OK
* checking data for ASCII and uncompressed saves ... OK
* checking line endings in Makefiles ... OK
* checking for GNU extensions in Makefiles ... OK
* checking include directives in Makefiles ... OK
* checking files in ‘vignettes’ ... OK
* checking examples ... OK
* checking for unstated dependencies in ‘tests’ ... OK
* checking tests ...
Running ‘testthat.R’
OK
* checking for unstated dependencies in vignettes ... OK
* checking package vignettes in ‘inst/doc’ ... OK
* checking running R code from vignettes ... SKIPPED
* checking re-building of vignette outputs ... SKIPPED
* checking PDF version of manual ... OK
* DONE
Status: 3 NOTEs
See
‘/Users/biocbuild/bbs-3.17-bioc-mac-arm64/meat/cmapR.Rcheck/00check.log’
for details.
cmapR.Rcheck/00install.out
############################################################################## ############################################################################## ### ### Running command: ### ### /Library/Frameworks/R.framework/Resources/bin/R CMD INSTALL cmapR ### ############################################################################## ############################################################################## * installing to library ‘/Library/Frameworks/R.framework/Versions/4.3-arm64/Resources/library’ * installing *source* package ‘cmapR’ ... ** using staged installation ** R ** data *** moving datasets to lazyload DB ** inst ** byte-compile and prepare package for lazy loading ** help *** installing help indices ** building package indices ** installing vignettes ** testing if installed package can be loaded from temporary location ** testing if installed package can be loaded from final location ** testing if installed package keeps a record of temporary installation path * DONE (cmapR)
cmapR.Rcheck/tests/testthat.Rout
R version 4.3.1 (2023-06-16) -- "Beagle Scouts"
Copyright (C) 2023 The R Foundation for Statistical Computing
Platform: aarch64-apple-darwin20 (64-bit)
R is free software and comes with ABSOLUTELY NO WARRANTY.
You are welcome to redistribute it under certain conditions.
Type 'license()' or 'licence()' for distribution details.
R is a collaborative project with many contributors.
Type 'contributors()' for more information and
'citation()' on how to cite R or R packages in publications.
Type 'demo()' for some demos, 'help()' for on-line help, or
'help.start()' for an HTML browser interface to help.
Type 'q()' to quit R.
> library(testthat)
> library(cmapR)
>
> test_check("cmapR")
Saving file to foo.gct
Dimensions of matrix: [10x5]
Setting precision to 4
Saved.
Saving file to foo.gct
Dimensions of matrix: [10x5]
Setting precision to 4
Saved.
Saving file to foo.gct
Dimensions of matrix: [10x5]
Setting precision to 4
Saved.
Saving file to ./foo_n272x978.gct
Dimensions of matrix: [978x272]
Setting precision to 4
Saved.
[ FAIL 0 | WARN 0 | SKIP 2 | PASS 168 ]
══ Skipped tests (2) ═══════════════════════════════════════════════════════════
• empty test (2): 'test_0.2_io.R:66:1', 'test_0.2_io.R:115:1'
[ FAIL 0 | WARN 0 | SKIP 2 | PASS 168 ]
>
> proc.time()
user system elapsed
16.471 1.083 27.070
cmapR.Rcheck/cmapR-Ex.timings
| name | user | system | elapsed | |
| GCT | 0.200 | 0.028 | 0.353 | |
| align_matrices | 0.003 | 0.001 | 0.007 | |
| annotate_gct | 0.254 | 0.020 | 0.423 | |
| append_dim | 0.000 | 0.000 | 0.001 | |
| check_colnames | 0.001 | 0.001 | 0.005 | |
| check_dups | 0.001 | 0.000 | 0.001 | |
| distil | 0.001 | 0.001 | 0.004 | |
| extract_gct | 0.507 | 0.009 | 0.798 | |
| fix_datatypes | 0.014 | 0.002 | 0.024 | |
| ids | 0.019 | 0.001 | 0.031 | |
| is.wholenumber | 0.001 | 0.000 | 0.000 | |
| lxb2mat | 0.148 | 0.014 | 0.255 | |
| mat | 0.001 | 0.000 | 0.001 | |
| melt_gct | 1.874 | 0.055 | 2.961 | |
| merge_gct | 0.090 | 0.011 | 0.156 | |
| merge_with_precedence | 0.007 | 0.002 | 0.016 | |
| meta | 0.002 | 0.000 | 0.004 | |
| na_pad_matrix | 0.001 | 0.003 | 0.008 | |
| parse_gctx | 0.220 | 0.017 | 0.372 | |
| parse_gmt | 0.023 | 0.004 | 0.040 | |
| parse_gmx | 0.012 | 0.002 | 0.022 | |
| parse_grp | 0.002 | 0.000 | 0.004 | |
| process_ids | 0.006 | 0.001 | 0.011 | |
| rank_gct | 0.070 | 0.009 | 0.124 | |
| read_gctx_ids | 0.009 | 0.002 | 0.015 | |
| read_gctx_meta | 0.140 | 0.018 | 0.242 | |
| robust_zscore | 0.001 | 0.001 | 0.003 | |
| subset_gct | 0.046 | 0.009 | 0.086 | |
| threshold | 0.000 | 0.000 | 0.001 | |
| transpose_gct | 0.047 | 0.006 | 0.082 | |
| update_gctx | 0.000 | 0.001 | 0.000 | |
| write_gct | 1.228 | 0.338 | 2.432 | |
| write_gctx | 0.246 | 0.035 | 0.435 | |
| write_gctx_meta | 0.000 | 0.000 | 0.001 | |
| write_gmt | 0.000 | 0.000 | 0.001 | |
| write_grp | 0.000 | 0.001 | 0.000 | |
| write_tbl | 0 | 0 | 0 | |