| Back to Mac ARM64 build report for BioC 3.17 | 
 | 
This page was generated on 2023-10-20 09:38:00 -0400 (Fri, 20 Oct 2023).
| Hostname | OS | Arch (*) | R version | Installed pkgs | 
|---|---|---|---|---|
| kjohnson2 | macOS 12.6.1 Monterey | arm64 | 4.3.1 (2023-06-16) -- "Beagle Scouts" | 4347 | 
| Click on any hostname to see more info about the system (e.g. compilers) (*) as reported by 'uname -p', except on Windows and Mac OS X | ||||
| Package 358/2230 | Hostname | OS / Arch | INSTALL | BUILD | CHECK | BUILD BIN | ||||||||
| cliqueMS 1.14.1  (landing page) Oriol Senan Campos 
 | kjohnson2 | macOS 12.6.1 Monterey / arm64 | OK | OK | WARNINGS | OK |  | |||||||
| To the developers/maintainers of the cliqueMS package: - Use the following Renviron settings to reproduce errors and warnings. - If 'R CMD check' started to fail recently on the Linux builder(s) over a missing dependency, add the missing dependency to 'Suggests:' in your DESCRIPTION file. See Renviron.bioc for more information. | 
| Package: cliqueMS | 
| Version: 1.14.1 | 
| Command: /Library/Frameworks/R.framework/Resources/bin/R CMD build --keep-empty-dirs --no-resave-data cliqueMS | 
| StartedAt: 2023-10-15 23:38:32 -0400 (Sun, 15 Oct 2023) | 
| EndedAt: 2023-10-15 23:40:07 -0400 (Sun, 15 Oct 2023) | 
| EllapsedTime: 94.7 seconds | 
| RetCode: 0 | 
| Status: OK | 
| PackageFile: cliqueMS_1.14.1.tar.gz | 
| PackageFileSize: 555.6 KiB | 
############################################################################## ############################################################################## ### ### Running command: ### ### /Library/Frameworks/R.framework/Resources/bin/R CMD build --keep-empty-dirs --no-resave-data cliqueMS ### ############################################################################## ############################################################################## * checking for file ‘cliqueMS/DESCRIPTION’ ... OK * preparing ‘cliqueMS’: * checking DESCRIPTION meta-information ... OK * cleaning src * installing the package to build vignettes * creating vignettes ... OK * cleaning src * checking for LF line-endings in source and make files and shell scripts * checking for empty or unneeded directories * looking to see if a ‘data/datalist’ file should be added * building ‘cliqueMS_1.14.1.tar.gz’