| Back to Mac ARM64 build report for BioC 3.17 | 
 | 
This page was generated on 2023-10-20 09:37:58 -0400 (Fri, 20 Oct 2023).
| Hostname | OS | Arch (*) | R version | Installed pkgs | 
|---|---|---|---|---|
| kjohnson2 | macOS 12.6.1 Monterey | arm64 | 4.3.1 (2023-06-16) -- "Beagle Scouts" | 4347 | 
| Click on any hostname to see more info about the system (e.g. compilers) (*) as reported by 'uname -p', except on Windows and Mac OS X | ||||
| Package 133/2230 | Hostname | OS / Arch | INSTALL | BUILD | CHECK | BUILD BIN | ||||||||
| basilisk 1.12.1  (landing page) Aaron Lun 
 | kjohnson2 | macOS 12.6.1 Monterey / arm64 | OK | OK | TIMEOUT | OK | ||||||||
| To the developers/maintainers of the basilisk package: - Use the following Renviron settings to reproduce errors and warnings. - If 'R CMD check' started to fail recently on the Linux builder(s) over a missing dependency, add the missing dependency to 'Suggests:' in your DESCRIPTION file. See Renviron.bioc for more information. | 
| Package: basilisk | 
| Version: 1.12.1 | 
| Command: rm -rf basilisk.buildbin-libdir && mkdir basilisk.buildbin-libdir && /Users/biocbuild/BBS/utils/build-universal.sh basilisk_1.12.1.tar.gz /Library/Frameworks/R.framework/Resources/bin/R basilisk.buildbin-libdir | 
| StartedAt: 2023-10-19 11:26:09 -0400 (Thu, 19 Oct 2023) | 
| EndedAt: 2023-10-19 11:26:25 -0400 (Thu, 19 Oct 2023) | 
| EllapsedTime: 15.7 seconds | 
| RetCode: 0 | 
| Status: OK | 
| PackageFile: basilisk_1.12.1.tgz | 
| PackageFileSize: 302.7 KiB | 
############################################################################## ############################################################################## ### ### Running command: ### ### rm -rf basilisk.buildbin-libdir && mkdir basilisk.buildbin-libdir && /Users/biocbuild/BBS/utils/build-universal.sh basilisk_1.12.1.tar.gz /Library/Frameworks/R.framework/Resources/bin/R basilisk.buildbin-libdir ### ############################################################################## ############################################################################## >>>>>>> >>>>>>> INSTALLATION WITH 'R CMD INSTALL --preclean --no-multiarch --library=basilisk.buildbin-libdir basilisk_1.12.1.tar.gz' >>>>>>> * installing *source* package ‘basilisk’ ... ** using non-staged installation via StagedInstall field ** R ** inst ** byte-compile and prepare package for lazy loading ** help *** installing help indices ** building package indices ** installing vignettes ** testing if installed package can be loaded * DONE (basilisk)