| Back to Mac ARM64 build report for BioC 3.17 |
|
This page was generated on 2023-10-20 09:38:15 -0400 (Fri, 20 Oct 2023).
| Hostname | OS | Arch (*) | R version | Installed pkgs |
|---|---|---|---|---|
| kjohnson2 | macOS 12.6.1 Monterey | arm64 | 4.3.1 (2023-06-16) -- "Beagle Scouts" | 4347 |
| Click on any hostname to see more info about the system (e.g. compilers) (*) as reported by 'uname -p', except on Windows and Mac OS X | ||||
| Package 2223/2230 | Hostname | OS / Arch | INSTALL | BUILD | CHECK | BUILD BIN | ||||||||
| YAPSA 1.26.8 (landing page) Zuguang Gu
| kjohnson2 | macOS 12.6.1 Monterey / arm64 | OK | OK | OK | OK | ||||||||
|
To the developers/maintainers of the YAPSA package: - Use the following Renviron settings to reproduce errors and warnings. - If 'R CMD check' started to fail recently on the Linux builder(s) over a missing dependency, add the missing dependency to 'Suggests:' in your DESCRIPTION file. See Renviron.bioc for more information. |
| Package: YAPSA |
| Version: 1.26.8 |
| Command: /Library/Frameworks/R.framework/Resources/bin/R CMD check --install=check:YAPSA.install-out.txt --library=/Library/Frameworks/R.framework/Resources/library --no-vignettes --timings YAPSA_1.26.8.tar.gz |
| StartedAt: 2023-10-19 10:30:58 -0400 (Thu, 19 Oct 2023) |
| EndedAt: 2023-10-19 10:50:03 -0400 (Thu, 19 Oct 2023) |
| EllapsedTime: 1144.7 seconds |
| RetCode: 0 |
| Status: OK |
| CheckDir: YAPSA.Rcheck |
| Warnings: 0 |
##############################################################################
##############################################################################
###
### Running command:
###
### /Library/Frameworks/R.framework/Resources/bin/R CMD check --install=check:YAPSA.install-out.txt --library=/Library/Frameworks/R.framework/Resources/library --no-vignettes --timings YAPSA_1.26.8.tar.gz
###
##############################################################################
##############################################################################
* using log directory ‘/Users/biocbuild/bbs-3.17-bioc-mac-arm64/meat/YAPSA.Rcheck’
* using R version 4.3.1 (2023-06-16)
* using platform: aarch64-apple-darwin20 (64-bit)
* R was compiled by
Apple clang version 14.0.0 (clang-1400.0.29.202)
GNU Fortran (GCC) 12.2.0
* running under: macOS Monterey 12.6.7
* using session charset: UTF-8
* using option ‘--no-vignettes’
* checking for file ‘YAPSA/DESCRIPTION’ ... OK
* checking extension type ... Package
* this is package ‘YAPSA’ version ‘1.26.8’
* package encoding: UTF-8
* checking package namespace information ... OK
* checking package dependencies ... OK
* checking if this is a source package ... OK
* checking if there is a namespace ... OK
* checking for hidden files and directories ... OK
* checking for portable file names ... OK
* checking for sufficient/correct file permissions ... OK
* checking whether package ‘YAPSA’ can be installed ... OK
* checking installed package size ... OK
* checking package directory ... OK
* checking ‘build’ directory ... OK
* checking DESCRIPTION meta-information ... OK
* checking top-level files ... OK
* checking for left-over files ... OK
* checking index information ... OK
* checking package subdirectories ... OK
* checking R files for non-ASCII characters ... OK
* checking R files for syntax errors ... OK
* checking whether the package can be loaded ... OK
* checking whether the package can be loaded with stated dependencies ... OK
* checking whether the package can be unloaded cleanly ... OK
* checking whether the namespace can be loaded with stated dependencies ... OK
* checking whether the namespace can be unloaded cleanly ... OK
* checking dependencies in R code ... OK
* checking S3 generic/method consistency ... OK
* checking replacement functions ... OK
* checking foreign function calls ... OK
* checking R code for possible problems ... OK
* checking Rd files ... OK
* checking Rd metadata ... OK
* checking Rd cross-references ... OK
* checking for missing documentation entries ... OK
* checking for code/documentation mismatches ... OK
* checking Rd \usage sections ... OK
* checking Rd contents ... OK
* checking for unstated dependencies in examples ... OK
* checking contents of ‘data’ directory ... OK
* checking data for non-ASCII characters ... OK
* checking data for ASCII and uncompressed saves ... OK
* checking files in ‘vignettes’ ... OK
* checking examples ... OK
Examples with CPU (user + system) or elapsed time > 5s
user system elapsed
confidence_indel_only_calulation 27.457 7.102 81.724
create_indel_mutation_catalogue_from_df 18.925 1.515 40.307
build_gene_list_for_pathway 7.002 1.769 37.235
run_SMC 6.578 0.497 11.941
exposures_barplot 3.755 0.096 7.091
variateExp 3.356 0.231 6.268
confIntExp 2.035 0.683 6.491
* checking for unstated dependencies in ‘tests’ ... OK
* checking tests ...
Running ‘testthat.R’
OK
* checking for unstated dependencies in vignettes ... OK
* checking package vignettes in ‘inst/doc’ ... OK
* checking running R code from vignettes ... SKIPPED
* checking re-building of vignette outputs ... SKIPPED
* checking PDF version of manual ... OK
* DONE
Status: OK
YAPSA.Rcheck/00install.out
############################################################################## ############################################################################## ### ### Running command: ### ### /Library/Frameworks/R.framework/Resources/bin/R CMD INSTALL YAPSA ### ############################################################################## ############################################################################## * installing to library ‘/Library/Frameworks/R.framework/Versions/4.3-arm64/Resources/library’ * installing *source* package ‘YAPSA’ ... ** using staged installation ** R ** data ** inst ** byte-compile and prepare package for lazy loading ** help *** installing help indices ** building package indices ** installing vignettes ** testing if installed package can be loaded from temporary location ** testing if installed package can be loaded from final location ** testing if installed package keeps a record of temporary installation path * DONE (YAPSA)
YAPSA.Rcheck/tests/testthat.Rout
R version 4.3.1 (2023-06-16) -- "Beagle Scouts"
Copyright (C) 2023 The R Foundation for Statistical Computing
Platform: aarch64-apple-darwin20 (64-bit)
R is free software and comes with ABSOLUTELY NO WARRANTY.
You are welcome to redistribute it under certain conditions.
Type 'license()' or 'licence()' for distribution details.
R is a collaborative project with many contributors.
Type 'contributors()' for more information and
'citation()' on how to cite R or R packages in publications.
Type 'demo()' for some demos, 'help()' for on-line help, or
'help.start()' for an HTML browser interface to help.
Type 'q()' to quit R.
> Sys.setenv(R_TESTS=" ")
> library(testthat)
> library(YAPSA)
Loading required package: GenomicRanges
Loading required package: stats4
Loading required package: BiocGenerics
Attaching package: 'BiocGenerics'
The following objects are masked from 'package:stats':
IQR, mad, sd, var, xtabs
The following objects are masked from 'package:base':
Filter, Find, Map, Position, Reduce, anyDuplicated, aperm, append,
as.data.frame, basename, cbind, colnames, dirname, do.call,
duplicated, eval, evalq, get, grep, grepl, intersect, is.unsorted,
lapply, mapply, match, mget, order, paste, pmax, pmax.int, pmin,
pmin.int, rank, rbind, rownames, sapply, setdiff, sort, table,
tapply, union, unique, unsplit, which.max, which.min
Loading required package: S4Vectors
Attaching package: 'S4Vectors'
The following object is masked from 'package:utils':
findMatches
The following objects are masked from 'package:base':
I, expand.grid, unname
Loading required package: IRanges
Loading required package: GenomeInfoDb
Loading required package: ggplot2
Loading required package: grid
>
> test_check("YAPSA")
YAPSA:::shapiro_if_possible::error: Non-numeric inputYAPSA:::makeVRangesFromDataFrame::warning:strand information missing, set to "+".
YAPSA:::makeVRangesFromDataFrame::in_PID.field found. Retrieving PID information.
YAPSA:::makeVRangesFromDataFrame::in_subgroup.field found. Retrieving subgroup information.
[ FAIL 0 | WARN 1 | SKIP 0 | PASS 62 ]
[ FAIL 0 | WARN 1 | SKIP 0 | PASS 62 ]
>
> proc.time()
user system elapsed
21.485 1.321 39.558
YAPSA.Rcheck/YAPSA-Ex.timings
| name | user | system | elapsed | |
| GenomeOfNl_raw | 0.011 | 0.004 | 0.044 | |
| LCD | 0.010 | 0.003 | 0.033 | |
| LCD_complex_cutoff | 0 | 0 | 0 | |
| MutCat_indel_df | 0.004 | 0.003 | 0.015 | |
| SMC | 0 | 0 | 0 | |
| SMC_perPID | 0.000 | 0.000 | 0.001 | |
| add_annotation | 0 | 0 | 0 | |
| add_as_fist_to_list | 0 | 0 | 0 | |
| aggregate_exposures_by_category | 0.000 | 0.000 | 0.001 | |
| annotate_intermut_dist_PID | 0.024 | 0.005 | 0.078 | |
| annotate_intermut_dist_cohort | 0.029 | 0.006 | 0.068 | |
| annotation_exposures_barplot | 0 | 0 | 0 | |
| annotation_exposures_list_barplot | 0 | 0 | 0 | |
| annotation_heatmap_exposures | 0 | 0 | 0 | |
| attribute_nucleotide_exchanges | 0.003 | 0.002 | 0.008 | |
| attribute_sequence_contex_indel | 0.915 | 0.098 | 2.174 | |
| attribution_of_indels | 0.652 | 0.067 | 1.915 | |
| build_gene_list_for_pathway | 7.002 | 1.769 | 37.235 | |
| classify_indels | 0.000 | 0.001 | 0.001 | |
| compare_SMCs | 0 | 0 | 0 | |
| compare_exposures | 0 | 0 | 0 | |
| compare_expousre_sets | 0.004 | 0.003 | 0.008 | |
| compare_sets | 0.004 | 0.001 | 0.019 | |
| compare_to_catalogues | 0 | 0 | 0 | |
| complex_heatmap_exposures | 1.227 | 0.334 | 3.579 | |
| computeLogLik | 0 | 0 | 0 | |
| compute_comparison_stat_df | 0.001 | 0.000 | 0.000 | |
| confIntExp | 2.035 | 0.683 | 6.491 | |
| confidence_indel_calulation | 0.001 | 0.002 | 0.003 | |
| confidence_indel_only_calulation | 27.457 | 7.102 | 81.724 | |
| correct_rounded | 0 | 0 | 0 | |
| cosineDist | 0.000 | 0.000 | 0.001 | |
| cosineMatchDist | 0.002 | 0.001 | 0.004 | |
| create_indel_mut_cat_from_df | 0.648 | 0.055 | 1.710 | |
| create_indel_mutation_catalogue_from_df | 18.925 | 1.515 | 40.307 | |
| create_mutation_catalogue_from_VR | 1.798 | 0.612 | 4.866 | |
| create_mutation_catalogue_from_df | 1.341 | 0.223 | 3.061 | |
| cut_breaks_as_intervals | 0.178 | 0.020 | 0.332 | |
| deriveSigInd_df | 0 | 0 | 0 | |
| disambiguateVector | 0 | 0 | 0 | |
| enrichSigs | 0 | 0 | 0 | |
| exampleYAPSA | 0.089 | 0.012 | 0.194 | |
| exome_mutCatRaw_df | 0.011 | 0.004 | 0.027 | |
| exposures_barplot | 3.755 | 0.096 | 7.091 | |
| extract_names_from_gene_list | 0 | 0 | 0 | |
| find_affected_PIDs | 0.000 | 0.000 | 0.001 | |
| getSequenceContext | 0.226 | 0.014 | 0.417 | |
| get_extreme_PIDs | 0.009 | 0.003 | 0.022 | |
| hclust_exposures | 0.007 | 0.003 | 0.014 | |
| logLikelihood | 1.331 | 0.369 | 3.534 | |
| lymphomaNature2013_mutCat_df | 0.006 | 0.003 | 0.018 | |
| makeVRangesFromDataFrame | 0.148 | 0.006 | 0.277 | |
| make_catalogue_strata_df | 0 | 0 | 0 | |
| make_comparison_matrix | 0.099 | 0.014 | 0.197 | |
| make_strata_df | 0.000 | 0.000 | 0.001 | |
| make_subgroups_df | 0.040 | 0.007 | 0.085 | |
| melt_exposures | 0 | 0 | 0 | |
| merge_exposures | 0 | 0 | 0 | |
| normalizeMotifs_otherRownames | 0 | 0 | 0 | |
| normalize_df_per_dim | 0.012 | 0.002 | 0.025 | |
| plotExchangeSpectra | 0 | 0 | 0 | |
| plotExchangeSpectra_indel | 1.813 | 0.028 | 3.051 | |
| plotExposuresConfidence | 0.000 | 0.000 | 0.001 | |
| plotExposuresConfidence_indel | 0.000 | 0.000 | 0.001 | |
| plot_SMC | 0 | 0 | 0 | |
| plot_exposures | 0.814 | 0.020 | 1.299 | |
| plot_strata | 0 | 0 | 0 | |
| read_entry | 0.000 | 0.000 | 0.001 | |
| relateSigs | 0 | 0 | 0 | |
| repeat_df | 0.003 | 0.001 | 0.004 | |
| round_precision | 0.001 | 0.000 | 0.001 | |
| run_SMC | 6.578 | 0.497 | 11.941 | |
| run_annotate_vcf_pl | 0 | 0 | 0 | |
| run_comparison_catalogues | 0 | 0 | 0 | |
| run_comparison_general | 0 | 0 | 0 | |
| run_kmer_frequency_correction | 0.000 | 0.001 | 0.000 | |
| run_kmer_frequency_normalization | 0 | 0 | 0 | |
| run_plot_strata_general | 0 | 0 | 0 | |
| shapiro_if_possible | 0.001 | 0.000 | 0.005 | |
| split_exposures_by_subgroups | 0 | 0 | 0 | |
| stat_plot_subgroups | 0.000 | 0.000 | 0.001 | |
| stat_test_SMC | 0 | 0 | 0 | |
| stat_test_subgroups | 0 | 0 | 0 | |
| stderrmean | 0.000 | 0.001 | 0.001 | |
| sum_over_list_of_df | 0.002 | 0.001 | 0.006 | |
| testSigs | 0 | 0 | 0 | |
| test_exposureAffected | 0.000 | 0.001 | 0.001 | |
| test_gene_list_in_exposures | 0.001 | 0.000 | 0.000 | |
| transform_rownames_R_to_MATLAB | 0 | 0 | 0 | |
| translate_to_hg19 | 0.005 | 0.001 | 0.012 | |
| trellis_rainfall_plot | 2.291 | 0.043 | 4.113 | |
| variateExp | 3.356 | 0.231 | 6.268 | |
| variateExpSingle | 1.368 | 0.159 | 2.699 | |