| Back to Mac ARM64 build report for BioC 3.17 |
|
This page was generated on 2023-10-20 09:38:12 -0400 (Fri, 20 Oct 2023).
| Hostname | OS | Arch (*) | R version | Installed pkgs |
|---|---|---|---|---|
| kjohnson2 | macOS 12.6.1 Monterey | arm64 | 4.3.1 (2023-06-16) -- "Beagle Scouts" | 4347 |
| Click on any hostname to see more info about the system (e.g. compilers) (*) as reported by 'uname -p', except on Windows and Mac OS X | ||||
| Package 1973/2230 | Hostname | OS / Arch | INSTALL | BUILD | CHECK | BUILD BIN | ||||||||
| SpatialDecon 1.10.0 (landing page) Maddy Griswold
| kjohnson2 | macOS 12.6.1 Monterey / arm64 | OK | OK | OK | OK | ||||||||
|
To the developers/maintainers of the SpatialDecon package: - Use the following Renviron settings to reproduce errors and warnings. - If 'R CMD check' started to fail recently on the Linux builder(s) over a missing dependency, add the missing dependency to 'Suggests:' in your DESCRIPTION file. See Renviron.bioc for more information. |
| Package: SpatialDecon |
| Version: 1.10.0 |
| Command: /Library/Frameworks/R.framework/Resources/bin/R CMD check --install=check:SpatialDecon.install-out.txt --library=/Library/Frameworks/R.framework/Resources/library --no-vignettes --timings SpatialDecon_1.10.0.tar.gz |
| StartedAt: 2023-10-19 03:07:49 -0400 (Thu, 19 Oct 2023) |
| EndedAt: 2023-10-19 03:29:20 -0400 (Thu, 19 Oct 2023) |
| EllapsedTime: 1291.2 seconds |
| RetCode: 0 |
| Status: OK |
| CheckDir: SpatialDecon.Rcheck |
| Warnings: 0 |
##############################################################################
##############################################################################
###
### Running command:
###
### /Library/Frameworks/R.framework/Resources/bin/R CMD check --install=check:SpatialDecon.install-out.txt --library=/Library/Frameworks/R.framework/Resources/library --no-vignettes --timings SpatialDecon_1.10.0.tar.gz
###
##############################################################################
##############################################################################
* using log directory ‘/Users/biocbuild/bbs-3.17-bioc-mac-arm64/meat/SpatialDecon.Rcheck’
* using R version 4.3.1 (2023-06-16)
* using platform: aarch64-apple-darwin20 (64-bit)
* R was compiled by
Apple clang version 14.0.0 (clang-1400.0.29.202)
GNU Fortran (GCC) 12.2.0
* running under: macOS Monterey 12.6.7
* using session charset: UTF-8
* using option ‘--no-vignettes’
* checking for file ‘SpatialDecon/DESCRIPTION’ ... OK
* this is package ‘SpatialDecon’ version ‘1.10.0’
* package encoding: UTF-8
* checking package namespace information ... OK
* checking package dependencies ... OK
* checking if this is a source package ... OK
* checking if there is a namespace ... OK
* checking for hidden files and directories ... OK
* checking for portable file names ... OK
* checking for sufficient/correct file permissions ... OK
* checking whether package ‘SpatialDecon’ can be installed ... OK
* checking installed package size ... OK
* checking package directory ... OK
* checking ‘build’ directory ... OK
* checking DESCRIPTION meta-information ... OK
* checking top-level files ... OK
* checking for left-over files ... OK
* checking index information ... OK
* checking package subdirectories ... OK
* checking R files for non-ASCII characters ... OK
* checking R files for syntax errors ... OK
* checking whether the package can be loaded ... OK
* checking whether the package can be loaded with stated dependencies ... OK
* checking whether the package can be unloaded cleanly ... OK
* checking whether the namespace can be loaded with stated dependencies ... OK
* checking whether the namespace can be unloaded cleanly ... OK
* checking dependencies in R code ... OK
* checking S3 generic/method consistency ... OK
* checking replacement functions ... OK
* checking foreign function calls ... OK
* checking R code for possible problems ... NOTE
download_profile_matrix: no visible binding for global variable
‘profile_matrix’
Undefined global functions or variables:
profile_matrix
* checking Rd files ... OK
* checking Rd metadata ... OK
* checking Rd cross-references ... OK
* checking for missing documentation entries ... OK
* checking for code/documentation mismatches ... OK
* checking Rd \usage sections ... OK
* checking Rd contents ... OK
* checking for unstated dependencies in examples ... OK
* checking contents of ‘data’ directory ... OK
* checking data for non-ASCII characters ... OK
* checking LazyData ... OK
* checking data for ASCII and uncompressed saves ... OK
* checking files in ‘vignettes’ ... OK
* checking examples ... OK
Examples with CPU (user + system) or elapsed time > 5s
user system elapsed
runCollapseCellTypes 85.974 3.079 162.344
runReverseDecon 85.653 2.864 167.741
runspatialdecon 57.304 1.309 121.362
runMergeTumorIntoX 18.651 0.241 34.347
runErrorModel 18.170 0.240 32.423
reverseDecon 7.694 0.265 14.574
SpatialDecon-package 4.923 0.069 9.254
spatialdecon 4.580 0.240 9.826
download_profile_matrix 0.334 0.586 9.131
* checking for unstated dependencies in ‘tests’ ... OK
* checking tests ...
Running ‘testthat.R’
OK
* checking for unstated dependencies in vignettes ... OK
* checking package vignettes in ‘inst/doc’ ... OK
* checking running R code from vignettes ... SKIPPED
* checking re-building of vignette outputs ... SKIPPED
* checking PDF version of manual ... OK
* DONE
Status: 1 NOTE
See
‘/Users/biocbuild/bbs-3.17-bioc-mac-arm64/meat/SpatialDecon.Rcheck/00check.log’
for details.
SpatialDecon.Rcheck/00install.out
############################################################################## ############################################################################## ### ### Running command: ### ### /Library/Frameworks/R.framework/Resources/bin/R CMD INSTALL SpatialDecon ### ############################################################################## ############################################################################## * installing to library ‘/Library/Frameworks/R.framework/Versions/4.3-arm64/Resources/library’ * installing *source* package ‘SpatialDecon’ ... ** using staged installation ** R ** data *** moving datasets to lazyload DB ** byte-compile and prepare package for lazy loading ** help *** installing help indices ** building package indices ** installing vignettes ** testing if installed package can be loaded from temporary location ** testing if installed package can be loaded from final location ** testing if installed package keeps a record of temporary installation path * DONE (SpatialDecon)
SpatialDecon.Rcheck/tests/testthat.Rout
R version 4.3.1 (2023-06-16) -- "Beagle Scouts"
Copyright (C) 2023 The R Foundation for Statistical Computing
Platform: aarch64-apple-darwin20 (64-bit)
R is free software and comes with ABSOLUTELY NO WARRANTY.
You are welcome to redistribute it under certain conditions.
Type 'license()' or 'licence()' for distribution details.
R is a collaborative project with many contributors.
Type 'contributors()' for more information and
'citation()' on how to cite R or R packages in publications.
Type 'demo()' for some demos, 'help()' for on-line help, or
'help.start()' for an HTML browser interface to help.
Type 'q()' to quit R.
> library(testthat)
> library(SpatialDecon)
The legacy packages maptools, rgdal, and rgeos, underpinning the sp package,
which was just loaded, will retire in October 2023.
Please refer to R-spatial evolution reports for details, especially
https://r-spatial.org/r/2023/05/15/evolution4.html.
It may be desirable to make the sf package available;
package maintainers should consider adding sf to Suggests:.
The sp package is now running under evolution status 2
(status 2 uses the sf package in place of rgdal)
>
> test_check("SpatialDecon")
[1] "Creating Atlas"
[1] "1 / 4 : B"
[1] "2 / 4 : C"
[1] "3 / 4 : A"
[1] "4 / 4 : D"
[ FAIL 0 | WARN 0 | SKIP 0 | PASS 85 ]
>
> proc.time()
user system elapsed
181.775 8.182 391.759
SpatialDecon.Rcheck/SpatialDecon-Ex.timings
| name | user | system | elapsed | |
| SpatialDecon-package | 4.923 | 0.069 | 9.254 | |
| TIL_barplot | 1.498 | 0.021 | 2.795 | |
| collapseCellTypes | 1.506 | 0.019 | 2.719 | |
| create_profile_matrix | 0.615 | 0.023 | 1.249 | |
| derive_GeoMx_background | 0.004 | 0.001 | 0.009 | |
| download_profile_matrix | 0.334 | 0.586 | 9.131 | |
| florets | 1.483 | 0.028 | 2.715 | |
| mergeTumorIntoX | 0.012 | 0.002 | 0.026 | |
| reverseDecon | 7.694 | 0.265 | 14.574 | |
| runCollapseCellTypes | 85.974 | 3.079 | 162.344 | |
| runErrorModel | 18.170 | 0.240 | 32.423 | |
| runMergeTumorIntoX | 18.651 | 0.241 | 34.347 | |
| runReverseDecon | 85.653 | 2.864 | 167.741 | |
| runspatialdecon | 57.304 | 1.309 | 121.362 | |
| spatialdecon | 4.580 | 0.240 | 9.826 | |