| Back to Mac ARM64 build report for BioC 3.17 |
|
This page was generated on 2023-10-20 09:38:12 -0400 (Fri, 20 Oct 2023).
| Hostname | OS | Arch (*) | R version | Installed pkgs |
|---|---|---|---|---|
| kjohnson2 | macOS 12.6.1 Monterey | arm64 | 4.3.1 (2023-06-16) -- "Beagle Scouts" | 4347 |
| Click on any hostname to see more info about the system (e.g. compilers) (*) as reported by 'uname -p', except on Windows and Mac OS X | ||||
| Package 1923/2230 | Hostname | OS / Arch | INSTALL | BUILD | CHECK | BUILD BIN | ||||||||
| SimBu 1.2.0 (landing page) Alexander Dietrich
| kjohnson2 | macOS 12.6.1 Monterey / arm64 | OK | OK | OK | OK | ||||||||
|
To the developers/maintainers of the SimBu package: - Use the following Renviron settings to reproduce errors and warnings. - If 'R CMD check' started to fail recently on the Linux builder(s) over a missing dependency, add the missing dependency to 'Suggests:' in your DESCRIPTION file. See Renviron.bioc for more information. |
| Package: SimBu |
| Version: 1.2.0 |
| Command: /Library/Frameworks/R.framework/Resources/bin/R CMD check --install=check:SimBu.install-out.txt --library=/Library/Frameworks/R.framework/Resources/library --no-vignettes --timings SimBu_1.2.0.tar.gz |
| StartedAt: 2023-10-19 01:24:40 -0400 (Thu, 19 Oct 2023) |
| EndedAt: 2023-10-19 01:38:09 -0400 (Thu, 19 Oct 2023) |
| EllapsedTime: 808.8 seconds |
| RetCode: 0 |
| Status: OK |
| CheckDir: SimBu.Rcheck |
| Warnings: 0 |
##############################################################################
##############################################################################
###
### Running command:
###
### /Library/Frameworks/R.framework/Resources/bin/R CMD check --install=check:SimBu.install-out.txt --library=/Library/Frameworks/R.framework/Resources/library --no-vignettes --timings SimBu_1.2.0.tar.gz
###
##############################################################################
##############################################################################
* using log directory ‘/Users/biocbuild/bbs-3.17-bioc-mac-arm64/meat/SimBu.Rcheck’
* using R version 4.3.1 (2023-06-16)
* using platform: aarch64-apple-darwin20 (64-bit)
* R was compiled by
Apple clang version 14.0.0 (clang-1400.0.29.202)
GNU Fortran (GCC) 12.2.0
* running under: macOS Monterey 12.6.7
* using session charset: UTF-8
* using option ‘--no-vignettes’
* checking for file ‘SimBu/DESCRIPTION’ ... OK
* this is package ‘SimBu’ version ‘1.2.0’
* package encoding: UTF-8
* checking package namespace information ... OK
* checking package dependencies ... OK
* checking if this is a source package ... OK
* checking if there is a namespace ... OK
* checking for hidden files and directories ... NOTE
Found the following hidden files and directories:
.BBSoptions
.pre-commit-config.yaml
.prettierignore
These were most likely included in error. See section ‘Package
structure’ in the ‘Writing R Extensions’ manual.
* checking for portable file names ... OK
* checking for sufficient/correct file permissions ... OK
* checking whether package ‘SimBu’ can be installed ... NOTE
Found the following notes/warnings:
Non-staged installation was used
See ‘/Users/biocbuild/bbs-3.17-bioc-mac-arm64/meat/SimBu.Rcheck/00install.out’ for details.
* checking installed package size ... OK
* checking package directory ... OK
* checking ‘build’ directory ... OK
* checking DESCRIPTION meta-information ... OK
* checking top-level files ... OK
* checking for left-over files ... OK
* checking index information ... OK
* checking package subdirectories ... OK
* checking R files for non-ASCII characters ... OK
* checking R files for syntax errors ... OK
* checking whether the package can be loaded ... OK
* checking whether the package can be loaded with stated dependencies ... OK
* checking whether the package can be unloaded cleanly ... OK
* checking whether the namespace can be loaded with stated dependencies ... OK
* checking whether the namespace can be unloaded cleanly ... OK
* checking dependencies in R code ... OK
* checking S3 generic/method consistency ... OK
* checking replacement functions ... OK
* checking foreign function calls ... OK
* checking R code for possible problems ... OK
* checking Rd files ... OK
* checking Rd metadata ... OK
* checking Rd cross-references ... OK
* checking for missing documentation entries ... OK
* checking for code/documentation mismatches ... OK
* checking Rd \usage sections ... OK
* checking Rd contents ... OK
* checking for unstated dependencies in examples ... OK
* checking line endings in shell scripts ... OK
* checking files in ‘vignettes’ ... OK
* checking examples ... OK
Examples with CPU (user + system) or elapsed time > 5s
user system elapsed
setup_sfaira 204.683 40.586 523.070
simulate_bulk 14.572 1.003 27.658
dataset 5.503 0.207 10.063
dataset_seurat 3.934 0.363 7.703
merge_simulations 3.829 0.071 6.946
* checking for unstated dependencies in ‘tests’ ... OK
* checking tests ...
Running ‘testthat.R’
OK
* checking for unstated dependencies in vignettes ... OK
* checking package vignettes in ‘inst/doc’ ... OK
* checking running R code from vignettes ... SKIPPED
* checking re-building of vignette outputs ... SKIPPED
* checking PDF version of manual ... OK
* DONE
Status: 2 NOTEs
See
‘/Users/biocbuild/bbs-3.17-bioc-mac-arm64/meat/SimBu.Rcheck/00check.log’
for details.
SimBu.Rcheck/00install.out
############################################################################## ############################################################################## ### ### Running command: ### ### /Library/Frameworks/R.framework/Resources/bin/R CMD INSTALL SimBu ### ############################################################################## ############################################################################## * installing to library ‘/Library/Frameworks/R.framework/Versions/4.3-arm64/Resources/library’ * installing *source* package ‘SimBu’ ... ** using non-staged installation via StagedInstall field ** R ** inst ** byte-compile and prepare package for lazy loading ** help *** installing help indices ** building package indices ** installing vignettes ** testing if installed package can be loaded * DONE (SimBu)
SimBu.Rcheck/tests/testthat.Rout
R version 4.3.1 (2023-06-16) -- "Beagle Scouts"
Copyright (C) 2023 The R Foundation for Statistical Computing
Platform: aarch64-apple-darwin20 (64-bit)
R is free software and comes with ABSOLUTELY NO WARRANTY.
You are welcome to redistribute it under certain conditions.
Type 'license()' or 'licence()' for distribution details.
R is a collaborative project with many contributors.
Type 'contributors()' for more information and
'citation()' on how to cite R or R packages in publications.
Type 'demo()' for some demos, 'help()' for on-line help, or
'help.start()' for an HTML browser interface to help.
Type 'q()' to quit R.
> library(testthat)
> library(SimBu)
>
> test_check("SimBu")
Loading required package: MatrixGenerics
Loading required package: matrixStats
Attaching package: 'MatrixGenerics'
The following objects are masked from 'package:matrixStats':
colAlls, colAnyNAs, colAnys, colAvgsPerRowSet, colCollapse,
colCounts, colCummaxs, colCummins, colCumprods, colCumsums,
colDiffs, colIQRDiffs, colIQRs, colLogSumExps, colMadDiffs,
colMads, colMaxs, colMeans2, colMedians, colMins, colOrderStats,
colProds, colQuantiles, colRanges, colRanks, colSdDiffs, colSds,
colSums2, colTabulates, colVarDiffs, colVars, colWeightedMads,
colWeightedMeans, colWeightedMedians, colWeightedSds,
colWeightedVars, rowAlls, rowAnyNAs, rowAnys, rowAvgsPerColSet,
rowCollapse, rowCounts, rowCummaxs, rowCummins, rowCumprods,
rowCumsums, rowDiffs, rowIQRDiffs, rowIQRs, rowLogSumExps,
rowMadDiffs, rowMads, rowMaxs, rowMeans2, rowMedians, rowMins,
rowOrderStats, rowProds, rowQuantiles, rowRanges, rowRanks,
rowSdDiffs, rowSds, rowSums2, rowTabulates, rowVarDiffs, rowVars,
rowWeightedMads, rowWeightedMeans, rowWeightedMedians,
rowWeightedSds, rowWeightedVars
Loading required package: GenomicRanges
Loading required package: stats4
Loading required package: BiocGenerics
Attaching package: 'BiocGenerics'
The following objects are masked from 'package:stats':
IQR, mad, sd, var, xtabs
The following objects are masked from 'package:base':
Filter, Find, Map, Position, Reduce, anyDuplicated, aperm, append,
as.data.frame, basename, cbind, colnames, dirname, do.call,
duplicated, eval, evalq, get, grep, grepl, intersect, is.unsorted,
lapply, mapply, match, mget, order, paste, pmax, pmax.int, pmin,
pmin.int, rank, rbind, rownames, sapply, setdiff, sort, table,
tapply, union, unique, unsplit, which.max, which.min
Loading required package: S4Vectors
Attaching package: 'S4Vectors'
The following objects are masked from 'package:Matrix':
expand, unname
The following object is masked from 'package:utils':
findMatches
The following objects are masked from 'package:base':
I, expand.grid, unname
Loading required package: IRanges
Loading required package: GenomeInfoDb
Loading required package: Biobase
Welcome to Bioconductor
Vignettes contain introductory material; view with
'browseVignettes()'. To cite Bioconductor, see
'citation("Biobase")', and for packages 'citation("pkgname")'.
Attaching package: 'Biobase'
The following object is masked from 'package:MatrixGenerics':
rowMedians
The following objects are masked from 'package:matrixStats':
anyMissing, rowMedians
Filtering genes...
Created dataset.
Filtering genes...
Created dataset.
Filtering genes...
Created dataset.
Filtering genes...
Created dataset.
Filtering genes...
Created dataset.
The legacy packages maptools, rgdal, and rgeos, underpinning the sp package,
which was just loaded, will retire in October 2023.
Please refer to R-spatial evolution reports for details, especially
https://r-spatial.org/r/2023/05/15/evolution4.html.
It may be desirable to make the sf package available;
package maintainers should consider adding sf to Suggests:.
The sp package is now running under evolution status 2
(status 2 uses the sf package in place of rgdal)
Filtering genes...
Created dataset.
Filtering genes...
Created dataset.
Filtering genes...
Created dataset.
Filtering genes...
Created dataset.
Filtering genes...
Created dataset.
Finished simulation.
Finished simulation.
Finished simulation.
Finished simulation.
Finished simulation.
Finished simulation.
Finished simulation.
Finished simulation.
Finished simulation.
Finished simulation.
Finished simulation.
Finished simulation.
Finished simulation.
Finished simulation.
Finished simulation.
Finished simulation.
Finished simulation.
Finished simulation.
Finished simulation.
Finished simulation.
Finished simulation.
Finished simulation.
Using EPIC scaling factors.
Finished simulation.
Using EPIC scaling factors.
Finished simulation.
Using ABIS scaling factors.
Finished simulation.
Using quanTIseq scaling factors.
Finished simulation.
Using quanTIseq scaling factors.
Finished simulation.
Using custom scaling factors.
Finished simulation.
Finished simulation.
Finished simulation.
Finished simulation.
Finished simulation.
Finished simulation.
Finished simulation.
[ FAIL 0 | WARN 0 | SKIP 0 | PASS 28 ]
>
> proc.time()
user system elapsed
82.811 1.975 149.564
SimBu.Rcheck/SimBu-Ex.timings
| name | user | system | elapsed | |
| census | 1.963 | 0.095 | 3.685 | |
| dataset | 5.503 | 0.207 | 10.063 | |
| dataset_h5ad | 0 | 0 | 0 | |
| dataset_merge | 1.342 | 0.049 | 2.391 | |
| dataset_seurat | 3.934 | 0.363 | 7.703 | |
| dataset_sfaira | 0 | 0 | 0 | |
| dataset_sfaira_multiple | 0.000 | 0.000 | 0.001 | |
| merge_simulations | 3.829 | 0.071 | 6.946 | |
| plot_simulation | 2.314 | 0.060 | 4.245 | |
| save_simulation | 1.950 | 0.042 | 3.567 | |
| setup_sfaira | 204.683 | 40.586 | 523.070 | |
| sfaira_overview | 0 | 0 | 0 | |
| simulate_bulk | 14.572 | 1.003 | 27.658 | |