| Back to Mac ARM64 build report for BioC 3.17 |
|
This page was generated on 2023-10-20 09:38:11 -0400 (Fri, 20 Oct 2023).
| Hostname | OS | Arch (*) | R version | Installed pkgs |
|---|---|---|---|---|
| kjohnson2 | macOS 12.6.1 Monterey | arm64 | 4.3.1 (2023-06-16) -- "Beagle Scouts" | 4347 |
| Click on any hostname to see more info about the system (e.g. compilers) (*) as reported by 'uname -p', except on Windows and Mac OS X | ||||
| Package 1849/2230 | Hostname | OS / Arch | INSTALL | BUILD | CHECK | BUILD BIN | ||||||||
| Sconify 1.20.0 (landing page) Tyler J Burns
| kjohnson2 | macOS 12.6.1 Monterey / arm64 | OK | OK | OK | OK | ||||||||
|
To the developers/maintainers of the Sconify package: - Use the following Renviron settings to reproduce errors and warnings. - If 'R CMD check' started to fail recently on the Linux builder(s) over a missing dependency, add the missing dependency to 'Suggests:' in your DESCRIPTION file. See Renviron.bioc for more information. |
| Package: Sconify |
| Version: 1.20.0 |
| Command: /Library/Frameworks/R.framework/Resources/bin/R CMD check --install=check:Sconify.install-out.txt --library=/Library/Frameworks/R.framework/Resources/library --no-vignettes --timings Sconify_1.20.0.tar.gz |
| StartedAt: 2023-10-18 22:50:38 -0400 (Wed, 18 Oct 2023) |
| EndedAt: 2023-10-18 22:54:22 -0400 (Wed, 18 Oct 2023) |
| EllapsedTime: 223.4 seconds |
| RetCode: 0 |
| Status: OK |
| CheckDir: Sconify.Rcheck |
| Warnings: 0 |
##############################################################################
##############################################################################
###
### Running command:
###
### /Library/Frameworks/R.framework/Resources/bin/R CMD check --install=check:Sconify.install-out.txt --library=/Library/Frameworks/R.framework/Resources/library --no-vignettes --timings Sconify_1.20.0.tar.gz
###
##############################################################################
##############################################################################
* using log directory ‘/Users/biocbuild/bbs-3.17-bioc-mac-arm64/meat/Sconify.Rcheck’
* using R version 4.3.1 (2023-06-16)
* using platform: aarch64-apple-darwin20 (64-bit)
* R was compiled by
Apple clang version 14.0.0 (clang-1400.0.29.202)
GNU Fortran (GCC) 12.2.0
* running under: macOS Monterey 12.6.7
* using session charset: UTF-8
* using option ‘--no-vignettes’
* checking for file ‘Sconify/DESCRIPTION’ ... OK
* checking extension type ... Package
* this is package ‘Sconify’ version ‘1.20.0’
* package encoding: UTF-8
* checking package namespace information ... OK
* checking package dependencies ... OK
* checking if this is a source package ... OK
* checking if there is a namespace ... OK
* checking for hidden files and directories ... OK
* checking for portable file names ... OK
* checking for sufficient/correct file permissions ... OK
* checking whether package ‘Sconify’ can be installed ... OK
* checking installed package size ... OK
* checking package directory ... OK
* checking ‘build’ directory ... OK
* checking DESCRIPTION meta-information ... OK
* checking top-level files ... OK
* checking for left-over files ... OK
* checking index information ... OK
* checking package subdirectories ... OK
* checking R files for non-ASCII characters ... OK
* checking R files for syntax errors ... OK
* checking whether the package can be loaded ... OK
* checking whether the package can be loaded with stated dependencies ... OK
* checking whether the package can be unloaded cleanly ... OK
* checking whether the namespace can be loaded with stated dependencies ... OK
* checking whether the namespace can be unloaded cleanly ... OK
* checking dependencies in R code ... OK
* checking S3 generic/method consistency ... OK
* checking replacement functions ... OK
* checking foreign function calls ... OK
* checking R code for possible problems ... OK
* checking Rd files ... OK
* checking Rd metadata ... OK
* checking Rd cross-references ... OK
* checking for missing documentation entries ... OK
* checking for code/documentation mismatches ... OK
* checking Rd \usage sections ... OK
* checking Rd contents ... OK
* checking for unstated dependencies in examples ... OK
* checking contents of ‘data’ directory ... OK
* checking data for non-ASCII characters ... OK
* checking LazyData ... OK
* checking data for ASCII and uncompressed saves ... OK
* checking files in ‘vignettes’ ... OK
* checking examples ... OK
Examples with CPU (user + system) or elapsed time > 5s
user system elapsed
SconeValues 14.754 0.277 27.029
ImputeTesting 3.779 0.058 7.031
* checking for unstated dependencies in ‘tests’ ... OK
* checking tests ...
Running ‘testthat.R’
OK
* checking for unstated dependencies in vignettes ... OK
* checking package vignettes in ‘inst/doc’ ... OK
* checking running R code from vignettes ... SKIPPED
* checking re-building of vignette outputs ... SKIPPED
* checking PDF version of manual ... OK
* DONE
Status: OK
Sconify.Rcheck/00install.out
############################################################################## ############################################################################## ### ### Running command: ### ### /Library/Frameworks/R.framework/Resources/bin/R CMD INSTALL Sconify ### ############################################################################## ############################################################################## * installing to library ‘/Library/Frameworks/R.framework/Versions/4.3-arm64/Resources/library’ * installing *source* package ‘Sconify’ ... ** using staged installation ** R ** data *** moving datasets to lazyload DB ** inst ** byte-compile and prepare package for lazy loading Note: wrong number of arguments to '/' Note: wrong number of arguments to 'asinh' ** help *** installing help indices ** building package indices ** installing vignettes ** testing if installed package can be loaded from temporary location ** testing if installed package can be loaded from final location ** testing if installed package keeps a record of temporary installation path * DONE (Sconify)
Sconify.Rcheck/tests/testthat.Rout
R version 4.3.1 (2023-06-16) -- "Beagle Scouts"
Copyright (C) 2023 The R Foundation for Statistical Computing
Platform: aarch64-apple-darwin20 (64-bit)
R is free software and comes with ABSOLUTELY NO WARRANTY.
You are welcome to redistribute it under certain conditions.
Type 'license()' or 'licence()' for distribution details.
R is a collaborative project with many contributors.
Type 'contributors()' for more information and
'citation()' on how to cite R or R packages in publications.
Type 'demo()' for some demos, 'help()' for on-line help, or
'help.start()' for an HTML browser interface to help.
Type 'q()' to quit R.
> library(testthat)
> library(Sconify)
>
> test_check("Sconify")
Read the 100 x 27 data matrix successfully!
Using no_dims = 2, perplexity = 30.000000, and theta = 0.500000
Computing input similarities...
Building tree...
Done in 0.01 seconds (sparsity = 0.968400)!
Learning embedding...
Iteration 50: error is 54.489622 (50 iterations in 0.01 seconds)
Iteration 100: error is 54.978285 (50 iterations in 0.01 seconds)
Iteration 150: error is 56.914355 (50 iterations in 0.01 seconds)
Iteration 200: error is 53.048546 (50 iterations in 0.01 seconds)
Iteration 250: error is 49.957178 (50 iterations in 0.01 seconds)
Iteration 300: error is 1.552119 (50 iterations in 0.01 seconds)
Iteration 350: error is 1.125908 (50 iterations in 0.01 seconds)
Iteration 400: error is 0.769729 (50 iterations in 0.01 seconds)
Iteration 450: error is 0.309236 (50 iterations in 0.01 seconds)
Iteration 500: error is 0.258337 (50 iterations in 0.01 seconds)
Iteration 550: error is 0.239519 (50 iterations in 0.01 seconds)
Iteration 600: error is 0.240013 (50 iterations in 0.01 seconds)
Iteration 650: error is 0.240711 (50 iterations in 0.01 seconds)
Iteration 700: error is 0.241397 (50 iterations in 0.01 seconds)
Iteration 750: error is 0.236872 (50 iterations in 0.01 seconds)
Iteration 800: error is 0.238818 (50 iterations in 0.01 seconds)
Iteration 850: error is 0.240047 (50 iterations in 0.01 seconds)
Iteration 900: error is 0.237302 (50 iterations in 0.01 seconds)
Iteration 950: error is 0.236259 (50 iterations in 0.01 seconds)
Iteration 1000: error is 0.238242 (50 iterations in 0.01 seconds)
Fitting performed in 0.19 seconds.
Read the 1000 x 27 data matrix successfully!
Using no_dims = 2, perplexity = 30.000000, and theta = 0.500000
Computing input similarities...
Building tree...
Done in 0.17 seconds (sparsity = 0.129120)!
Learning embedding...
Iteration 50: error is 63.512645 (50 iterations in 0.25 seconds)
Iteration 100: error is 60.579466 (50 iterations in 0.15 seconds)
Iteration 150: error is 60.311043 (50 iterations in 0.15 seconds)
Iteration 200: error is 60.187366 (50 iterations in 0.16 seconds)
Iteration 250: error is 60.119472 (50 iterations in 0.16 seconds)
Iteration 300: error is 1.331959 (50 iterations in 0.14 seconds)
Iteration 350: error is 1.221466 (50 iterations in 0.13 seconds)
Iteration 400: error is 1.193774 (50 iterations in 0.13 seconds)
Iteration 450: error is 1.179529 (50 iterations in 0.13 seconds)
Iteration 500: error is 1.173120 (50 iterations in 0.13 seconds)
Iteration 550: error is 1.167243 (50 iterations in 0.13 seconds)
Iteration 600: error is 1.164096 (50 iterations in 0.13 seconds)
Iteration 650: error is 1.161465 (50 iterations in 0.14 seconds)
Iteration 700: error is 1.159624 (50 iterations in 0.13 seconds)
Iteration 750: error is 1.157364 (50 iterations in 0.14 seconds)
Iteration 800: error is 1.155178 (50 iterations in 0.14 seconds)
Iteration 850: error is 1.150731 (50 iterations in 0.14 seconds)
Iteration 900: error is 1.149650 (50 iterations in 0.13 seconds)
Iteration 950: error is 1.148596 (50 iterations in 0.14 seconds)
Iteration 1000: error is 1.147867 (50 iterations in 0.13 seconds)
Fitting performed in 2.87 seconds.
[ FAIL 0 | WARN 4 | SKIP 0 | PASS 72 ]
[ FAIL 0 | WARN 4 | SKIP 0 | PASS 72 ]
>
> proc.time()
user system elapsed
22.999 0.670 41.636
Sconify.Rcheck/Sconify-Ex.timings
| name | user | system | elapsed | |
| FcsToTibble | 0.170 | 0.007 | 0.316 | |
| Fnn | 0.311 | 0.846 | 2.057 | |
| GetKnnDe | 0.077 | 0.006 | 0.149 | |
| GetMarkerNames | 0.030 | 0.002 | 0.057 | |
| ImputeTesting | 3.779 | 0.058 | 7.031 | |
| MakeHist | 0.376 | 0.012 | 0.692 | |
| MakeKnnList | 0.348 | 0.010 | 0.640 | |
| MeaningOfLife | 0 | 0 | 0 | |
| ParseMarkers | 0.294 | 0.037 | 0.624 | |
| PostProcessing | 0.155 | 0.004 | 0.288 | |
| ProcessMultipleFiles | 0.153 | 0.007 | 0.296 | |
| QuantNormalizeElements | 0.275 | 0.006 | 0.502 | |
| SconeValues | 14.754 | 0.277 | 27.029 | |
| SplitFile | 0.113 | 0.004 | 0.212 | |
| StringToNumbers | 0.000 | 0.001 | 0.000 | |
| SubsampleAndTsne | 1.635 | 0.048 | 2.999 | |
| TsneVis | 0.199 | 0.005 | 0.361 | |