| Back to Mac ARM64 build report for BioC 3.17 |
|
This page was generated on 2023-10-20 09:38:13 -0400 (Fri, 20 Oct 2023).
| Hostname | OS | Arch (*) | R version | Installed pkgs |
|---|---|---|---|---|
| kjohnson2 | macOS 12.6.1 Monterey | arm64 | 4.3.1 (2023-06-16) -- "Beagle Scouts" | 4347 |
| Click on any hostname to see more info about the system (e.g. compilers) (*) as reported by 'uname -p', except on Windows and Mac OS X | ||||
| Package 2001/2230 | Hostname | OS / Arch | INSTALL | BUILD | CHECK | BUILD BIN | ||||||||
| SPOTlight 1.4.1 (landing page) Marc Elosua-Bayes
| kjohnson2 | macOS 12.6.1 Monterey / arm64 | OK | OK | OK | OK | ||||||||
|
To the developers/maintainers of the SPOTlight package: - Use the following Renviron settings to reproduce errors and warnings. - If 'R CMD check' started to fail recently on the Linux builder(s) over a missing dependency, add the missing dependency to 'Suggests:' in your DESCRIPTION file. See Renviron.bioc for more information. |
| Package: SPOTlight |
| Version: 1.4.1 |
| Command: /Library/Frameworks/R.framework/Resources/bin/R CMD check --install=check:SPOTlight.install-out.txt --library=/Library/Frameworks/R.framework/Resources/library --no-vignettes --timings SPOTlight_1.4.1.tar.gz |
| StartedAt: 2023-10-19 04:18:14 -0400 (Thu, 19 Oct 2023) |
| EndedAt: 2023-10-19 04:29:40 -0400 (Thu, 19 Oct 2023) |
| EllapsedTime: 685.9 seconds |
| RetCode: 0 |
| Status: OK |
| CheckDir: SPOTlight.Rcheck |
| Warnings: 0 |
##############################################################################
##############################################################################
###
### Running command:
###
### /Library/Frameworks/R.framework/Resources/bin/R CMD check --install=check:SPOTlight.install-out.txt --library=/Library/Frameworks/R.framework/Resources/library --no-vignettes --timings SPOTlight_1.4.1.tar.gz
###
##############################################################################
##############################################################################
* using log directory ‘/Users/biocbuild/bbs-3.17-bioc-mac-arm64/meat/SPOTlight.Rcheck’
* using R version 4.3.1 (2023-06-16)
* using platform: aarch64-apple-darwin20 (64-bit)
* R was compiled by
Apple clang version 14.0.0 (clang-1400.0.29.202)
GNU Fortran (GCC) 12.2.0
* running under: macOS Monterey 12.6.7
* using session charset: UTF-8
* using option ‘--no-vignettes’
* checking for file ‘SPOTlight/DESCRIPTION’ ... OK
* checking extension type ... Package
* this is package ‘SPOTlight’ version ‘1.4.1’
* package encoding: UTF-8
* checking package namespace information ... OK
* checking package dependencies ... OK
* checking if this is a source package ... OK
* checking if there is a namespace ... OK
* checking for hidden files and directories ... OK
* checking for portable file names ... OK
* checking for sufficient/correct file permissions ... OK
* checking whether package ‘SPOTlight’ can be installed ... OK
* checking installed package size ... OK
* checking package directory ... OK
* checking ‘build’ directory ... OK
* checking DESCRIPTION meta-information ... OK
* checking top-level files ... OK
* checking for left-over files ... OK
* checking index information ... OK
* checking package subdirectories ... OK
* checking R files for non-ASCII characters ... OK
* checking R files for syntax errors ... OK
* checking whether the package can be loaded ... OK
* checking whether the package can be loaded with stated dependencies ... OK
* checking whether the package can be unloaded cleanly ... OK
* checking whether the namespace can be loaded with stated dependencies ... OK
* checking whether the namespace can be unloaded cleanly ... OK
* checking dependencies in R code ... OK
* checking S3 generic/method consistency ... OK
* checking replacement functions ... OK
* checking foreign function calls ... OK
* checking R code for possible problems ... OK
* checking Rd files ... OK
* checking Rd metadata ... OK
* checking Rd cross-references ... OK
* checking for missing documentation entries ... OK
* checking for code/documentation mismatches ... OK
* checking Rd \usage sections ... OK
* checking Rd contents ... OK
* checking for unstated dependencies in examples ... OK
* checking files in ‘vignettes’ ... OK
* checking examples ... OK
Examples with CPU (user + system) or elapsed time > 5s
user system elapsed
SPOTlight 10.433 0.390 19.491
plotTopicProfiles 9.357 0.133 17.011
trainNMF 8.188 0.107 14.912
runDeconvolution 7.469 0.134 13.670
data 6.329 0.085 11.530
* checking for unstated dependencies in ‘tests’ ... OK
* checking tests ...
Running ‘testthat.R’
OK
* checking for unstated dependencies in vignettes ... OK
* checking package vignettes in ‘inst/doc’ ... OK
* checking running R code from vignettes ... SKIPPED
* checking re-building of vignette outputs ... SKIPPED
* checking PDF version of manual ... OK
* DONE
Status: OK
SPOTlight.Rcheck/00install.out
############################################################################## ############################################################################## ### ### Running command: ### ### /Library/Frameworks/R.framework/Resources/bin/R CMD INSTALL SPOTlight ### ############################################################################## ############################################################################## * installing to library ‘/Library/Frameworks/R.framework/Versions/4.3-arm64/Resources/library’ * installing *source* package ‘SPOTlight’ ... ** using staged installation ** R ** inst ** byte-compile and prepare package for lazy loading ** help *** installing help indices ** building package indices ** installing vignettes ** testing if installed package can be loaded from temporary location ** testing if installed package can be loaded from final location ** testing if installed package keeps a record of temporary installation path * DONE (SPOTlight)
SPOTlight.Rcheck/tests/testthat.Rout
R version 4.3.1 (2023-06-16) -- "Beagle Scouts"
Copyright (C) 2023 The R Foundation for Statistical Computing
Platform: aarch64-apple-darwin20 (64-bit)
R is free software and comes with ABSOLUTELY NO WARRANTY.
You are welcome to redistribute it under certain conditions.
Type 'license()' or 'licence()' for distribution details.
R is a collaborative project with many contributors.
Type 'contributors()' for more information and
'citation()' on how to cite R or R packages in publications.
Type 'demo()' for some demos, 'help()' for on-line help, or
'help.start()' for an HTML browser interface to help.
Type 'q()' to quit R.
> set.seed(321)
> library(testthat)
> library(SPOTlight)
> # plotImage() ----
> test_check("SPOTlight")
[ FAIL 0 | WARN 2 | SKIP 0 | PASS 354 ]
[ FAIL 0 | WARN 2 | SKIP 0 | PASS 354 ]
>
> proc.time()
user system elapsed
116.981 8.209 232.682
SPOTlight.Rcheck/SPOTlight-Ex.timings
| name | user | system | elapsed | |
| SPOTlight | 10.433 | 0.390 | 19.491 | |
| data | 6.329 | 0.085 | 11.530 | |
| plotCorrelationMatrix | 0.932 | 0.024 | 1.715 | |
| plotImage | 1.875 | 0.073 | 3.501 | |
| plotInteractions | 0.669 | 0.019 | 1.234 | |
| plotSpatialScatterpie | 0.861 | 0.051 | 1.666 | |
| plotTopicProfiles | 9.357 | 0.133 | 17.011 | |
| runDeconvolution | 7.469 | 0.134 | 13.670 | |
| trainNMF | 8.188 | 0.107 | 14.912 | |