| Back to Mac ARM64 build report for BioC 3.17 |
|
This page was generated on 2023-03-30 11:00:41 -0400 (Thu, 30 Mar 2023).
| Hostname | OS | Arch (*) | R version | Installed pkgs |
|---|---|---|---|---|
| kjohnson2 | macOS 12.6.1 Monterey | arm64 | R Under development (unstable) (2023-03-17 r83997) -- "Unsuffered Consequences" | 4168 |
| Click on any hostname to see more info about the system (e.g. compilers) (*) as reported by 'uname -p', except on Windows and Mac OS X | ||||
|
To the developers/maintainers of the SCATE package: Use the following Renviron settings to reproduce errors and warnings. Note: If "R CMD check" recently failed on the Linux builder over a missing dependency, add the missing dependency to "Suggests" in your DESCRIPTION file. See the Renviron.bioc for details. |
| Package 1795/2195 | Hostname | OS / Arch | INSTALL | BUILD | CHECK | BUILD BIN | ||||||||
| SCATE 1.9.0 (landing page) Wenpin Hou
| kjohnson2 | macOS 12.6.1 Monterey / arm64 | OK | OK | OK | NA | ||||||||
| Package: SCATE |
| Version: 1.9.0 |
| Command: /Library/Frameworks/R.framework/Resources/bin/R CMD check --install=check:SCATE.install-out.txt --library=/Library/Frameworks/R.framework/Resources/library --no-vignettes --timings SCATE_1.9.0.tar.gz |
| StartedAt: 2023-03-29 23:56:42 -0400 (Wed, 29 Mar 2023) |
| EndedAt: 2023-03-30 00:13:06 -0400 (Thu, 30 Mar 2023) |
| EllapsedTime: 983.9 seconds |
| RetCode: 0 |
| Status: OK |
| CheckDir: SCATE.Rcheck |
| Warnings: 0 |
##############################################################################
##############################################################################
###
### Running command:
###
### /Library/Frameworks/R.framework/Resources/bin/R CMD check --install=check:SCATE.install-out.txt --library=/Library/Frameworks/R.framework/Resources/library --no-vignettes --timings SCATE_1.9.0.tar.gz
###
##############################################################################
##############################################################################
* using log directory ‘/Users/biocbuild/bbs-3.17-bioc-mac-arm64/meat/SCATE.Rcheck’
* using R Under development (unstable) (2023-03-17 r83997)
* using platform: aarch64-apple-darwin20 (64-bit)
* R was compiled by
Apple clang version 13.0.0 (clang-1300.0.29.3)
GNU Fortran (GCC) 12.0.1 20220312 (experimental)
* running under: macOS Monterey 12.6.1
* using session charset: UTF-8
* using option ‘--no-vignettes’
* checking for file ‘SCATE/DESCRIPTION’ ... OK
* this is package ‘SCATE’ version ‘1.9.0’
* package encoding: UTF-8
* checking package namespace information ... OK
* checking package dependencies ... NOTE
Depends: includes the non-default packages:
'parallel', 'preprocessCore', 'splines', 'splines2', 'xgboost',
'SCATEData', 'Rtsne', 'mclust'
Adding so many packages to the search path is excessive and importing
selectively is preferable.
* checking if this is a source package ... OK
* checking if there is a namespace ... OK
* checking for hidden files and directories ... OK
* checking for portable file names ... OK
* checking for sufficient/correct file permissions ... OK
* checking whether package ‘SCATE’ can be installed ... OK
* checking installed package size ... OK
* checking package directory ... OK
* checking ‘build’ directory ... OK
* checking DESCRIPTION meta-information ... OK
* checking top-level files ... OK
* checking for left-over files ... OK
* checking index information ... OK
* checking package subdirectories ... OK
* checking R files for non-ASCII characters ... OK
* checking R files for syntax errors ... OK
* checking whether the package can be loaded ... OK
* checking whether the package can be loaded with stated dependencies ... OK
* checking whether the package can be unloaded cleanly ... OK
* checking whether the namespace can be loaded with stated dependencies ... OK
* checking whether the namespace can be unloaded cleanly ... OK
* checking dependencies in R code ... NOTE
Package in Depends field not imported from: ‘SCATEData’
These packages need to be imported from (in the NAMESPACE file)
for when this namespace is loaded but not attached.
* checking S3 generic/method consistency ... OK
* checking replacement functions ... OK
* checking foreign function calls ... OK
* checking R code for possible problems ... NOTE
SCATE : SCATEsingle: no visible global function definition for
‘IRanges’
cellcluster : <anonymous>: no visible global function definition for
‘IRanges’
extractfeature: no visible global function definition for ‘IRanges’
makedatabase: no visible global function definition for ‘IRanges’
makedatabase: no visible global function definition for ‘seqlevels’
peakcall: no visible global function definition for ‘IRanges’
Undefined global functions or variables:
IRanges seqlevels
* checking Rd files ... OK
* checking Rd metadata ... OK
* checking Rd cross-references ... OK
* checking for missing documentation entries ... OK
* checking for code/documentation mismatches ... OK
* checking Rd \usage sections ... OK
* checking Rd contents ... OK
* checking for unstated dependencies in examples ... OK
* checking files in ‘vignettes’ ... OK
* checking examples ... OK
Examples with CPU (user + system) or elapsed time > 5s
user system elapsed
SCATEpipeline 121.303 7.314 202.459
SCATE 119.294 3.703 185.606
peakcall 102.705 4.551 162.692
cellcluster 17.601 1.304 27.807
* checking for unstated dependencies in vignettes ... OK
* checking package vignettes in ‘inst/doc’ ... OK
* checking running R code from vignettes ... SKIPPED
* checking re-building of vignette outputs ... SKIPPED
* checking PDF version of manual ... OK
* DONE
Status: 3 NOTEs
See
‘/Users/biocbuild/bbs-3.17-bioc-mac-arm64/meat/SCATE.Rcheck/00check.log’
for details.
SCATE.Rcheck/00install.out
############################################################################## ############################################################################## ### ### Running command: ### ### /Library/Frameworks/R.framework/Resources/bin/R CMD INSTALL SCATE ### ############################################################################## ############################################################################## * installing to library ‘/Library/Frameworks/R.framework/Versions/4.3-arm64/Resources/library’ * installing *source* package ‘SCATE’ ... ** using staged installation ** R ** inst ** byte-compile and prepare package for lazy loading snapshotDate(): 2023-03-21 ** help *** installing help indices ** building package indices ** installing vignettes ** testing if installed package can be loaded from temporary location snapshotDate(): 2023-03-21 ** testing if installed package can be loaded from final location snapshotDate(): 2023-03-21 ** testing if installed package keeps a record of temporary installation path * DONE (SCATE)
SCATE.Rcheck/SCATE-Ex.timings
| name | user | system | elapsed | |
| SCATE | 119.294 | 3.703 | 185.606 | |
| SCATEpipeline | 121.303 | 7.314 | 202.459 | |
| cellcluster | 17.601 | 1.304 | 27.807 | |
| extractfeature | 0.041 | 0.003 | 0.067 | |
| peakcall | 102.705 | 4.551 | 162.692 | |
| satacprocess | 0.089 | 0.009 | 0.124 | |