| Back to Mac ARM64 build report for BioC 3.17 | 
  | 
This page was generated on 2023-03-27 11:02:08 -0400 (Mon, 27 Mar 2023).
| Hostname | OS | Arch (*) | R version | Installed pkgs | 
|---|---|---|---|---|
| kjohnson2 | macOS 12.6.1 Monterey | arm64 | R Under development (unstable) (2023-03-17 r83997) -- "Unsuffered Consequences" | 4168 | 
| Click on any hostname to see more info about the system (e.g. compilers) (*) as reported by 'uname -p', except on Windows and Mac OS X | ||||
| 
To the developers/maintainers of the ReportingTools package: Make sure to use the following settings in order to reproduce any error or warning you see on this page.  | 
| Package 1663/2195 | Hostname | OS / Arch | INSTALL | BUILD | CHECK | BUILD BIN | ||||||||
| ReportingTools 2.39.0  (landing page) Jason A. Hackney 
  | kjohnson2 | macOS 12.6.1 Monterey / arm64 | OK | OK | OK | OK | ||||||||
| Package: ReportingTools | 
| Version: 2.39.0 | 
| Command: rm -rf ReportingTools.buildbin-libdir && mkdir ReportingTools.buildbin-libdir && /Users/biocbuild/BBS/utils/build-universal.sh ReportingTools_2.39.0.tar.gz /Library/Frameworks/R.framework/Resources/bin/R ReportingTools.buildbin-libdir | 
| StartedAt: 2023-03-25 11:27:21 -0400 (Sat, 25 Mar 2023) | 
| EndedAt: 2023-03-25 11:28:00 -0400 (Sat, 25 Mar 2023) | 
| EllapsedTime: 38.4 seconds | 
| RetCode: 0 | 
| Status: OK | 
| PackageFile: ReportingTools_2.39.0.tgz | 
| PackageFileSize: 2.027 MiB | 
############################################################################## ############################################################################## ### ### Running command: ### ### rm -rf ReportingTools.buildbin-libdir && mkdir ReportingTools.buildbin-libdir && /Users/biocbuild/BBS/utils/build-universal.sh ReportingTools_2.39.0.tar.gz /Library/Frameworks/R.framework/Resources/bin/R ReportingTools.buildbin-libdir ### ############################################################################## ############################################################################## >>>>>>> >>>>>>> INSTALLATION WITH 'R CMD INSTALL --preclean --no-multiarch --library=ReportingTools.buildbin-libdir ReportingTools_2.39.0.tar.gz' >>>>>>> * installing *source* package ‘ReportingTools’ ... ** using staged installation ** R ** data ** inst ** byte-compile and prepare package for lazy loading in method for 'objectToHTML' with signature 'object="ggbio"': no definition for class "ggbio" ** help *** installing help indices ** building package indices ** installing vignettes ** testing if installed package can be loaded from temporary location ** testing if installed package can be loaded from final location ** testing if installed package keeps a record of temporary installation path * DONE (ReportingTools)