| Back to Mac ARM64 build report for BioC 3.17 |
|
This page was generated on 2023-10-20 09:38:09 -0400 (Fri, 20 Oct 2023).
| Hostname | OS | Arch (*) | R version | Installed pkgs |
|---|---|---|---|---|
| kjohnson2 | macOS 12.6.1 Monterey | arm64 | 4.3.1 (2023-06-16) -- "Beagle Scouts" | 4347 |
| Click on any hostname to see more info about the system (e.g. compilers) (*) as reported by 'uname -p', except on Windows and Mac OS X | ||||
| Package 1604/2230 | Hostname | OS / Arch | INSTALL | BUILD | CHECK | BUILD BIN | ||||||||
| QSutils 1.18.0 (landing page) Mercedes Guerrero-Murillo
| kjohnson2 | macOS 12.6.1 Monterey / arm64 | OK | OK | OK | OK | ||||||||
|
To the developers/maintainers of the QSutils package: - Use the following Renviron settings to reproduce errors and warnings. - If 'R CMD check' started to fail recently on the Linux builder(s) over a missing dependency, add the missing dependency to 'Suggests:' in your DESCRIPTION file. See Renviron.bioc for more information. |
| Package: QSutils |
| Version: 1.18.0 |
| Command: /Library/Frameworks/R.framework/Resources/bin/R CMD check --install=check:QSutils.install-out.txt --library=/Library/Frameworks/R.framework/Resources/library --no-vignettes --timings QSutils_1.18.0.tar.gz |
| StartedAt: 2023-10-18 16:55:28 -0400 (Wed, 18 Oct 2023) |
| EndedAt: 2023-10-18 16:57:54 -0400 (Wed, 18 Oct 2023) |
| EllapsedTime: 146.3 seconds |
| RetCode: 0 |
| Status: OK |
| CheckDir: QSutils.Rcheck |
| Warnings: 0 |
##############################################################################
##############################################################################
###
### Running command:
###
### /Library/Frameworks/R.framework/Resources/bin/R CMD check --install=check:QSutils.install-out.txt --library=/Library/Frameworks/R.framework/Resources/library --no-vignettes --timings QSutils_1.18.0.tar.gz
###
##############################################################################
##############################################################################
* using log directory ‘/Users/biocbuild/bbs-3.17-bioc-mac-arm64/meat/QSutils.Rcheck’
* using R version 4.3.1 (2023-06-16)
* using platform: aarch64-apple-darwin20 (64-bit)
* R was compiled by
Apple clang version 14.0.0 (clang-1400.0.29.202)
GNU Fortran (GCC) 12.2.0
* running under: macOS Monterey 12.6.7
* using session charset: UTF-8
* using option ‘--no-vignettes’
* checking for file ‘QSutils/DESCRIPTION’ ... OK
* checking extension type ... Package
* this is package ‘QSutils’ version ‘1.18.0’
* package encoding: UTF-8
* checking package namespace information ... OK
* checking package dependencies ... OK
* checking if this is a source package ... OK
* checking if there is a namespace ... OK
* checking for hidden files and directories ... OK
* checking for portable file names ... OK
* checking for sufficient/correct file permissions ... OK
* checking whether package ‘QSutils’ can be installed ... OK
* checking installed package size ... OK
* checking package directory ... OK
* checking ‘build’ directory ... OK
* checking DESCRIPTION meta-information ... OK
* checking top-level files ... OK
* checking for left-over files ... OK
* checking index information ... OK
* checking package subdirectories ... NOTE
Problems with news in ‘NEWS’:
Cannot process chunk/lines:
CHANGES IN VERSION 0.99.8
Internal changes:
- QSutils review correction:
· Add exports to NAMESPACE
Cannot process chunk/lines:
CHANGES IN VERSION 0.99.4,5, and 7
Internal changes:
- QSutils review correction:
· fn.ab function correction
Cannot process chunk/lines:
CHANGES IN VERSION 0.99.3
Internal changes:
- QSutils review correction:
· Vignette: add chunk names
· R Change class -> is()
· R hide helper functions
· R join more than one function in one file
· R vectorize some apply
· R Change fn.ab.1,fn.ab.2 and fn.ab.3 -> fn.ab with 3 agruments in fn
Cannot process chunk/lines:
CHANGES IN VERSION 0.99.2
Internal changes:
- Biocheck NOTEs correction:
· Change sapply()->vapply()
· Change 1:... -> seq_len()
Cannot process chunk/lines:
CHANGES IN VERSION 0.99.1
Internal changes:
- Correction of WARNINGS and ERRORS
with Biocheck:
· Collapse() example ERROR.
· Change class == -> is() or !is()
· Update R version dependency from 3.4.0 to 3.5.
· Correct -> 'VignetteIndexEntry{VignetteTitle}' in QSUtils-Alignment.Rmd
* checking R files for non-ASCII characters ... OK
* checking R files for syntax errors ... OK
* checking whether the package can be loaded ... OK
* checking whether the package can be loaded with stated dependencies ... OK
* checking whether the package can be unloaded cleanly ... OK
* checking whether the namespace can be loaded with stated dependencies ... OK
* checking whether the namespace can be unloaded cleanly ... OK
* checking dependencies in R code ... OK
* checking S3 generic/method consistency ... OK
* checking replacement functions ... OK
* checking foreign function calls ... OK
* checking R code for possible problems ... OK
* checking Rd files ... OK
* checking Rd metadata ... OK
* checking Rd cross-references ... OK
* checking for missing documentation entries ... OK
* checking for code/documentation mismatches ... OK
* checking Rd \usage sections ... OK
* checking Rd contents ... OK
* checking for unstated dependencies in examples ... OK
* checking files in ‘vignettes’ ... OK
* checking examples ... OK
* checking for unstated dependencies in vignettes ... OK
* checking package vignettes in ‘inst/doc’ ... OK
* checking running R code from vignettes ... SKIPPED
* checking re-building of vignette outputs ... SKIPPED
* checking PDF version of manual ... OK
* DONE
Status: 1 NOTE
See
‘/Users/biocbuild/bbs-3.17-bioc-mac-arm64/meat/QSutils.Rcheck/00check.log’
for details.
QSutils.Rcheck/00install.out
############################################################################## ############################################################################## ### ### Running command: ### ### /Library/Frameworks/R.framework/Resources/bin/R CMD INSTALL QSutils ### ############################################################################## ############################################################################## * installing to library ‘/Library/Frameworks/R.framework/Versions/4.3-arm64/Resources/library’ * installing *source* package ‘QSutils’ ... ** using staged installation ** R ** inst ** byte-compile and prepare package for lazy loading ** help *** installing help indices ** building package indices ** installing vignettes ** testing if installed package can be loaded from temporary location ** testing if installed package can be loaded from final location ** testing if installed package keeps a record of temporary installation path * DONE (QSutils)
QSutils.Rcheck/QSutils-Ex.timings
| name | user | system | elapsed | |
| Collapse | 0.150 | 0.016 | 0.239 | |
| ConsSeq | 0.023 | 0.004 | 0.036 | |
| CorrectGapsAndNs | 0.006 | 0.001 | 0.013 | |
| DBrule | 0.052 | 0.007 | 0.085 | |
| DNA.dist | 0.008 | 0.002 | 0.017 | |
| DSFT | 0.006 | 0.001 | 0.009 | |
| Diverge | 0.003 | 0.000 | 0.003 | |
| DottedAlignment | 0.010 | 0.002 | 0.020 | |
| FAD | 0.007 | 0.002 | 0.013 | |
| FreqMat | 0.016 | 0.004 | 0.025 | |
| GenerateVars | 0.004 | 0.001 | 0.005 | |
| GenotypeStandards_A-H.fas | 0.007 | 0.001 | 0.012 | |
| GetInfProfile | 0.019 | 0.004 | 0.031 | |
| GetQSData | 0.420 | 0.029 | 0.586 | |
| GetRandomSeq | 0 | 0 | 0 | |
| GiniSimpson | 0.001 | 0.000 | 0.001 | |
| HCq | 0.006 | 0.001 | 0.008 | |
| Hill | 0.004 | 0.001 | 0.008 | |
| IntersectStrandHpls | 0.074 | 0.005 | 0.111 | |
| MutationFreq | 0.501 | 0.021 | 0.670 | |
| MutsTbl | 0.016 | 0.003 | 0.026 | |
| NucleotideDiversity | 0.007 | 0.001 | 0.010 | |
| PolyDist | 0.025 | 0.002 | 0.034 | |
| Rao | 0.014 | 0.001 | 0.019 | |
| ReadAmplSeqs | 0.031 | 0.002 | 0.045 | |
| Renyi | 0.004 | 0.001 | 0.007 | |
| ReportVariants | 0.018 | 0.002 | 0.025 | |
| SegSites | 0.012 | 0.001 | 0.017 | |
| Shannon | 0.001 | 0.000 | 0.001 | |
| SortByMutations | 0.501 | 0.020 | 0.683 | |
| SummaryMuts | 0.017 | 0.002 | 0.025 | |
| TotalMutations | 0.015 | 0.001 | 0.022 | |
| Toy.GapsAndNs.fna | 0.056 | 0.004 | 0.081 | |
| ToyData_10_50_1000.fna | 0.032 | 0.003 | 0.047 | |
| ToyData_FWReads.fna | 0.067 | 0.004 | 0.096 | |
| ToyData_RVReads.fna | 0.071 | 0.004 | 0.100 | |
| UniqueMutations | 0.011 | 0.001 | 0.014 | |
| Unknown-Genotype.fna | 0.011 | 0.002 | 0.017 | |
| fn.ab | 0.004 | 0.001 | 0.007 | |
| geom.series | 0.002 | 0.000 | 0.005 | |