| Back to Mac ARM64 build report for BioC 3.17 | 
 | 
This page was generated on 2023-10-20 09:38:06 -0400 (Fri, 20 Oct 2023).
| Hostname | OS | Arch (*) | R version | Installed pkgs | 
|---|---|---|---|---|
| kjohnson2 | macOS 12.6.1 Monterey | arm64 | 4.3.1 (2023-06-16) -- "Beagle Scouts" | 4347 | 
| Click on any hostname to see more info about the system (e.g. compilers) (*) as reported by 'uname -p', except on Windows and Mac OS X | ||||
| Package 1224/2230 | Hostname | OS / Arch | INSTALL | BUILD | CHECK | BUILD BIN | ||||||||
| MicrobiotaProcess 1.12.4  (landing page) Shuangbin Xu 
 | kjohnson2 | macOS 12.6.1 Monterey / arm64 | OK | OK | OK | OK |  | |||||||
| To the developers/maintainers of the MicrobiotaProcess package: - Use the following Renviron settings to reproduce errors and warnings. - If 'R CMD check' started to fail recently on the Linux builder(s) over a missing dependency, add the missing dependency to 'Suggests:' in your DESCRIPTION file. See Renviron.bioc for more information. | 
| Package: MicrobiotaProcess | 
| Version: 1.12.4 | 
| Command: /Library/Frameworks/R.framework/Resources/bin/R CMD check --install=check:MicrobiotaProcess.install-out.txt --library=/Library/Frameworks/R.framework/Resources/library --no-vignettes --timings MicrobiotaProcess_1.12.4.tar.gz | 
| StartedAt: 2023-10-18 07:22:28 -0400 (Wed, 18 Oct 2023) | 
| EndedAt: 2023-10-18 07:31:42 -0400 (Wed, 18 Oct 2023) | 
| EllapsedTime: 553.3 seconds | 
| RetCode: 0 | 
| Status: OK | 
| CheckDir: MicrobiotaProcess.Rcheck | 
| Warnings: 0 | 
##############################################################################
##############################################################################
###
### Running command:
###
###   /Library/Frameworks/R.framework/Resources/bin/R CMD check --install=check:MicrobiotaProcess.install-out.txt --library=/Library/Frameworks/R.framework/Resources/library --no-vignettes --timings MicrobiotaProcess_1.12.4.tar.gz
###
##############################################################################
##############################################################################
* using log directory ‘/Users/biocbuild/bbs-3.17-bioc-mac-arm64/meat/MicrobiotaProcess.Rcheck’
* using R version 4.3.1 (2023-06-16)
* using platform: aarch64-apple-darwin20 (64-bit)
* R was compiled by
    Apple clang version 14.0.0 (clang-1400.0.29.202)
    GNU Fortran (GCC) 12.2.0
* running under: macOS Monterey 12.6.7
* using session charset: UTF-8
* using option ‘--no-vignettes’
* checking for file ‘MicrobiotaProcess/DESCRIPTION’ ... OK
* checking extension type ... Package
* this is package ‘MicrobiotaProcess’ version ‘1.12.4’
* package encoding: UTF-8
* checking package namespace information ... OK
* checking package dependencies ... OK
* checking if this is a source package ... OK
* checking if there is a namespace ... OK
* checking for hidden files and directories ... OK
* checking for portable file names ... OK
* checking for sufficient/correct file permissions ... OK
* checking whether package ‘MicrobiotaProcess’ can be installed ... OK
* checking installed package size ... NOTE
  installed size is  5.8Mb
  sub-directories of 1Mb or more:
    R         2.6Mb
    figures   1.9Mb
* checking package directory ... OK
* checking ‘build’ directory ... OK
* checking DESCRIPTION meta-information ... OK
* checking top-level files ... OK
* checking for left-over files ... OK
* checking index information ... OK
* checking package subdirectories ... OK
* checking R files for non-ASCII characters ... OK
* checking R files for syntax errors ... OK
* checking whether the package can be loaded ... OK
* checking whether the package can be loaded with stated dependencies ... OK
* checking whether the package can be unloaded cleanly ... OK
* checking whether the namespace can be loaded with stated dependencies ... OK
* checking whether the namespace can be unloaded cleanly ... OK
* checking startup messages can be suppressed ... OK
* checking dependencies in R code ... OK
* checking S3 generic/method consistency ... OK
* checking replacement functions ... OK
* checking foreign function calls ... OK
* checking R code for possible problems ... OK
* checking Rd files ... OK
* checking Rd metadata ... OK
* checking Rd cross-references ... OK
* checking for missing documentation entries ... OK
* checking for code/documentation mismatches ... OK
* checking Rd \usage sections ... OK
* checking Rd contents ... OK
* checking for unstated dependencies in examples ... OK
* checking contents of ‘data’ directory ... OK
* checking data for non-ASCII characters ... OK
* checking data for ASCII and uncompressed saves ... OK
* checking files in ‘vignettes’ ... OK
* checking examples ... OK
Examples with CPU (user + system) or elapsed time > 5s
                                 user system elapsed
mp_cal_abundance-methods       11.039  0.180  15.345
mp_cal_rarecurve-methods        7.913  0.169  12.496
mp_plot_diff_boxplot-methods    6.920  0.116  13.372
mp_diff_analysis-methods        6.830  0.125  12.533
ImportQiime2                    4.249  0.112   6.605
mp_plot_diff_manhattan-methods  4.074  0.082   6.700
mp_import_metaphlan             3.304  0.034   5.130
* checking for unstated dependencies in ‘tests’ ... OK
* checking tests ...
  Running ‘testthat.R’
 OK
* checking for unstated dependencies in vignettes ... OK
* checking package vignettes in ‘inst/doc’ ... OK
* checking running R code from vignettes ... SKIPPED
* checking re-building of vignette outputs ... SKIPPED
* checking PDF version of manual ... OK
* DONE
Status: 1 NOTE
See
  ‘/Users/biocbuild/bbs-3.17-bioc-mac-arm64/meat/MicrobiotaProcess.Rcheck/00check.log’
for details.
MicrobiotaProcess.Rcheck/00install.out
############################################################################## ############################################################################## ### ### Running command: ### ### /Library/Frameworks/R.framework/Resources/bin/R CMD INSTALL MicrobiotaProcess ### ############################################################################## ############################################################################## * installing to library ‘/Library/Frameworks/R.framework/Versions/4.3-arm64/Resources/library’ * installing *source* package ‘MicrobiotaProcess’ ... ** using staged installation ** R ** data ** inst ** byte-compile and prepare package for lazy loading in method for ‘taxonomy<-’ with signature ‘x="MPSE",value="taxonomyTable"’: no definition for class “taxonomyTable” Creating a generic function for ‘rownames<-’ from package ‘base’ in package ‘MicrobiotaProcess’ in method for ‘get_alltaxadf’ with signature ‘"phyloseq"’: no definition for class “phyloseq” in method for ‘get_taxadf’ with signature ‘"phyloseq"’: no definition for class “phyloseq” in method for ‘get_alphaindex’ with signature ‘"phyloseq"’: no definition for class “phyloseq” in method for ‘get_NRI_NTI’ with signature ‘"phyloseq"’: no definition for class “phyloseq” in method for ‘get_rarecurve’ with signature ‘"phyloseq"’: no definition for class “phyloseq” in method for ‘get_upset’ with signature ‘"phyloseq"’: no definition for class “phyloseq” in method for ‘get_vennlist’ with signature ‘"phyloseq"’: no definition for class “phyloseq” in method for ‘drop_taxa’ with signature ‘"phyloseq"’: no definition for class “phyloseq” ** help *** installing help indices ** building package indices ** installing vignettes ** testing if installed package can be loaded from temporary location ** testing if installed package can be loaded from final location ** testing if installed package keeps a record of temporary installation path * DONE (MicrobiotaProcess)
MicrobiotaProcess.Rcheck/tests/testthat.Rout
R version 4.3.1 (2023-06-16) -- "Beagle Scouts"
Copyright (C) 2023 The R Foundation for Statistical Computing
Platform: aarch64-apple-darwin20 (64-bit)
R is free software and comes with ABSOLUTELY NO WARRANTY.
You are welcome to redistribute it under certain conditions.
Type 'license()' or 'licence()' for distribution details.
R is a collaborative project with many contributors.
Type 'contributors()' for more information and
'citation()' on how to cite R or R packages in publications.
Type 'demo()' for some demos, 'help()' for on-line help, or
'help.start()' for an HTML browser interface to help.
Type 'q()' to quit R.
> library("testthat")
> library("MicrobiotaProcess")
MicrobiotaProcess v1.12.4 For help:
https://github.com/YuLab-SMU/MicrobiotaProcess/issues
If you use MicrobiotaProcess in published research, please cite the
paper:
Shuangbin Xu, Li Zhan, Wenli Tang, Qianwen Wang, Zehan Dai, Lang Zhou,
Tingze Feng, Meijun Chen, Tianzhi Wu, Erqiang Hu, Guangchuang Yu.
MicrobiotaProcess: A comprehensive R package for deep mining
microbiome. The Innovation. 2023, 4(2):100388. doi:
10.1016/j.xinn.2023.100388
Export the citation to BibTex by citation('MicrobiotaProcess')
This message can be suppressed by:
suppressPackageStartupMessages(library(MicrobiotaProcess))
Attaching package: 'MicrobiotaProcess'
The following object is masked from 'package:stats':
    filter
> test_check("MicrobiotaProcess")
[ FAIL 0 | WARN 9 | SKIP 0 | PASS 13 ]
[ FAIL 0 | WARN 9 | SKIP 0 | PASS 13 ]
> 
> proc.time()
   user  system elapsed 
 14.845   0.672  25.747 
MicrobiotaProcess.Rcheck/MicrobiotaProcess-Ex.timings
| name | user | system | elapsed | |
| ImportDada2 | 1.586 | 0.063 | 2.384 | |
| ImportQiime2 | 4.249 | 0.112 | 6.605 | |
| MPSE | 0.188 | 0.004 | 0.289 | |
| as.treedata | 0.000 | 0.001 | 0.000 | |
| build_tree | 0.000 | 0.000 | 0.001 | |
| convert_to_treedata | 0.001 | 0.000 | 0.000 | |
| data-hmp_aerobiosis_small | 0.012 | 0.003 | 0.023 | |
| data-kostic2012crc | 0.030 | 0.005 | 0.049 | |
| data-test_otu_data | 0.002 | 0.003 | 0.009 | |
| diff_analysis | 0.000 | 0.001 | 0.000 | |
| dr_extract | 0.000 | 0.000 | 0.001 | |
| drop_taxa | 0.000 | 0.001 | 0.001 | |
| generalizedFC | 0.006 | 0.001 | 0.010 | |
| get_alltaxadf | 0 | 0 | 0 | |
| get_alphaindex | 0 | 0 | 0 | |
| get_clust | 0.001 | 0.000 | 0.000 | |
| get_coord | 0 | 0 | 0 | |
| get_count | 0 | 0 | 0 | |
| get_dist | 0 | 0 | 0 | |
| get_mean_median | 0.001 | 0.000 | 0.000 | |
| get_pca | 0 | 0 | 0 | |
| get_pcoa | 0.001 | 0.000 | 0.003 | |
| get_pvalue | 0.076 | 0.003 | 0.126 | |
| get_rarecurve | 0 | 0 | 0 | |
| get_sampledflist | 0.000 | 0.001 | 0.000 | |
| get_taxadf | 0.001 | 0.000 | 0.000 | |
| get_upset | 0 | 0 | 0 | |
| get_varct | 0.000 | 0.001 | 0.000 | |
| get_vennlist | 0 | 0 | 0 | |
| ggbartax | 0.000 | 0.001 | 0.000 | |
| ggbox | 0.000 | 0.000 | 0.003 | |
| ggclust | 0.000 | 0.000 | 0.001 | |
| ggdiffbox | 0.000 | 0.001 | 0.000 | |
| ggdiffclade | 0.000 | 0.001 | 0.002 | |
| ggdifftaxbar | 0 | 0 | 0 | |
| ggeffectsize | 0.000 | 0.000 | 0.001 | |
| ggordpoint | 0.001 | 0.000 | 0.000 | |
| ggrarecurve | 0 | 0 | 0 | |
| mp_adonis-methods | 0.125 | 0.007 | 0.196 | |
| mp_aggregate-methods | 0 | 0 | 0 | |
| mp_aggregate_clade-methods | 0.001 | 0.000 | 0.000 | |
| mp_anosim-methods | 1.323 | 0.038 | 1.989 | |
| mp_balance_clade-methods | 0.000 | 0.000 | 0.001 | |
| mp_cal_abundance-methods | 11.039 | 0.180 | 15.345 | |
| mp_cal_alpha-methods | 1.428 | 0.028 | 2.192 | |
| mp_cal_cca-methods | 1.761 | 0.035 | 2.692 | |
| mp_cal_clust-methods | 0.519 | 0.015 | 0.812 | |
| mp_cal_dist-methods | 2.392 | 0.042 | 3.706 | |
| mp_cal_divergence-methods | 0.000 | 0.001 | 0.001 | |
| mp_cal_nmds-methods | 0.306 | 0.017 | 0.482 | |
| mp_cal_pca-methods | 1.811 | 0.032 | 2.784 | |
| mp_cal_pcoa-methods | 0.697 | 0.018 | 1.084 | |
| mp_cal_pd_metric-methods | 0.000 | 0.000 | 0.001 | |
| mp_cal_rarecurve-methods | 7.913 | 0.169 | 12.496 | |
| mp_cal_rda-methods | 0.877 | 0.017 | 1.820 | |
| mp_cal_upset-methods | 1.309 | 0.027 | 2.189 | |
| mp_cal_venn-methods | 1.655 | 0.136 | 3.263 | |
| mp_decostand-methods | 0.417 | 0.009 | 0.648 | |
| mp_diff_analysis-methods | 6.830 | 0.125 | 12.533 | |
| mp_diff_clade-methods | 0.000 | 0.001 | 0.001 | |
| mp_dmn-methods | 0 | 0 | 0 | |
| mp_dmngroup-methods | 0.000 | 0.000 | 0.001 | |
| mp_envfit-methods | 2.206 | 0.063 | 4.194 | |
| mp_filter_taxa-methods | 1.121 | 0.021 | 1.760 | |
| mp_import_metaphlan | 3.304 | 0.034 | 5.130 | |
| mp_mantel-methods | 0.381 | 0.012 | 0.616 | |
| mp_mrpp-methods | 0.212 | 0.009 | 0.339 | |
| mp_plot_abundance-methods | 0.001 | 0.001 | 0.001 | |
| mp_plot_alpha-methods | 0.000 | 0.001 | 0.003 | |
| mp_plot_diff_boxplot-methods | 6.920 | 0.116 | 13.372 | |
| mp_plot_diff_cladogram | 0.000 | 0.001 | 0.001 | |
| mp_plot_diff_manhattan-methods | 4.074 | 0.082 | 6.700 | |
| mp_plot_dist-methods | 0.000 | 0.000 | 0.001 | |
| mp_plot_ord-methods | 0 | 0 | 0 | |
| mp_plot_rarecurve-methods | 0.000 | 0.001 | 0.000 | |
| mp_plot_upset-methods | 0.000 | 0.001 | 0.001 | |
| mp_plot_venn-methods | 0.000 | 0.001 | 0.001 | |
| mp_rrarefy-methods | 0.416 | 0.010 | 0.657 | |
| mp_select_as_tip-methods | 0 | 0 | 0 | |
| mp_stat_taxa-methods | 1.343 | 0.032 | 2.118 | |
| multi_compare | 0.010 | 0.001 | 0.019 | |
| read_qza | 0 | 0 | 0 | |
| show-methods | 0.000 | 0.001 | 0.000 | |
| split_data | 0.002 | 0.002 | 0.005 | |
| split_str_to_list | 0.000 | 0.001 | 0.001 | |
| theme_taxbar | 0 | 0 | 0 | |