| Back to Mac ARM64 build report for BioC 3.17 | 
 | 
This page was generated on 2023-03-02 11:01:32 -0500 (Thu, 02 Mar 2023).
| Hostname | OS | Arch (*) | R version | Installed pkgs | 
|---|---|---|---|---|
| kjohnson2 | macOS 12.6.1 Monterey | arm64 | R Under development (unstable) (2023-01-10 r83596) -- "Unsuffered Consequences" | 3763 | 
| Click on any hostname to see more info about the system (e.g. compilers) (*) as reported by 'uname -p', except on Windows and Mac OS X | ||||
| To the developers/maintainers of the Metab package: Make sure to use the following settings in order to reproduce any error or warning you see on this page. | 
| Package 1126/2171 | Hostname | OS / Arch | INSTALL | BUILD | CHECK | BUILD BIN | ||||||||
| Metab 1.33.0  (landing page) Raphael Aggio 
 | kjohnson2 | macOS 12.6.1 Monterey / arm64 | OK | OK | OK | OK |  | |||||||
| Package: Metab | 
| Version: 1.33.0 | 
| Command: rm -rf Metab.buildbin-libdir && mkdir Metab.buildbin-libdir && /Users/biocbuild/BBS/utils/build-universal.sh Metab_1.33.0.tar.gz /Library/Frameworks/R.framework/Resources/bin/R Metab.buildbin-libdir | 
| StartedAt: 2023-03-01 06:18:26 -0500 (Wed, 01 Mar 2023) | 
| EndedAt: 2023-03-01 06:19:35 -0500 (Wed, 01 Mar 2023) | 
| EllapsedTime: 69.1 seconds | 
| RetCode: 0 | 
| Status: OK | 
| PackageFile: Metab_1.33.0.tgz | 
| PackageFileSize: 3.377 MiB | 
############################################################################## ############################################################################## ### ### Running command: ### ### rm -rf Metab.buildbin-libdir && mkdir Metab.buildbin-libdir && /Users/biocbuild/BBS/utils/build-universal.sh Metab_1.33.0.tar.gz /Library/Frameworks/R.framework/Resources/bin/R Metab.buildbin-libdir ### ############################################################################## ############################################################################## >>>>>>> >>>>>>> INSTALLATION WITH 'R CMD INSTALL --preclean --no-multiarch --library=Metab.buildbin-libdir Metab_1.33.0.tar.gz' >>>>>>> * installing *source* package ‘Metab’ ... ** using staged installation ** R ** data ** inst ** byte-compile and prepare package for lazy loading Warning message: In fun(libname, pkgname) : mzR has been built against a different Rcpp version (1.0.9) than is installed on your system (1.0.10). This might lead to errors when loading mzR. If you encounter such issues, please send a report, including the output of sessionInfo() to the Bioc support forum at https://support.bioconductor.org/. For details see also https://github.com/sneumann/mzR/wiki/mzR-Rcpp-compiler-linker-issue. ** help *** installing help indices ** building package indices ** installing vignettes ** testing if installed package can be loaded from temporary location Warning in fun(libname, pkgname) : mzR has been built against a different Rcpp version (1.0.9) than is installed on your system (1.0.10). This might lead to errors when loading mzR. If you encounter such issues, please send a report, including the output of sessionInfo() to the Bioc support forum at https://support.bioconductor.org/. For details see also https://github.com/sneumann/mzR/wiki/mzR-Rcpp-compiler-linker-issue. ** testing if installed package can be loaded from final location Warning in fun(libname, pkgname) : mzR has been built against a different Rcpp version (1.0.9) than is installed on your system (1.0.10). This might lead to errors when loading mzR. If you encounter such issues, please send a report, including the output of sessionInfo() to the Bioc support forum at https://support.bioconductor.org/. For details see also https://github.com/sneumann/mzR/wiki/mzR-Rcpp-compiler-linker-issue. ** testing if installed package keeps a record of temporary installation path * DONE (Metab)