| Back to Mac ARM64 build report for BioC 3.17 |
|
This page was generated on 2023-10-20 09:38:06 -0400 (Fri, 20 Oct 2023).
| Hostname | OS | Arch (*) | R version | Installed pkgs |
|---|---|---|---|---|
| kjohnson2 | macOS 12.6.1 Monterey | arm64 | 4.3.1 (2023-06-16) -- "Beagle Scouts" | 4347 |
| Click on any hostname to see more info about the system (e.g. compilers) (*) as reported by 'uname -p', except on Windows and Mac OS X | ||||
| Package 1259/2230 | Hostname | OS / Arch | INSTALL | BUILD | CHECK | BUILD BIN | ||||||||
| MLP 1.48.0 (landing page) Tobias Verbeke
| kjohnson2 | macOS 12.6.1 Monterey / arm64 | OK | OK | ERROR | OK | ||||||||
|
To the developers/maintainers of the MLP package: - Use the following Renviron settings to reproduce errors and warnings. - If 'R CMD check' started to fail recently on the Linux builder(s) over a missing dependency, add the missing dependency to 'Suggests:' in your DESCRIPTION file. See Renviron.bioc for more information. |
| Package: MLP |
| Version: 1.48.0 |
| Command: /Library/Frameworks/R.framework/Resources/bin/R CMD check --install=check:MLP.install-out.txt --library=/Library/Frameworks/R.framework/Resources/library --no-vignettes --timings MLP_1.48.0.tar.gz |
| StartedAt: 2023-10-18 08:25:22 -0400 (Wed, 18 Oct 2023) |
| EndedAt: 2023-10-18 08:35:38 -0400 (Wed, 18 Oct 2023) |
| EllapsedTime: 616.1 seconds |
| RetCode: 1 |
| Status: ERROR |
| CheckDir: MLP.Rcheck |
| Warnings: NA |
##############################################################################
##############################################################################
###
### Running command:
###
### /Library/Frameworks/R.framework/Resources/bin/R CMD check --install=check:MLP.install-out.txt --library=/Library/Frameworks/R.framework/Resources/library --no-vignettes --timings MLP_1.48.0.tar.gz
###
##############################################################################
##############################################################################
* using log directory ‘/Users/biocbuild/bbs-3.17-bioc-mac-arm64/meat/MLP.Rcheck’
* using R version 4.3.1 (2023-06-16)
* using platform: aarch64-apple-darwin20 (64-bit)
* R was compiled by
Apple clang version 14.0.0 (clang-1400.0.29.202)
GNU Fortran (GCC) 12.2.0
* running under: macOS Monterey 12.6.7
* using session charset: UTF-8
* using option ‘--no-vignettes’
* checking for file ‘MLP/DESCRIPTION’ ... OK
* checking extension type ... Package
* this is package ‘MLP’ version ‘1.48.0’
* checking package namespace information ... OK
* checking package dependencies ... OK
* checking if this is a source package ... OK
* checking if there is a namespace ... OK
* checking for hidden files and directories ... OK
* checking for portable file names ... OK
* checking for sufficient/correct file permissions ... OK
* checking whether package ‘MLP’ can be installed ... OK
* checking installed package size ... OK
* checking package directory ... OK
* checking ‘build’ directory ... OK
* checking DESCRIPTION meta-information ... OK
* checking top-level files ... OK
* checking for left-over files ... OK
* checking index information ... OK
* checking package subdirectories ... OK
* checking R files for non-ASCII characters ... OK
* checking R files for syntax errors ... OK
* checking whether the package can be loaded ... OK
* checking whether the package can be loaded with stated dependencies ... OK
* checking whether the package can be unloaded cleanly ... OK
* checking whether the namespace can be loaded with stated dependencies ... OK
* checking whether the namespace can be unloaded cleanly ... OK
* checking dependencies in R code ... OK
* checking S3 generic/method consistency ... OK
* checking replacement functions ... OK
* checking foreign function calls ... OK
* checking R code for possible problems ... OK
* checking Rd files ... OK
* checking Rd metadata ... OK
* checking Rd cross-references ... OK
* checking for missing documentation entries ... OK
* checking for code/documentation mismatches ... OK
* checking Rd \usage sections ... OK
* checking Rd contents ... OK
* checking for unstated dependencies in examples ... OK
* checking sizes of PDF files under ‘inst/doc’ ... OK
* checking files in ‘vignettes’ ... OK
* checking examples ... OK
Examples with CPU (user + system) or elapsed time > 5s
user system elapsed
addGeneSetDescription 77.164 5.591 127.726
getGeneSets 64.583 4.498 153.298
MLP 28.765 0.975 43.240
plot.MLP 3.674 0.297 6.131
* checking for unstated dependencies in ‘tests’ ... OK
* checking tests ...
Running ‘test.KEGG.R’
ERROR
Running the tests in ‘tests/test.KEGG.R’ failed.
Last 13 lines of output:
+ species = "Mouse",
+ geneSetSource = "KEGG",
+ entrezIdentifiers = names(pvalues)
+ ))
user system elapsed
41.495 1.106 100.988
>
> set.seed(111)
> mlpOut <- MLP(
+ geneSet = geneSet,
+ geneStatistic = pvalues
+ )
Error in x[n - 0:19] : only 0's may be mixed with negative subscripts
Calls: MLP ... quantileCurves -> vv -> smdecreasing1 -> lsfit -> as.matrix
Execution halted
* checking for unstated dependencies in vignettes ... OK
* checking package vignettes in ‘inst/doc’ ... OK
* checking running R code from vignettes ... SKIPPED
* checking re-building of vignette outputs ... SKIPPED
* checking PDF version of manual ... OK
* DONE
Status: 1 ERROR
See
‘/Users/biocbuild/bbs-3.17-bioc-mac-arm64/meat/MLP.Rcheck/00check.log’
for details.
MLP.Rcheck/00install.out
############################################################################## ############################################################################## ### ### Running command: ### ### /Library/Frameworks/R.framework/Resources/bin/R CMD INSTALL MLP ### ############################################################################## ############################################################################## * installing to library ‘/Library/Frameworks/R.framework/Versions/4.3-arm64/Resources/library’ * installing *source* package ‘MLP’ ... ** using staged installation ** R ** inst ** byte-compile and prepare package for lazy loading ** help *** installing help indices ** building package indices ** installing vignettes ** testing if installed package can be loaded from temporary location ** testing if installed package can be loaded from final location ** testing if installed package keeps a record of temporary installation path * DONE (MLP)
MLP.Rcheck/tests/test.KEGG.Rout.fail
R version 4.3.1 (2023-06-16) -- "Beagle Scouts"
Copyright (C) 2023 The R Foundation for Statistical Computing
Platform: aarch64-apple-darwin20 (64-bit)
R is free software and comes with ABSOLUTELY NO WARRANTY.
You are welcome to redistribute it under certain conditions.
Type 'license()' or 'licence()' for distribution details.
R is a collaborative project with many contributors.
Type 'contributors()' for more information and
'citation()' on how to cite R or R packages in publications.
Type 'demo()' for some demos, 'help()' for on-line help, or
'help.start()' for an HTML browser interface to help.
Type 'q()' to quit R.
> library(MLP)
>
> pathPValues <- system.file("exampleFiles", "examplePValues.rda", package = "MLP")
> load(pathPValues)
>
> pvalues <- examplePValues[seq.int(1000)]
>
> system.time(geneSet <- getGeneSets(
+ species = "Mouse",
+ geneSetSource = "KEGG",
+ entrezIdentifiers = names(pvalues)
+ ))
user system elapsed
41.495 1.106 100.988
>
> set.seed(111)
> mlpOut <- MLP(
+ geneSet = geneSet,
+ geneStatistic = pvalues
+ )
Error in x[n - 0:19] : only 0's may be mixed with negative subscripts
Calls: MLP ... quantileCurves -> vv -> smdecreasing1 -> lsfit -> as.matrix
Execution halted
MLP.Rcheck/MLP-Ex.timings
| name | user | system | elapsed | |
| MLP | 28.765 | 0.975 | 43.240 | |
| addGeneSetDescription | 77.164 | 5.591 | 127.726 | |
| getGeneSets | 64.583 | 4.498 | 153.298 | |
| mlpBarplot | 0.023 | 0.005 | 0.044 | |
| plot.MLP | 3.674 | 0.297 | 6.131 | |
| plotGOgraph | 0.695 | 0.053 | 1.227 | |
| plotGeneSetSignificance | 0.855 | 0.060 | 1.442 | |