| Back to Mac ARM64 build report for BioC 3.17 |
|
This page was generated on 2023-10-20 09:38:05 -0400 (Fri, 20 Oct 2023).
| Hostname | OS | Arch (*) | R version | Installed pkgs |
|---|---|---|---|---|
| kjohnson2 | macOS 12.6.1 Monterey | arm64 | 4.3.1 (2023-06-16) -- "Beagle Scouts" | 4347 |
| Click on any hostname to see more info about the system (e.g. compilers) (*) as reported by 'uname -p', except on Windows and Mac OS X | ||||
| Package 1089/2230 | Hostname | OS / Arch | INSTALL | BUILD | CHECK | BUILD BIN | ||||||||
| LymphoSeq 1.28.0 (landing page) David Coffey
| kjohnson2 | macOS 12.6.1 Monterey / arm64 | OK | OK | OK | OK | ||||||||
|
To the developers/maintainers of the LymphoSeq package: - Use the following Renviron settings to reproduce errors and warnings. - If 'R CMD check' started to fail recently on the Linux builder(s) over a missing dependency, add the missing dependency to 'Suggests:' in your DESCRIPTION file. See Renviron.bioc for more information. |
| Package: LymphoSeq |
| Version: 1.28.0 |
| Command: /Library/Frameworks/R.framework/Resources/bin/R CMD check --install=check:LymphoSeq.install-out.txt --library=/Library/Frameworks/R.framework/Resources/library --no-vignettes --timings LymphoSeq_1.28.0.tar.gz |
| StartedAt: 2023-10-18 04:07:30 -0400 (Wed, 18 Oct 2023) |
| EndedAt: 2023-10-18 04:13:21 -0400 (Wed, 18 Oct 2023) |
| EllapsedTime: 351.2 seconds |
| RetCode: 0 |
| Status: OK |
| CheckDir: LymphoSeq.Rcheck |
| Warnings: 0 |
##############################################################################
##############################################################################
###
### Running command:
###
### /Library/Frameworks/R.framework/Resources/bin/R CMD check --install=check:LymphoSeq.install-out.txt --library=/Library/Frameworks/R.framework/Resources/library --no-vignettes --timings LymphoSeq_1.28.0.tar.gz
###
##############################################################################
##############################################################################
* using log directory ‘/Users/biocbuild/bbs-3.17-bioc-mac-arm64/meat/LymphoSeq.Rcheck’
* using R version 4.3.1 (2023-06-16)
* using platform: aarch64-apple-darwin20 (64-bit)
* R was compiled by
Apple clang version 14.0.0 (clang-1400.0.29.202)
GNU Fortran (GCC) 12.2.0
* running under: macOS Monterey 12.6.7
* using session charset: UTF-8
* using option ‘--no-vignettes’
* checking for file ‘LymphoSeq/DESCRIPTION’ ... OK
* this is package ‘LymphoSeq’ version ‘1.28.0’
* checking package namespace information ... OK
* checking package dependencies ... OK
* checking if this is a source package ... OK
* checking if there is a namespace ... OK
* checking for hidden files and directories ... OK
* checking for portable file names ... OK
* checking for sufficient/correct file permissions ... OK
* checking whether package ‘LymphoSeq’ can be installed ... OK
* checking installed package size ... NOTE
installed size is 5.7Mb
sub-directories of 1Mb or more:
extdata 5.5Mb
* checking package directory ... OK
* checking ‘build’ directory ... OK
* checking DESCRIPTION meta-information ... OK
* checking top-level files ... OK
* checking for left-over files ... OK
* checking index information ... OK
* checking package subdirectories ... OK
* checking R files for non-ASCII characters ... OK
* checking R files for syntax errors ... OK
* checking whether the package can be loaded ... OK
* checking whether the package can be loaded with stated dependencies ... OK
* checking whether the package can be unloaded cleanly ... OK
* checking whether the namespace can be loaded with stated dependencies ... OK
* checking whether the namespace can be unloaded cleanly ... OK
* checking dependencies in R code ... OK
* checking S3 generic/method consistency ... OK
* checking replacement functions ... OK
* checking foreign function calls ... OK
* checking R code for possible problems ... OK
* checking Rd files ... OK
* checking Rd metadata ... OK
* checking Rd cross-references ... OK
* checking for missing documentation entries ... OK
* checking for code/documentation mismatches ... OK
* checking Rd \usage sections ... OK
* checking Rd contents ... OK
* checking for unstated dependencies in examples ... OK
* checking files in ‘vignettes’ ... OK
* checking examples ... OK
Examples with CPU (user + system) or elapsed time > 5s
user system elapsed
cloneTrack 29.430 0.989 45.059
productiveSeq 24.080 0.605 37.842
phyloTree 5.512 0.071 8.588
differentialAbundance 3.738 0.100 5.899
seqMatrix 3.382 0.068 5.313
* checking for unstated dependencies in vignettes ... OK
* checking package vignettes in ‘inst/doc’ ... OK
* checking running R code from vignettes ... SKIPPED
* checking re-building of vignette outputs ... SKIPPED
* checking PDF version of manual ... OK
* DONE
Status: 1 NOTE
See
‘/Users/biocbuild/bbs-3.17-bioc-mac-arm64/meat/LymphoSeq.Rcheck/00check.log’
for details.
LymphoSeq.Rcheck/00install.out
############################################################################## ############################################################################## ### ### Running command: ### ### /Library/Frameworks/R.framework/Resources/bin/R CMD INSTALL LymphoSeq ### ############################################################################## ############################################################################## * installing to library ‘/Library/Frameworks/R.framework/Versions/4.3-arm64/Resources/library’ * installing *source* package ‘LymphoSeq’ ... ** using staged installation ** R ** inst ** byte-compile and prepare package for lazy loading ** help *** installing help indices ** building package indices ** installing vignettes ** testing if installed package can be loaded from temporary location ** testing if installed package can be loaded from final location ** testing if installed package keeps a record of temporary installation path * DONE (LymphoSeq)
LymphoSeq.Rcheck/LymphoSeq-Ex.timings
| name | user | system | elapsed | |
| alignSeq | 1.073 | 0.031 | 1.725 | |
| bhattacharyyaCoefficient | 0.579 | 0.024 | 0.937 | |
| bhattacharyyaMatrix | 0.204 | 0.013 | 0.329 | |
| chordDiagramVDJ | 0.989 | 0.043 | 1.594 | |
| clonalRelatedness | 1.037 | 0.011 | 1.625 | |
| clonality | 0.066 | 0.005 | 0.111 | |
| cloneTrack | 29.430 | 0.989 | 45.059 | |
| commonSeqs | 0.196 | 0.019 | 0.335 | |
| commonSeqsBar | 0.984 | 0.108 | 1.688 | |
| commonSeqsPlot | 0.483 | 0.050 | 0.832 | |
| commonSeqsVenn | 0.934 | 0.093 | 1.538 | |
| differentialAbundance | 3.738 | 0.100 | 5.899 | |
| exportFasta | 0.291 | 0.029 | 0.496 | |
| geneFreq | 1.842 | 0.085 | 2.911 | |
| lorenzCurve | 2.830 | 0.061 | 4.385 | |
| mergeFiles | 0.090 | 0.005 | 0.145 | |
| pairwisePlot | 0.830 | 0.017 | 1.299 | |
| phyloTree | 5.512 | 0.071 | 8.588 | |
| productive | 0.071 | 0.005 | 0.117 | |
| productiveSeq | 24.080 | 0.605 | 37.842 | |
| readImmunoSeq | 0.051 | 0.005 | 0.086 | |
| removeSeq | 0.067 | 0.006 | 0.111 | |
| searchPublished | 0.201 | 0.012 | 0.337 | |
| searchSeq | 0.442 | 0.011 | 0.691 | |
| seqMatrix | 3.382 | 0.068 | 5.313 | |
| similarityMatrix | 0.206 | 0.008 | 0.329 | |
| similarityScore | 0.187 | 0.008 | 0.313 | |
| topFreq | 3.047 | 0.077 | 4.864 | |
| topSeqs | 0.195 | 0.008 | 0.318 | |
| topSeqsPlot | 0.509 | 0.012 | 0.802 | |
| uniqueSeqs | 0.235 | 0.007 | 0.367 | |