| Back to Mac ARM64 build report for BioC 3.17 |
|
This page was generated on 2023-10-20 09:38:04 -0400 (Fri, 20 Oct 2023).
| Hostname | OS | Arch (*) | R version | Installed pkgs |
|---|---|---|---|---|
| kjohnson2 | macOS 12.6.1 Monterey | arm64 | 4.3.1 (2023-06-16) -- "Beagle Scouts" | 4347 |
| Click on any hostname to see more info about the system (e.g. compilers) (*) as reported by 'uname -p', except on Windows and Mac OS X | ||||
| Package 989/2230 | Hostname | OS / Arch | INSTALL | BUILD | CHECK | BUILD BIN | ||||||||
| ImmuneSpaceR 1.28.0 (landing page) ImmuneSpace Package Maintainer
| kjohnson2 | macOS 12.6.1 Monterey / arm64 | OK | OK | OK | OK | ||||||||
|
To the developers/maintainers of the ImmuneSpaceR package: - Use the following Renviron settings to reproduce errors and warnings. - If 'R CMD check' started to fail recently on the Linux builder(s) over a missing dependency, add the missing dependency to 'Suggests:' in your DESCRIPTION file. See Renviron.bioc for more information. |
| Package: ImmuneSpaceR |
| Version: 1.28.0 |
| Command: /Library/Frameworks/R.framework/Resources/bin/R CMD build --keep-empty-dirs --no-resave-data ImmuneSpaceR |
| StartedAt: 2023-10-16 06:47:55 -0400 (Mon, 16 Oct 2023) |
| EndedAt: 2023-10-16 06:50:47 -0400 (Mon, 16 Oct 2023) |
| EllapsedTime: 171.6 seconds |
| RetCode: 0 |
| Status: OK |
| PackageFile: ImmuneSpaceR_1.28.0.tar.gz |
| PackageFileSize: 1.422 MiB |
##############################################################################
##############################################################################
###
### Running command:
###
### /Library/Frameworks/R.framework/Resources/bin/R CMD build --keep-empty-dirs --no-resave-data ImmuneSpaceR
###
##############################################################################
##############################################################################
* checking for file ‘ImmuneSpaceR/DESCRIPTION’ ... OK
* preparing ‘ImmuneSpaceR’:
* checking DESCRIPTION meta-information ... OK
* installing the package to build vignettes
* creating vignettes ... OK
* checking for LF line-endings in source and make files and shell scripts
* checking for empty or unneeded directories
NB: this package now depends on R (>= 3.5.0)
WARNING: Added dependency on R >= 3.5.0 because serialized objects in
serialize/load version 3 cannot be read in older versions of R.
File(s) containing such objects:
‘ImmuneSpaceR/tests/testthat/datasets/SDY180_fcs_control_files.rds’
‘ImmuneSpaceR/tests/testthat/datasets/SDY180_fcs_sample_files.rds’
‘ImmuneSpaceR/tests/testthat/datasets/SDY180_mbaa.rds’
‘ImmuneSpaceR/tests/testthat/datasets/SDY180_neut_ab_titer.rds’
‘ImmuneSpaceR/tests/testthat/datasets/SDY269_elisa.rds’
‘ImmuneSpaceR/tests/testthat/datasets/SDY269_elispot.rds’
‘ImmuneSpaceR/tests/testthat/datasets/SDY269_hai.rds’
* building ‘ImmuneSpaceR_1.28.0.tar.gz’