Back to Mac ARM64 build report for BioC 3.17 |
|
This page was generated on 2023-10-20 09:38:04 -0400 (Fri, 20 Oct 2023).
Hostname | OS | Arch (*) | R version | Installed pkgs |
---|---|---|---|---|
kjohnson2 | macOS 12.6.1 Monterey | arm64 | 4.3.1 (2023-06-16) -- "Beagle Scouts" | 4347 |
Click on any hostname to see more info about the system (e.g. compilers) (*) as reported by 'uname -p', except on Windows and Mac OS X |
Package 1021/2230 | Hostname | OS / Arch | INSTALL | BUILD | CHECK | BUILD BIN | ||||||||
ISAnalytics 1.10.2 (landing page) Giulia Pais
| kjohnson2 | macOS 12.6.1 Monterey / arm64 | OK | OK | OK | OK | ||||||||
To the developers/maintainers of the ISAnalytics package: - Use the following Renviron settings to reproduce errors and warnings. - If 'R CMD check' started to fail recently on the Linux builder(s) over a missing dependency, add the missing dependency to 'Suggests:' in your DESCRIPTION file. See Renviron.bioc for more information. |
Package: ISAnalytics |
Version: 1.10.2 |
Command: /Library/Frameworks/R.framework/Resources/bin/R CMD check --install=check:ISAnalytics.install-out.txt --library=/Library/Frameworks/R.framework/Resources/library --no-vignettes --timings ISAnalytics_1.10.2.tar.gz |
StartedAt: 2023-10-18 02:39:27 -0400 (Wed, 18 Oct 2023) |
EndedAt: 2023-10-18 02:54:00 -0400 (Wed, 18 Oct 2023) |
EllapsedTime: 872.7 seconds |
RetCode: 0 |
Status: OK |
CheckDir: ISAnalytics.Rcheck |
Warnings: 0 |
############################################################################## ############################################################################## ### ### Running command: ### ### /Library/Frameworks/R.framework/Resources/bin/R CMD check --install=check:ISAnalytics.install-out.txt --library=/Library/Frameworks/R.framework/Resources/library --no-vignettes --timings ISAnalytics_1.10.2.tar.gz ### ############################################################################## ############################################################################## * using log directory ‘/Users/biocbuild/bbs-3.17-bioc-mac-arm64/meat/ISAnalytics.Rcheck’ * using R version 4.3.1 (2023-06-16) * using platform: aarch64-apple-darwin20 (64-bit) * R was compiled by Apple clang version 14.0.0 (clang-1400.0.29.202) GNU Fortran (GCC) 12.2.0 * running under: macOS Monterey 12.6.7 * using session charset: UTF-8 * using option ‘--no-vignettes’ * checking for file ‘ISAnalytics/DESCRIPTION’ ... OK * this is package ‘ISAnalytics’ version ‘1.10.2’ * package encoding: UTF-8 * checking package namespace information ... OK * checking package dependencies ... OK * checking if this is a source package ... OK * checking if there is a namespace ... OK * checking for hidden files and directories ... OK * checking for portable file names ... OK * checking for sufficient/correct file permissions ... OK * checking whether package ‘ISAnalytics’ can be installed ... OK * checking installed package size ... OK * checking package directory ... OK * checking ‘build’ directory ... OK * checking DESCRIPTION meta-information ... OK * checking top-level files ... OK * checking for left-over files ... OK * checking index information ... OK * checking package subdirectories ... OK * checking R files for non-ASCII characters ... OK * checking R files for syntax errors ... OK * checking whether the package can be loaded ... OK * checking whether the package can be loaded with stated dependencies ... OK * checking whether the package can be unloaded cleanly ... OK * checking whether the namespace can be loaded with stated dependencies ... OK * checking whether the namespace can be unloaded cleanly ... OK * checking startup messages can be suppressed ... OK * checking dependencies in R code ... OK * checking S3 generic/method consistency ... OK * checking replacement functions ... OK * checking foreign function calls ... OK * checking R code for possible problems ... OK * checking Rd files ... OK * checking Rd metadata ... OK * checking Rd cross-references ... OK * checking for missing documentation entries ... OK * checking for code/documentation mismatches ... OK * checking Rd \usage sections ... OK * checking Rd contents ... OK * checking for unstated dependencies in examples ... OK * checking contents of ‘data’ directory ... OK * checking data for non-ASCII characters ... OK * checking data for ASCII and uncompressed saves ... OK * checking files in ‘vignettes’ ... OK * checking examples ... OK Examples with CPU (user + system) or elapsed time > 5s user system elapsed integration_alluvial_plot 3.784 0.103 16.314 import_parallel_Vispa2Matrices 2.079 0.150 23.736 sharing_venn 1.675 0.103 80.329 import_Vispa2_stats 1.522 0.133 11.581 CIS_grubbs_overtime 1.448 0.185 12.503 top_cis_overtime_heatmap 1.448 0.073 12.493 sharing_heatmap 1.281 0.043 17.798 iss_source 0.951 0.029 12.382 HSC_population_plot 0.879 0.030 11.009 realign_after_collisions 0.777 0.031 10.145 remove_collisions 0.698 0.026 9.787 is_sharing 0.689 0.028 12.213 compute_near_integrations 0.558 0.024 16.678 HSC_population_size_estimate 0.549 0.022 10.360 * checking for unstated dependencies in ‘tests’ ... OK * checking tests ... Running ‘testthat.R’ OK * checking for unstated dependencies in vignettes ... OK * checking package vignettes in ‘inst/doc’ ... OK * checking running R code from vignettes ... SKIPPED * checking re-building of vignette outputs ... SKIPPED * checking PDF version of manual ... OK * DONE Status: OK
ISAnalytics.Rcheck/00install.out
############################################################################## ############################################################################## ### ### Running command: ### ### /Library/Frameworks/R.framework/Resources/bin/R CMD INSTALL ISAnalytics ### ############################################################################## ############################################################################## * installing to library ‘/Library/Frameworks/R.framework/Versions/4.3-arm64/Resources/library’ * installing *source* package ‘ISAnalytics’ ... ** using staged installation ** R ** data ** inst ** byte-compile and prepare package for lazy loading ** help *** installing help indices *** copying figures ** building package indices ** installing vignettes ** testing if installed package can be loaded from temporary location ** testing if installed package can be loaded from final location ** testing if installed package keeps a record of temporary installation path * DONE (ISAnalytics)
ISAnalytics.Rcheck/tests/testthat.Rout
R version 4.3.1 (2023-06-16) -- "Beagle Scouts" Copyright (C) 2023 The R Foundation for Statistical Computing Platform: aarch64-apple-darwin20 (64-bit) R is free software and comes with ABSOLUTELY NO WARRANTY. You are welcome to redistribute it under certain conditions. Type 'license()' or 'licence()' for distribution details. R is a collaborative project with many contributors. Type 'contributors()' for more information and 'citation()' on how to cite R or R packages in publications. Type 'demo()' for some demos, 'help()' for on-line help, or 'help.start()' for an HTML browser interface to help. Type 'q()' to quit R. > library(testthat) > library(ISAnalytics) > > test_check("ISAnalytics") Loading required namespace: plotly Loading required namespace: rmarkdown Report correctly saved i Report saved to: /tmp/RtmpPEQHlR/file119b213406916/2023-10-18_collision_removal_report.html Report correctly saved i Report saved to: /tmp/RtmpPEQHlR/file119b282a239f/2023-10-18_outlier_test_pool_fragments_report.html [ FAIL 0 | WARN 0 | SKIP 0 | PASS 834 ] > > proc.time() user system elapsed 107.119 4.067 451.386
ISAnalytics.Rcheck/ISAnalytics-Ex.timings
name | user | system | elapsed | |
CIS_grubbs | 1.080 | 0.061 | 1.753 | |
CIS_grubbs_overtime | 1.448 | 0.185 | 12.503 | |
CIS_volcano_plot | 1.404 | 0.037 | 2.227 | |
HSC_population_plot | 0.879 | 0.030 | 11.009 | |
HSC_population_size_estimate | 0.549 | 0.022 | 10.360 | |
NGSdataExplorer | 0 | 0 | 0 | |
aggregate_metadata | 0.138 | 0.004 | 0.223 | |
aggregate_values_by_key | 0.091 | 0.005 | 0.145 | |
annotation_issues | 0.037 | 0.003 | 0.063 | |
as_sparse_matrix | 0.084 | 0.003 | 0.136 | |
available_outlier_tests | 0.001 | 0.000 | 0.001 | |
available_tags | 0.027 | 0.000 | 0.046 | |
blood_lineages_default | 0.027 | 0.000 | 0.044 | |
circos_genomic_density | 0 | 0 | 0 | |
clinical_relevant_suspicious_genes | 0.027 | 0.001 | 0.041 | |
comparison_matrix | 0.039 | 0.001 | 0.060 | |
compute_abundance | 0.048 | 0.003 | 0.078 | |
compute_near_integrations | 0.558 | 0.024 | 16.678 | |
cumulative_count_union | 0.000 | 0.000 | 0.001 | |
cumulative_is | 0.237 | 0.008 | 0.370 | |
date_formats | 0 | 0 | 0 | |
default_af_transform | 0.000 | 0.000 | 0.002 | |
default_iss_file_prefixes | 0.000 | 0.000 | 0.001 | |
default_meta_agg | 0.022 | 0.000 | 0.034 | |
default_rec_agg_lambdas | 0.000 | 0.000 | 0.001 | |
default_report_path | 0.008 | 0.002 | 0.016 | |
default_stats | 1.323 | 0.047 | 2.099 | |
enable_progress_bars | 0.021 | 0.004 | 0.038 | |
export_ISA_settings | 0.087 | 0.007 | 0.145 | |
fisher_scatterplot | 1.304 | 0.049 | 2.071 | |
gene_frequency_fisher | 1.080 | 0.027 | 1.684 | |
generate_Vispa2_launch_AF | 0.275 | 0.024 | 0.498 | |
generate_blank_association_file | 0.016 | 0.002 | 0.029 | |
generate_default_folder_structure | 0.611 | 0.090 | 1.372 | |
import_ISA_settings | 0.100 | 0.004 | 0.285 | |
import_Vispa2_stats | 1.522 | 0.133 | 11.581 | |
import_association_file | 0.897 | 0.107 | 1.947 | |
import_parallel_Vispa2Matrices | 2.079 | 0.150 | 23.736 | |
import_single_Vispa2Matrix | 1.176 | 0.121 | 2.360 | |
inspect_tags | 0.023 | 0.001 | 0.037 | |
integration_alluvial_plot | 3.784 | 0.103 | 16.314 | |
is_sharing | 0.689 | 0.028 | 12.213 | |
iss_source | 0.951 | 0.029 | 12.382 | |
known_clinical_oncogenes | 0.015 | 0.000 | 0.024 | |
mandatory_IS_vars | 0.141 | 0.006 | 0.221 | |
matching_options | 0 | 0 | 0 | |
outlier_filter | 0.212 | 0.015 | 0.353 | |
outliers_by_pool_fragments | 0.207 | 0.006 | 0.329 | |
pcr_id_column | 0.030 | 0.001 | 0.048 | |
purity_filter | 0.511 | 0.014 | 0.803 | |
quantification_types | 0 | 0 | 0 | |
realign_after_collisions | 0.777 | 0.031 | 10.145 | |
reduced_AF_columns | 0.066 | 0.001 | 0.101 | |
refGene_table_cols | 0.001 | 0.000 | 0.000 | |
remove_collisions | 0.698 | 0.026 | 9.787 | |
reset_mandatory_IS_vars | 0.017 | 0.004 | 0.029 | |
sample_statistics | 0.406 | 0.054 | 0.707 | |
separate_quant_matrices | 0.024 | 0.004 | 0.040 | |
set_mandatory_IS_vars | 0.140 | 0.006 | 0.228 | |
set_matrix_file_suffixes | 0.029 | 0.002 | 0.047 | |
sharing_heatmap | 1.281 | 0.043 | 17.798 | |
sharing_venn | 1.675 | 0.103 | 80.329 | |
threshold_filter | 0.000 | 0.001 | 0.001 | |
top_abund_tableGrob | 0.885 | 0.020 | 1.396 | |
top_cis_overtime_heatmap | 1.448 | 0.073 | 12.493 | |
top_integrations | 0.040 | 0.001 | 0.062 | |
top_targeted_genes | 1.161 | 0.016 | 1.814 | |
transform_columns | 0.030 | 0.000 | 0.047 | |