| Back to Mac ARM64 build report for BioC 3.17 |
|
This page was generated on 2023-10-20 09:38:02 -0400 (Fri, 20 Oct 2023).
| Hostname | OS | Arch (*) | R version | Installed pkgs |
|---|---|---|---|---|
| kjohnson2 | macOS 12.6.1 Monterey | arm64 | 4.3.1 (2023-06-16) -- "Beagle Scouts" | 4347 |
| Click on any hostname to see more info about the system (e.g. compilers) (*) as reported by 'uname -p', except on Windows and Mac OS X | ||||
| Package 783/2230 | Hostname | OS / Arch | INSTALL | BUILD | CHECK | BUILD BIN | ||||||||
| GeneOverlap 1.36.0 (landing page) António Miguel de Jesus Domingues, Max-Planck Institute for Cell Biology and Genetics
| kjohnson2 | macOS 12.6.1 Monterey / arm64 | OK | OK | OK | OK | ||||||||
|
To the developers/maintainers of the GeneOverlap package: - Use the following Renviron settings to reproduce errors and warnings. - If 'R CMD check' started to fail recently on the Linux builder(s) over a missing dependency, add the missing dependency to 'Suggests:' in your DESCRIPTION file. See Renviron.bioc for more information. |
| Package: GeneOverlap |
| Version: 1.36.0 |
| Command: /Library/Frameworks/R.framework/Resources/bin/R CMD build --keep-empty-dirs --no-resave-data GeneOverlap |
| StartedAt: 2023-10-16 03:59:53 -0400 (Mon, 16 Oct 2023) |
| EndedAt: 2023-10-16 04:00:12 -0400 (Mon, 16 Oct 2023) |
| EllapsedTime: 18.3 seconds |
| RetCode: 0 |
| Status: OK |
| PackageFile: GeneOverlap_1.36.0.tar.gz |
| PackageFileSize: 361.1 KiB |
############################################################################## ############################################################################## ### ### Running command: ### ### /Library/Frameworks/R.framework/Resources/bin/R CMD build --keep-empty-dirs --no-resave-data GeneOverlap ### ############################################################################## ############################################################################## * checking for file ‘GeneOverlap/DESCRIPTION’ ... OK * preparing ‘GeneOverlap’: * checking DESCRIPTION meta-information ... OK * installing the package to build vignettes * creating vignettes ... OK Warning in .write_description(db, ldpath) : Unknown encoding with non-ASCII data: converting to ASCII * checking for LF line-endings in source and make files and shell scripts * checking for empty or unneeded directories * looking to see if a ‘data/datalist’ file should be added * building ‘GeneOverlap_1.36.0.tar.gz’