| Back to Mac ARM64 build report for BioC 3.17 |
|
This page was generated on 2023-10-20 09:38:01 -0400 (Fri, 20 Oct 2023).
| Hostname | OS | Arch (*) | R version | Installed pkgs |
|---|---|---|---|---|
| kjohnson2 | macOS 12.6.1 Monterey | arm64 | 4.3.1 (2023-06-16) -- "Beagle Scouts" | 4347 |
| Click on any hostname to see more info about the system (e.g. compilers) (*) as reported by 'uname -p', except on Windows and Mac OS X | ||||
| Package 553/2230 | Hostname | OS / Arch | INSTALL | BUILD | CHECK | BUILD BIN | ||||||||
| DifferentialRegulation 1.4.2 (landing page) Simone Tiberi
| kjohnson2 | macOS 12.6.1 Monterey / arm64 | OK | OK | OK | OK | ||||||||
|
To the developers/maintainers of the DifferentialRegulation package: - Use the following Renviron settings to reproduce errors and warnings. - If 'R CMD check' started to fail recently on the Linux builder(s) over a missing dependency, add the missing dependency to 'Suggests:' in your DESCRIPTION file. See Renviron.bioc for more information. |
| Package: DifferentialRegulation |
| Version: 1.4.2 |
| Command: /Library/Frameworks/R.framework/Resources/bin/R CMD check --install=check:DifferentialRegulation.install-out.txt --library=/Library/Frameworks/R.framework/Resources/library --no-vignettes --timings DifferentialRegulation_1.4.2.tar.gz |
| StartedAt: 2023-10-17 15:46:08 -0400 (Tue, 17 Oct 2023) |
| EndedAt: 2023-10-17 15:55:23 -0400 (Tue, 17 Oct 2023) |
| EllapsedTime: 555.0 seconds |
| RetCode: 0 |
| Status: OK |
| CheckDir: DifferentialRegulation.Rcheck |
| Warnings: 0 |
##############################################################################
##############################################################################
###
### Running command:
###
### /Library/Frameworks/R.framework/Resources/bin/R CMD check --install=check:DifferentialRegulation.install-out.txt --library=/Library/Frameworks/R.framework/Resources/library --no-vignettes --timings DifferentialRegulation_1.4.2.tar.gz
###
##############################################################################
##############################################################################
* using log directory ‘/Users/biocbuild/bbs-3.17-bioc-mac-arm64/meat/DifferentialRegulation.Rcheck’
* using R version 4.3.1 (2023-06-16)
* using platform: aarch64-apple-darwin20 (64-bit)
* R was compiled by
Apple clang version 14.0.0 (clang-1400.0.29.202)
GNU Fortran (GCC) 12.2.0
* running under: macOS Monterey 12.6.7
* using session charset: UTF-8
* using option ‘--no-vignettes’
* checking for file ‘DifferentialRegulation/DESCRIPTION’ ... OK
* checking extension type ... Package
* this is package ‘DifferentialRegulation’ version ‘1.4.2’
* package encoding: UTF-8
* checking package namespace information ... OK
* checking package dependencies ... OK
* checking if this is a source package ... OK
* checking if there is a namespace ... OK
* checking for hidden files and directories ... OK
* checking for portable file names ... OK
* checking for sufficient/correct file permissions ... OK
* checking whether package ‘DifferentialRegulation’ can be installed ... OK
* used C++ compiler: ‘Apple clang version 14.0.0 (clang-1400.0.29.202)’
* used SDK: ‘MacOSX11.3.sdk’
* checking C++ specification ... NOTE
Specified C++11: please drop specification unless essential
* checking installed package size ... OK
* checking package directory ... OK
* checking ‘build’ directory ... OK
* checking DESCRIPTION meta-information ... OK
* checking top-level files ... OK
* checking for left-over files ... OK
* checking index information ... OK
* checking package subdirectories ... OK
* checking R files for non-ASCII characters ... OK
* checking R files for syntax errors ... OK
* checking whether the package can be loaded ... OK
* checking whether the package can be loaded with stated dependencies ... OK
* checking whether the package can be unloaded cleanly ... OK
* checking whether the namespace can be loaded with stated dependencies ... OK
* checking whether the namespace can be unloaded cleanly ... OK
* checking dependencies in R code ... OK
* checking S3 generic/method consistency ... OK
* checking replacement functions ... OK
* checking foreign function calls ... OK
* checking R code for possible problems ... NOTE
MCMC_ECs: no visible binding for global variable ‘cl’
Undefined global functions or variables:
cl
* checking Rd files ... OK
* checking Rd metadata ... OK
* checking Rd cross-references ... OK
* checking for missing documentation entries ... OK
* checking for code/documentation mismatches ... OK
* checking Rd \usage sections ... OK
* checking Rd contents ... OK
* checking for unstated dependencies in examples ... OK
* checking line endings in C/C++/Fortran sources/headers ... OK
* checking line endings in Makefiles ... OK
* checking compilation flags in Makevars ... OK
* checking for GNU extensions in Makefiles ... OK
* checking for portable use of $(BLAS_LIBS) and $(LAPACK_LIBS) ... OK
* checking use of PKG_*FLAGS in Makefiles ... OK
* checking compiled code ... NOTE
Note: information on .o files is not available
* checking files in ‘vignettes’ ... OK
* checking examples ... OK
Examples with CPU (user + system) or elapsed time > 5s
user system elapsed
DifferentialRegulation_bulk 85.964 12.346 150.313
DifferentialRegulation 4.937 0.229 31.321
load_bulk_EC 0.204 0.044 23.062
* checking for unstated dependencies in ‘tests’ ... OK
* checking tests ...
Running ‘testhat.R’
OK
* checking for unstated dependencies in vignettes ... OK
* checking package vignettes in ‘inst/doc’ ... OK
* checking running R code from vignettes ... SKIPPED
* checking re-building of vignette outputs ... SKIPPED
* checking PDF version of manual ... OK
* DONE
Status: 3 NOTEs
See
‘/Users/biocbuild/bbs-3.17-bioc-mac-arm64/meat/DifferentialRegulation.Rcheck/00check.log’
for details.
DifferentialRegulation.Rcheck/00install.out
##############################################################################
##############################################################################
###
### Running command:
###
### /Library/Frameworks/R.framework/Resources/bin/R CMD INSTALL DifferentialRegulation
###
##############################################################################
##############################################################################
* installing to library ‘/Library/Frameworks/R.framework/Versions/4.3-arm64/Resources/library’
* installing *source* package ‘DifferentialRegulation’ ...
** using staged installation
** libs
using C++ compiler: ‘Apple clang version 14.0.0 (clang-1400.0.29.202)’
using C++11
using SDK: ‘MacOSX11.3.sdk’
clang++ -arch arm64 -std=gnu++11 -I"/Library/Frameworks/R.framework/Resources/include" -DNDEBUG -I'/Library/Frameworks/R.framework/Versions/4.3-arm64/Resources/library/Rcpp/include' -I'/Library/Frameworks/R.framework/Versions/4.3-arm64/Resources/library/RcppArmadillo/include' -I/opt/R/arm64/include -fPIC -falign-functions=64 -Wall -g -O2 -c RcppExports.cpp -o RcppExports.o
clang++ -arch arm64 -std=gnu++11 -I"/Library/Frameworks/R.framework/Resources/include" -DNDEBUG -I'/Library/Frameworks/R.framework/Versions/4.3-arm64/Resources/library/Rcpp/include' -I'/Library/Frameworks/R.framework/Versions/4.3-arm64/Resources/library/RcppArmadillo/include' -I/opt/R/arm64/include -fPIC -falign-functions=64 -Wall -g -O2 -c Rcpp_MCMC.cpp -o Rcpp_MCMC.o
Rcpp_MCMC.cpp:135:17: warning: unused variable 'tmp_2' [-Wunused-variable]
double tmp_1, tmp_2, tmp_3;
^
Rcpp_MCMC.cpp:135:10: warning: unused variable 'tmp_1' [-Wunused-variable]
double tmp_1, tmp_2, tmp_3;
^
Rcpp_MCMC.cpp:135:24: warning: unused variable 'tmp_3' [-Wunused-variable]
double tmp_1, tmp_2, tmp_3;
^
3 warnings generated.
clang++ -arch arm64 -std=gnu++11 -I"/Library/Frameworks/R.framework/Resources/include" -DNDEBUG -I'/Library/Frameworks/R.framework/Versions/4.3-arm64/Resources/library/Rcpp/include' -I'/Library/Frameworks/R.framework/Versions/4.3-arm64/Resources/library/RcppArmadillo/include' -I/opt/R/arm64/include -fPIC -falign-functions=64 -Wall -g -O2 -c Rcpp_MCMC_EC_US.cpp -o Rcpp_MCMC_EC_US.o
Rcpp_MCMC_EC_US.cpp:130:17: warning: unused variable 'tmp_2' [-Wunused-variable]
double tmp_1, tmp_2, tmp;
^
Rcpp_MCMC_EC_US.cpp:130:10: warning: unused variable 'tmp_1' [-Wunused-variable]
double tmp_1, tmp_2, tmp;
^
2 warnings generated.
clang++ -arch arm64 -std=gnu++11 -dynamiclib -Wl,-headerpad_max_install_names -undefined dynamic_lookup -single_module -multiply_defined suppress -L/Library/Frameworks/R.framework/Resources/lib -L/opt/R/arm64/lib -o DifferentialRegulation.so RcppExports.o Rcpp_MCMC.o Rcpp_MCMC_EC_US.o -L/Library/Frameworks/R.framework/Resources/lib -lRlapack -L/Library/Frameworks/R.framework/Resources/lib -lRblas -L/opt/gfortran/lib/gcc/aarch64-apple-darwin20.0/12.2.0 -L/opt/gfortran/lib -lgfortran -lemutls_w -lquadmath -F/Library/Frameworks/R.framework/.. -framework R -Wl,-framework -Wl,CoreFoundation
ld: warning: could not create compact unwind for ___emutls_get_address: registers 23 and 24 not saved contiguously in frame
installing to /Library/Frameworks/R.framework/Versions/4.3-arm64/Resources/library/00LOCK-DifferentialRegulation/00new/DifferentialRegulation/libs
** R
** inst
** byte-compile and prepare package for lazy loading
** help
*** installing help indices
** building package indices
** installing vignettes
** testing if installed package can be loaded from temporary location
** checking absolute paths in shared objects and dynamic libraries
** testing if installed package can be loaded from final location
** testing if installed package keeps a record of temporary installation path
* DONE (DifferentialRegulation)
DifferentialRegulation.Rcheck/tests/testhat.Rout
R version 4.3.1 (2023-06-16) -- "Beagle Scouts"
Copyright (C) 2023 The R Foundation for Statistical Computing
Platform: aarch64-apple-darwin20 (64-bit)
R is free software and comes with ABSOLUTELY NO WARRANTY.
You are welcome to redistribute it under certain conditions.
Type 'license()' or 'licence()' for distribution details.
R is a collaborative project with many contributors.
Type 'contributors()' for more information and
'citation()' on how to cite R or R packages in publications.
Type 'demo()' for some demos, 'help()' for on-line help, or
'help.start()' for an HTML browser interface to help.
Type 'q()' to quit R.
> library(testthat)
> library(DifferentialRegulation)
> test_check("DifferentialRegulation")
[ FAIL 0 | WARN 0 | SKIP 0 | PASS 8 ]
Warning messages:
1: In if (!is.null(partial)) { :
closing unused connection 5 (<-localhost:11118)
2: In if (!is.null(partial)) { :
closing unused connection 4 (<-localhost:11118)
>
> proc.time()
user system elapsed
12.238 0.679 39.169
DifferentialRegulation.Rcheck/DifferentialRegulation-Ex.timings
| name | user | system | elapsed | |
| DifferentialRegulation | 4.937 | 0.229 | 31.321 | |
| DifferentialRegulation_bulk | 85.964 | 12.346 | 150.313 | |
| compute_PB_counts | 2.728 | 0.088 | 4.140 | |
| load_EC | 1.122 | 0.060 | 1.763 | |
| load_USA | 0.241 | 0.007 | 0.378 | |
| load_bulk_EC | 0.204 | 0.044 | 23.062 | |
| load_bulk_US | 0.268 | 0.029 | 0.530 | |
| plot_bulk_pi | 0.129 | 0.057 | 0.340 | |
| plot_pi | 0.090 | 0.034 | 0.212 | |