| Back to Mac ARM64 build report for BioC 3.17 |
|
This page was generated on 2023-10-20 09:38:01 -0400 (Fri, 20 Oct 2023).
| Hostname | OS | Arch (*) | R version | Installed pkgs |
|---|---|---|---|---|
| kjohnson2 | macOS 12.6.1 Monterey | arm64 | 4.3.1 (2023-06-16) -- "Beagle Scouts" | 4347 |
| Click on any hostname to see more info about the system (e.g. compilers) (*) as reported by 'uname -p', except on Windows and Mac OS X | ||||
| Package 512/2230 | Hostname | OS / Arch | INSTALL | BUILD | CHECK | BUILD BIN | ||||||||
| DeepBlueR 1.26.0 (landing page) Felipe Albrecht
| kjohnson2 | macOS 12.6.1 Monterey / arm64 | ERROR | ERROR | skipped | skipped | ||||||||
|
To the developers/maintainers of the DeepBlueR package: - Use the following Renviron settings to reproduce errors and warnings. - If 'R CMD check' started to fail recently on the Linux builder(s) over a missing dependency, add the missing dependency to 'Suggests:' in your DESCRIPTION file. See Renviron.bioc for more information. |
| Package: DeepBlueR |
| Version: 1.26.0 |
| Command: /Library/Frameworks/R.framework/Resources/bin/R CMD build --keep-empty-dirs --no-resave-data DeepBlueR |
| StartedAt: 2023-10-16 01:12:40 -0400 (Mon, 16 Oct 2023) |
| EndedAt: 2023-10-16 01:13:00 -0400 (Mon, 16 Oct 2023) |
| EllapsedTime: 20.1 seconds |
| RetCode: 1 |
| Status: ERROR |
| PackageFile: None |
| PackageFileSize: NA |
##############################################################################
##############################################################################
###
### Running command:
###
### /Library/Frameworks/R.framework/Resources/bin/R CMD build --keep-empty-dirs --no-resave-data DeepBlueR
###
##############################################################################
##############################################################################
* checking for file ‘DeepBlueR/DESCRIPTION’ ... OK
* preparing ‘DeepBlueR’:
* checking DESCRIPTION meta-information ... OK
* installing the package to build vignettes
-----------------------------------
* installing *source* package ‘DeepBlueR’ ...
** using staged installation
** R
** demo
** inst
** byte-compile and prepare package for lazy loading
status
"503"
Error in xml.rpc(deepblue_options("url"), "list_column_types", user_key) :
Problems
Error: unable to load R code in package ‘DeepBlueR’
Execution halted
ERROR: lazy loading failed for package ‘DeepBlueR’
* removing ‘/private/tmp/Rtmpbxqkg8/Rinst6b4216a76bd4/DeepBlueR’
-----------------------------------
ERROR: package installation failed