| Back to Mac ARM64 build report for BioC 3.17 |
|
This page was generated on 2023-10-20 09:38:00 -0400 (Fri, 20 Oct 2023).
| Hostname | OS | Arch (*) | R version | Installed pkgs |
|---|---|---|---|---|
| kjohnson2 | macOS 12.6.1 Monterey | arm64 | 4.3.1 (2023-06-16) -- "Beagle Scouts" | 4347 |
| Click on any hostname to see more info about the system (e.g. compilers) (*) as reported by 'uname -p', except on Windows and Mac OS X | ||||
| Package 487/2230 | Hostname | OS / Arch | INSTALL | BUILD | CHECK | BUILD BIN | ||||||||
| CytoPipeline 1.0.2 (landing page) Philippe Hauchamps
| kjohnson2 | macOS 12.6.1 Monterey / arm64 | OK | OK | OK | OK | ||||||||
|
To the developers/maintainers of the CytoPipeline package: - Use the following Renviron settings to reproduce errors and warnings. - If 'R CMD check' started to fail recently on the Linux builder(s) over a missing dependency, add the missing dependency to 'Suggests:' in your DESCRIPTION file. See Renviron.bioc for more information. |
| Package: CytoPipeline |
| Version: 1.0.2 |
| Command: /Library/Frameworks/R.framework/Resources/bin/R CMD check --install=check:CytoPipeline.install-out.txt --library=/Library/Frameworks/R.framework/Resources/library --no-vignettes --timings CytoPipeline_1.0.2.tar.gz |
| StartedAt: 2023-10-17 13:44:57 -0400 (Tue, 17 Oct 2023) |
| EndedAt: 2023-10-17 13:52:36 -0400 (Tue, 17 Oct 2023) |
| EllapsedTime: 459.3 seconds |
| RetCode: 0 |
| Status: OK |
| CheckDir: CytoPipeline.Rcheck |
| Warnings: 0 |
##############################################################################
##############################################################################
###
### Running command:
###
### /Library/Frameworks/R.framework/Resources/bin/R CMD check --install=check:CytoPipeline.install-out.txt --library=/Library/Frameworks/R.framework/Resources/library --no-vignettes --timings CytoPipeline_1.0.2.tar.gz
###
##############################################################################
##############################################################################
* using log directory ‘/Users/biocbuild/bbs-3.17-bioc-mac-arm64/meat/CytoPipeline.Rcheck’
* using R version 4.3.1 (2023-06-16)
* using platform: aarch64-apple-darwin20 (64-bit)
* R was compiled by
Apple clang version 14.0.0 (clang-1400.0.29.202)
GNU Fortran (GCC) 12.2.0
* running under: macOS Monterey 12.6.7
* using session charset: UTF-8
* using option ‘--no-vignettes’
* checking for file ‘CytoPipeline/DESCRIPTION’ ... OK
* this is package ‘CytoPipeline’ version ‘1.0.2’
* package encoding: UTF-8
* checking package namespace information ... OK
* checking package dependencies ... OK
* checking if this is a source package ... OK
* checking if there is a namespace ... OK
* checking for hidden files and directories ... OK
* checking for portable file names ... OK
* checking for sufficient/correct file permissions ... OK
* checking whether package ‘CytoPipeline’ can be installed ... OK
* checking installed package size ... OK
* checking package directory ... OK
* checking ‘build’ directory ... OK
* checking DESCRIPTION meta-information ... OK
* checking top-level files ... NOTE
File
LICENSE
is not mentioned in the DESCRIPTION file.
* checking for left-over files ... OK
* checking index information ... OK
* checking package subdirectories ... OK
* checking R files for non-ASCII characters ... OK
* checking R files for syntax errors ... OK
* checking whether the package can be loaded ... OK
* checking whether the package can be loaded with stated dependencies ... OK
* checking whether the package can be unloaded cleanly ... OK
* checking whether the namespace can be loaded with stated dependencies ... OK
* checking whether the namespace can be unloaded cleanly ... OK
* checking dependencies in R code ... OK
* checking S3 generic/method consistency ... OK
* checking replacement functions ... OK
* checking foreign function calls ... OK
* checking R code for possible problems ... OK
* checking Rd files ... OK
* checking Rd metadata ... OK
* checking Rd cross-references ... OK
* checking for missing documentation entries ... OK
* checking for code/documentation mismatches ... OK
* checking Rd \usage sections ... OK
* checking Rd contents ... OK
* checking for unstated dependencies in examples ... OK
* checking contents of ‘data’ directory ... OK
* checking data for non-ASCII characters ... OK
* checking data for ASCII and uncompressed saves ... OK
* checking files in ‘vignettes’ ... OK
* checking examples ... OK
Examples with CPU (user + system) or elapsed time > 5s
user system elapsed
execute 32.109 2.051 51.871
interactingWithCytoPipelineCache 17.481 1.097 28.516
inspectCytoPipelineObjects 11.881 0.715 19.227
ggplotEvents 5.001 0.113 6.637
qualityControlFlowAI 3.906 0.191 6.239
* checking for unstated dependencies in ‘tests’ ... OK
* checking tests ...
Running ‘testthat.R’
OK
* checking for unstated dependencies in vignettes ... OK
* checking package vignettes in ‘inst/doc’ ... OK
* checking running R code from vignettes ... SKIPPED
* checking re-building of vignette outputs ... SKIPPED
* checking PDF version of manual ... OK
* DONE
Status: 1 NOTE
See
‘/Users/biocbuild/bbs-3.17-bioc-mac-arm64/meat/CytoPipeline.Rcheck/00check.log’
for details.
CytoPipeline.Rcheck/00install.out
############################################################################## ############################################################################## ### ### Running command: ### ### /Library/Frameworks/R.framework/Resources/bin/R CMD INSTALL CytoPipeline ### ############################################################################## ############################################################################## * installing to library ‘/Library/Frameworks/R.framework/Versions/4.3-arm64/Resources/library’ * installing *source* package ‘CytoPipeline’ ... ** using staged installation ** R ** data ** inst ** byte-compile and prepare package for lazy loading ** help *** installing help indices ** building package indices ** installing vignettes ** testing if installed package can be loaded from temporary location ** testing if installed package can be loaded from final location ** testing if installed package keeps a record of temporary installation path * DONE (CytoPipeline)
CytoPipeline.Rcheck/tests/testthat.Rout
R version 4.3.1 (2023-06-16) -- "Beagle Scouts"
Copyright (C) 2023 The R Foundation for Statistical Computing
Platform: aarch64-apple-darwin20 (64-bit)
R is free software and comes with ABSOLUTELY NO WARRANTY.
You are welcome to redistribute it under certain conditions.
Type 'license()' or 'licence()' for distribution details.
R is a collaborative project with many contributors.
Type 'contributors()' for more information and
'citation()' on how to cite R or R packages in publications.
Type 'demo()' for some demos, 'help()' for on-line help, or
'help.start()' for an HTML browser interface to help.
Type 'q()' to quit R.
> # CytoPipeline - Copyright (C) <2022>
> # <Université catholique de Louvain (UCLouvain), Belgique>
> #
> # Description and complete License: see LICENSE file.
> #
> # This program (CytoPipeline) is free software:
> # you can redistribute it and/or modify it under the terms of the GNU General
> # Public License as published by the Free Software Foundation,
> # either version 3 of the License, or (at your option) any later version.
> #
> # This program is distributed in the hope that it will be useful,
> # but WITHOUT ANY WARRANTY; without even the implied warranty of
> # MERCHANTABILITY or FITNESS FOR A PARTICULAR PURPOSE. See the
> # GNU General Public License for more details (<http://www.gnu.org/licenses/>).
>
> library(testthat)
> library(CytoPipeline)
>
> # launch unit tests
> test_check("CytoPipeline")
Pipeline object for flow cytometry experiment: OMIP021_PeacoQC
No sample file
No pheno data
Scale transformations evaluation queue has no processing step
Flow frames pre-processing evaluation queue has no processing step
Pipeline object for flow cytometry experiment: OMIP021_PeacoQC
Sample files: 2 sample file(s)
No pheno data
Scale transformations evaluation queue has no processing step
Flow frames pre-processing evaluation queue has no processing step
#####################################################
### running SCALE TRANSFORMATION processing steps ###
#####################################################
Proceeding with step 1 [scale_transform_read] ...
#####################################################
### NOW PRE-PROCESSING FILE /Library/Frameworks/R.framework/Versions/4.3-arm64/Resources/library/CytoPipeline/extdata/Donor1.fcs...
#####################################################
#####################################################
### NOW PRE-PROCESSING FILE /Library/Frameworks/R.framework/Versions/4.3-arm64/Resources/library/CytoPipeline/extdata/Donor2.fcs...
#####################################################
Proceeding with phenoData ...
#####################################################
### running SCALE TRANSFORMATION processing steps ###
#####################################################
Proceeding with step 1 [flowframe_read] ...
#####################################################
### NOW PRE-PROCESSING FILE /Library/Frameworks/R.framework/Versions/4.3-arm64/Resources/library/CytoPipeline/extdata/Donor1.fcs...
#####################################################
#####################################################
### NOW PRE-PROCESSING FILE /Library/Frameworks/R.framework/Versions/4.3-arm64/Resources/library/CytoPipeline/extdata/Donor2.fcs...
#####################################################
#####################################################
### running SCALE TRANSFORMATION processing steps ###
#####################################################
Proceeding with step 1 [flowframe_read] ...
Proceeding with step 2 [remove_margins] ...
Removing margins from file : Donor1.fcs
Removing margins from file : Donor2.fcs
Proceeding with step 3 [compensate] ...
Compensating file : Donor1.fcs
Compensating file : Donor2.fcs
Proceeding with step 4 [flowframe_aggregate] ...
Proceeding with step 5 [scale_transform_estimate] ...
estimating logicle transformations for fluorochrome channels...
Estimating linear transformation for scatter channels : reference marker = BV785 - CD3...
applying specific linear transformation for FSC-A channel...
initial quantiles : q5 = 48809.1266 ; q95 = 182769.1664
target quantiles : q5 = 0.3996 ; q95 = 2.9603
a = 1.91e-05 ; b = -5.33e-01
applying FSC-A linear transformation for FSC-H channel...
applying specific linear transformation for SSC-A channel...
initial quantiles : q5 = 41296.8164 ; q95 = 223620.1273
target quantiles : q5 = 0.3996 ; q95 = 2.9603
a = 1.40e-05 ; b = -1.80e-01
applying SSC-A linear transformation for SSC-H channel...
#####################################################
### NOW PRE-PROCESSING FILE /Library/Frameworks/R.framework/Versions/4.3-arm64/Resources/library/CytoPipeline/extdata/Donor1.fcs...
#####################################################
Proceeding with step 1 [flowframe_read] ...
Proceeding with step 2 [remove_margins] ...
Removing margins from file : Donor1.fcs
Proceeding with step 3 [compensate] ...
Compensating file : Donor1.fcs
Proceeding with step 4 [remove_doublets] ...
Proceeding with step 5 [remove_debris] ...
Proceeding with step 6 [remove_dead_cells] ...
Proceeding with step 7 [perform_QC] ...
Applying PeacoQC method...
Starting quality control analysis for Donor1.fcs
Calculating peaks
|
| | 0%
|
|++ | 5%
|
|+++++ | 10%
|
|++++++++ | 15%
|
|++++++++++ | 20%
|
|++++++++++++ | 25%
|
|+++++++++++++++ | 30%
|
|++++++++++++++++++ | 35%
|
|++++++++++++++++++++ | 40%
|
|++++++++++++++++++++++ | 45%
|
|+++++++++++++++++++++++++ | 50%
|
|++++++++++++++++++++++++++++ | 55%
|
|++++++++++++++++++++++++++++++ | 60%
|
|++++++++++++++++++++++++++++++++ | 65%
|
|+++++++++++++++++++++++++++++++++++ | 70%
|
|++++++++++++++++++++++++++++++++++++++ | 75%
|
|++++++++++++++++++++++++++++++++++++++++ | 80%
|
|++++++++++++++++++++++++++++++++++++++++++ | 85%
|
|+++++++++++++++++++++++++++++++++++++++++++++ | 90%
|
|++++++++++++++++++++++++++++++++++++++++++++++++ | 95%
|
|++++++++++++++++++++++++++++++++++++++++++++++++++| 100%
MAD analysis removed 22.09% of the measurements
The algorithm removed 22.09% of the measurements
Proceeding with step 8 [transform] ...
#####################################################
### NOW PRE-PROCESSING FILE /Library/Frameworks/R.framework/Versions/4.3-arm64/Resources/library/CytoPipeline/extdata/Donor2.fcs...
#####################################################
Proceeding with step 1 [flowframe_read] ...
Proceeding with step 2 [remove_margins] ...
Removing margins from file : Donor2.fcs
Proceeding with step 3 [compensate] ...
Compensating file : Donor2.fcs
Proceeding with step 4 [remove_doublets] ...
Proceeding with step 5 [remove_debris] ...
Proceeding with step 6 [remove_dead_cells] ...
Proceeding with step 7 [perform_QC] ...
Applying PeacoQC method...
Starting quality control analysis for Donor2.fcs
Calculating peaks
|
| | 0%
|
|++ | 5%
|
|+++++ | 10%
|
|++++++++ | 15%
|
|++++++++++ | 20%
|
|++++++++++++ | 25%
|
|+++++++++++++++ | 30%
|
|++++++++++++++++++ | 35%
|
|++++++++++++++++++++ | 40%
|
|++++++++++++++++++++++ | 45%
|
|+++++++++++++++++++++++++ | 50%
|
|++++++++++++++++++++++++++++ | 55%
|
|++++++++++++++++++++++++++++++ | 60%
|
|++++++++++++++++++++++++++++++++ | 65%
|
|+++++++++++++++++++++++++++++++++++ | 70%
|
|++++++++++++++++++++++++++++++++++++++ | 75%
|
|++++++++++++++++++++++++++++++++++++++++ | 80%
|
|++++++++++++++++++++++++++++++++++++++++++ | 85%
|
|+++++++++++++++++++++++++++++++++++++++++++++ | 90%
|
|++++++++++++++++++++++++++++++++++++++++++++++++ | 95%
|
|++++++++++++++++++++++++++++++++++++++++++++++++++| 100%
MAD analysis removed 1.69% of the measurements
The algorithm removed 1.69% of the measurements
Proceeding with step 8 [transform] ...
#####################################################
### running SCALE TRANSFORMATION processing steps ###
#####################################################
Proceeding with step 1 [flowframe_read]: found in cache!
Proceeding with step 2 [remove_margins]: found in cache!
Proceeding with step 3 [compensate]: found in cache!
Proceeding with step 4 [flowframe_aggregate]: found in cache!
Proceeding with step 5 [scale_transform_estimate]: found in cache!
#####################################################
### NOW PRE-PROCESSING FILE /Library/Frameworks/R.framework/Versions/4.3-arm64/Resources/library/CytoPipeline/extdata/Donor1.fcs...
#####################################################
Proceeding with step 1 [flowframe_read]: found in cache!
Proceeding with step 2 [remove_margins]: found in cache!
Proceeding with step 3 [compensate]: found in cache!
Proceeding with step 4 [remove_doublets]: found in cache!
Proceeding with step 5 [remove_debris]: found in cache!
Proceeding with step 6 [remove_dead_cells]: found in cache!
Proceeding with step 7 [perform_QC]: found in cache!
Proceeding with step 8 [transform]: found in cache!
#####################################################
### NOW PRE-PROCESSING FILE /Library/Frameworks/R.framework/Versions/4.3-arm64/Resources/library/CytoPipeline/extdata/Donor2.fcs...
#####################################################
Proceeding with step 1 [flowframe_read]: found in cache!
Proceeding with step 2 [remove_margins]: found in cache!
Proceeding with step 3 [compensate]: found in cache!
Proceeding with step 4 [remove_doublets]: found in cache!
Proceeding with step 5 [remove_debris]: found in cache!
Proceeding with step 6 [remove_dead_cells]: found in cache!
Proceeding with step 7 [perform_QC]: found in cache!
Proceeding with step 8 [transform]: found in cache!
#####################################################
### running SCALE TRANSFORMATION processing steps ###
#####################################################
Proceeding with step 1 [flowframe_read] ...
Proceeding with step 2 [remove_margins] ...
Removing margins from file : Donor1.fcs
Removing margins from file : Donor2.fcs
Proceeding with step 3 [compensate] ...
Compensating file : Donor1.fcs
Compensating file : Donor2.fcs
Proceeding with step 4 [flowframe_aggregate] ...
Proceeding with step 5 [scale_transform_estimate] ...
estimating logicle transformations for fluorochrome channels...
Estimating linear transformation for scatter channels : reference marker = BV785 - CD3...
applying specific linear transformation for FSC-A channel...
initial quantiles : q5 = 48809.1266 ; q95 = 182769.1664
target quantiles : q5 = 0.3996 ; q95 = 2.9603
a = 1.91e-05 ; b = -5.33e-01
applying FSC-A linear transformation for FSC-H channel...
applying specific linear transformation for SSC-A channel...
initial quantiles : q5 = 41296.8164 ; q95 = 223620.1273
target quantiles : q5 = 0.3996 ; q95 = 2.9603
a = 1.40e-05 ; b = -1.80e-01
applying SSC-A linear transformation for SSC-H channel...
#####################################################
### NOW PRE-PROCESSING FILE /Library/Frameworks/R.framework/Versions/4.3-arm64/Resources/library/CytoPipeline/extdata/Donor1.fcs...
#####################################################
Proceeding with step 1 [flowframe_read] ...
Proceeding with step 2 [remove_margins] ...
Removing margins from file : Donor1.fcs
Proceeding with step 3 [compensate] ...
Compensating file : Donor1.fcs
Proceeding with step 4 [remove_doublets] ...
Proceeding with step 5 [remove_debris] ...
Proceeding with step 6 [remove_dead_cells] ...
Proceeding with step 7 [perform_QC] ...
Applying PeacoQC method...
Starting quality control analysis for Donor1.fcs
Calculating peaks
|
| | 0%
|
|++ | 5%
|
|+++++ | 10%
|
|++++++++ | 15%
|
|++++++++++ | 20%
|
|++++++++++++ | 25%
|
|+++++++++++++++ | 30%
|
|++++++++++++++++++ | 35%
|
|++++++++++++++++++++ | 40%
|
|++++++++++++++++++++++ | 45%
|
|+++++++++++++++++++++++++ | 50%
|
|++++++++++++++++++++++++++++ | 55%
|
|++++++++++++++++++++++++++++++ | 60%
|
|++++++++++++++++++++++++++++++++ | 65%
|
|+++++++++++++++++++++++++++++++++++ | 70%
|
|++++++++++++++++++++++++++++++++++++++ | 75%
|
|++++++++++++++++++++++++++++++++++++++++ | 80%
|
|++++++++++++++++++++++++++++++++++++++++++ | 85%
|
|+++++++++++++++++++++++++++++++++++++++++++++ | 90%
|
|++++++++++++++++++++++++++++++++++++++++++++++++ | 95%
|
|++++++++++++++++++++++++++++++++++++++++++++++++++| 100%
MAD analysis removed 22.09% of the measurements
The algorithm removed 22.09% of the measurements
Proceeding with step 8 [transform] ...
#####################################################
### NOW PRE-PROCESSING FILE /Library/Frameworks/R.framework/Versions/4.3-arm64/Resources/library/CytoPipeline/extdata/Donor2.fcs...
#####################################################
Proceeding with step 1 [flowframe_read] ...
Proceeding with step 2 [remove_margins] ...
Removing margins from file : Donor2.fcs
Proceeding with step 3 [compensate] ...
Compensating file : Donor2.fcs
Proceeding with step 4 [remove_doublets] ...
Proceeding with step 5 [remove_debris] ...
Proceeding with step 6 [remove_dead_cells] ...
Proceeding with step 7 [perform_QC] ...
Applying PeacoQC method...
Starting quality control analysis for Donor2.fcs
Calculating peaks
|
| | 0%
|
|++ | 5%
|
|+++++ | 10%
|
|++++++++ | 15%
|
|++++++++++ | 20%
|
|++++++++++++ | 25%
|
|+++++++++++++++ | 30%
|
|++++++++++++++++++ | 35%
|
|++++++++++++++++++++ | 40%
|
|++++++++++++++++++++++ | 45%
|
|+++++++++++++++++++++++++ | 50%
|
|++++++++++++++++++++++++++++ | 55%
|
|++++++++++++++++++++++++++++++ | 60%
|
|++++++++++++++++++++++++++++++++ | 65%
|
|+++++++++++++++++++++++++++++++++++ | 70%
|
|++++++++++++++++++++++++++++++++++++++ | 75%
|
|++++++++++++++++++++++++++++++++++++++++ | 80%
|
|++++++++++++++++++++++++++++++++++++++++++ | 85%
|
|+++++++++++++++++++++++++++++++++++++++++++++ | 90%
|
|++++++++++++++++++++++++++++++++++++++++++++++++ | 95%
|
|++++++++++++++++++++++++++++++++++++++++++++++++++| 100%
MAD analysis removed 1.69% of the measurements
The algorithm removed 1.69% of the measurements
Proceeding with step 8 [transform] ...
#####################################################
### running SCALE TRANSFORMATION processing steps ###
#####################################################
Proceeding with step 1 [flowframe_read] ...
Proceeding with step 2 [remove_margins] ...
Removing margins from file : Donor1.fcs
Removing margins from file : Donor2.fcs
Proceeding with step 3 [compensate] ...
Compensating file : Donor1.fcs
Compensating file : Donor2.fcs
Proceeding with step 4 [flowframe_aggregate] ...
Proceeding with step 5 [scale_transform_estimate] ...
estimating logicle transformations for fluorochrome channels...
Estimating linear transformation for scatter channels : reference marker = BV785 - CD3...
applying specific linear transformation for FSC-A channel...
initial quantiles : q5 = 48809.1266 ; q95 = 182769.1664
target quantiles : q5 = 0.3996 ; q95 = 2.9603
a = 1.91e-05 ; b = -5.33e-01
applying FSC-A linear transformation for FSC-H channel...
applying specific linear transformation for SSC-A channel...
initial quantiles : q5 = 41296.8164 ; q95 = 223620.1273
target quantiles : q5 = 0.3996 ; q95 = 2.9603
a = 1.40e-05 ; b = -1.80e-01
applying SSC-A linear transformation for SSC-H channel...
#####################################################
### NOW PRE-PROCESSING FILE /Library/Frameworks/R.framework/Versions/4.3-arm64/Resources/library/CytoPipeline/extdata/Donor1.fcs...
#####################################################
Proceeding with step 1 [flowframe_read] ...
Proceeding with step 2 [remove_margins] ...
Removing margins from file : Donor1.fcs
Proceeding with step 3 [compensate] ...
Compensating file : Donor1.fcs
Proceeding with step 4 [remove_doublets] ...
Proceeding with step 5 [remove_debris] ...
Proceeding with step 6 [remove_dead_cells] ...
Proceeding with step 7 [perform_QC] ...
Applying PeacoQC method...
Starting quality control analysis for Donor1.fcs
Calculating peaks
|
| | 0%
|
|++ | 5%
|
|+++++ | 10%
|
|++++++++ | 15%
|
|++++++++++ | 20%
|
|++++++++++++ | 25%
|
|+++++++++++++++ | 30%
|
|++++++++++++++++++ | 35%
|
|++++++++++++++++++++ | 40%
|
|++++++++++++++++++++++ | 45%
|
|+++++++++++++++++++++++++ | 50%
|
|++++++++++++++++++++++++++++ | 55%
|
|++++++++++++++++++++++++++++++ | 60%
|
|++++++++++++++++++++++++++++++++ | 65%
|
|+++++++++++++++++++++++++++++++++++ | 70%
|
|++++++++++++++++++++++++++++++++++++++ | 75%
|
|++++++++++++++++++++++++++++++++++++++++ | 80%
|
|++++++++++++++++++++++++++++++++++++++++++ | 85%
|
|+++++++++++++++++++++++++++++++++++++++++++++ | 90%
|
|++++++++++++++++++++++++++++++++++++++++++++++++ | 95%
|
|++++++++++++++++++++++++++++++++++++++++++++++++++| 100%
MAD analysis removed 22.09% of the measurements
The algorithm removed 22.09% of the measurements
Proceeding with step 8 [transform] ...
#####################################################
### NOW PRE-PROCESSING FILE /Library/Frameworks/R.framework/Versions/4.3-arm64/Resources/library/CytoPipeline/extdata/Donor2.fcs...
#####################################################
Proceeding with step 1 [flowframe_read] ...
Proceeding with step 2 [remove_margins] ...
Removing margins from file : Donor2.fcs
Proceeding with step 3 [compensate] ...
Compensating file : Donor2.fcs
Proceeding with step 4 [remove_doublets] ...
Proceeding with step 5 [remove_debris] ...
Proceeding with step 6 [remove_dead_cells] ...
Proceeding with step 7 [perform_QC] ...
Applying PeacoQC method...
Starting quality control analysis for Donor2.fcs
Calculating peaks
|
| | 0%
|
|++ | 5%
|
|+++++ | 10%
|
|++++++++ | 15%
|
|++++++++++ | 20%
|
|++++++++++++ | 25%
|
|+++++++++++++++ | 30%
|
|++++++++++++++++++ | 35%
|
|++++++++++++++++++++ | 40%
|
|++++++++++++++++++++++ | 45%
|
|+++++++++++++++++++++++++ | 50%
|
|++++++++++++++++++++++++++++ | 55%
|
|++++++++++++++++++++++++++++++ | 60%
|
|++++++++++++++++++++++++++++++++ | 65%
|
|+++++++++++++++++++++++++++++++++++ | 70%
|
|++++++++++++++++++++++++++++++++++++++ | 75%
|
|++++++++++++++++++++++++++++++++++++++++ | 80%
|
|++++++++++++++++++++++++++++++++++++++++++ | 85%
|
|+++++++++++++++++++++++++++++++++++++++++++++ | 90%
|
|++++++++++++++++++++++++++++++++++++++++++++++++ | 95%
|
|++++++++++++++++++++++++++++++++++++++++++++++++++| 100%
MAD analysis removed 1.69% of the measurements
The algorithm removed 1.69% of the measurements
Proceeding with step 8 [transform] ...
#####################################################
### running SCALE TRANSFORMATION processing steps ###
#####################################################
Proceeding with step 1 [flowframe_read] ...
Proceeding with step 2 [remove_margins] ...
Removing margins from file : Donor1.fcs
Removing margins from file : Donor2.fcs
Proceeding with step 3 [compensate] ...
Compensating file : Donor1.fcs
Compensating file : Donor2.fcs
Proceeding with step 4 [flowframe_aggregate] ...
Proceeding with step 5 [scale_transform_estimate] ...
estimating logicle transformations for fluorochrome channels...
Estimating linear transformation for scatter channels : reference marker = BV785 - CD3...
applying specific linear transformation for FSC-A channel...
initial quantiles : q5 = 48809.1266 ; q95 = 182769.1664
target quantiles : q5 = 0.3996 ; q95 = 2.9603
a = 1.91e-05 ; b = -5.33e-01
applying FSC-A linear transformation for FSC-H channel...
applying specific linear transformation for SSC-A channel...
initial quantiles : q5 = 41296.8164 ; q95 = 223620.1273
target quantiles : q5 = 0.3996 ; q95 = 2.9603
a = 1.40e-05 ; b = -1.80e-01
applying SSC-A linear transformation for SSC-H channel...
|
| | 0%
|
|=================================== | 50%
|
|======================================================================| 100%
#####################################################
### running SCALE TRANSFORMATION processing steps ###
#####################################################
Proceeding with step 1 [flowframe_read]: found in cache!
Proceeding with step 2 [remove_margins]: found in cache!
Proceeding with step 3 [compensate]: found in cache!
Proceeding with step 4 [flowframe_aggregate]: found in cache!
Proceeding with step 5 [scale_transform_estimate]: found in cache!
#####################################################
### NOW PRE-PROCESSING FILE Donor1.fcs...
#####################################################
Proceeding with step 1 [flowframe_read]: found in cache!
Proceeding with step 2 [remove_margins]: found in cache!
Proceeding with step 3 [compensate]: found in cache!
Proceeding with step 4 [remove_doublets]: found in cache!
Proceeding with step 5 [remove_debris]: found in cache!
Proceeding with step 6 [remove_dead_cells]: found in cache!
Proceeding with step 7 [perform_QC]: found in cache!
Proceeding with step 8 [transform]: found in cache!
#####################################################
### NOW PRE-PROCESSING FILE Donor2.fcs...
#####################################################
Proceeding with step 1 [flowframe_read]: found in cache!
Proceeding with step 2 [remove_margins]: found in cache!
Proceeding with step 3 [compensate]: found in cache!
Proceeding with step 4 [remove_doublets]: found in cache!
Proceeding with step 5 [remove_debris]: found in cache!
Proceeding with step 6 [remove_dead_cells]: found in cache!
Proceeding with step 7 [perform_QC]: found in cache!
Proceeding with step 8 [transform]: found in cache!
#####################################################
### running SCALE TRANSFORMATION processing steps ###
#####################################################
Proceeding with step 1 [flowframe_read] ...
#####################################################
### NOW PRE-PROCESSING FILE /Library/Frameworks/R.framework/Versions/4.3-arm64/Resources/library/CytoPipeline/extdata/Donor1.fcs...
#####################################################
#####################################################
### NOW PRE-PROCESSING FILE /Library/Frameworks/R.framework/Versions/4.3-arm64/Resources/library/CytoPipeline/extdata/Donor2.fcs...
#####################################################
#####################################################
### running SCALE TRANSFORMATION processing steps ###
#####################################################
Proceeding with step 1 [flowframe_read]: found in cache!
#####################################################
### NOW PRE-PROCESSING FILE /Library/Frameworks/R.framework/Versions/4.3-arm64/Resources/library/CytoPipeline/extdata/Donor1.fcs...
#####################################################
Proceeding with step 1 [flowframe_read] ...
#####################################################
### NOW PRE-PROCESSING FILE /Library/Frameworks/R.framework/Versions/4.3-arm64/Resources/library/CytoPipeline/extdata/Donor2.fcs...
#####################################################
Proceeding with step 1 [flowframe_read] ...
#####################################################
### running SCALE TRANSFORMATION processing steps ###
#####################################################
Proceeding with step 1 [flowframe_read]: found in cache!
#####################################################
### NOW PRE-PROCESSING FILE /Library/Frameworks/R.framework/Versions/4.3-arm64/Resources/library/CytoPipeline/extdata/Donor1.fcs...
#####################################################
Proceeding with step 1 [flowframe_read]: found in cache!
Proceeding with step 2 [remove_margins] ...
Removing margins from file : Donor1.fcs
#####################################################
### NOW PRE-PROCESSING FILE /Library/Frameworks/R.framework/Versions/4.3-arm64/Resources/library/CytoPipeline/extdata/Donor2.fcs...
#####################################################
Proceeding with step 1 [flowframe_read]: found in cache!
Proceeding with step 2 [remove_margins] ...
Removing margins from file : Donor2.fcs
#####################################################
### running SCALE TRANSFORMATION processing steps ###
#####################################################
Proceeding with step 1 [flowframe_read] ...
#####################################################
### NOW PRE-PROCESSING FILE /Library/Frameworks/R.framework/Versions/4.3-arm64/Resources/library/CytoPipeline/extdata/Donor2.fcs...
#####################################################
#####################################################
### running SCALE TRANSFORMATION processing steps ###
#####################################################
Proceeding with step 1 [flowframe_read]: found in cache!
#####################################################
### NOW PRE-PROCESSING FILE /Library/Frameworks/R.framework/Versions/4.3-arm64/Resources/library/CytoPipeline/extdata/Donor2.fcs...
#####################################################
Proceeding with step 1 [flowframe_read] ...
#####################################################
### running SCALE TRANSFORMATION processing steps ###
#####################################################
Proceeding with step 1 [flowframe_read]: found in cache!
#####################################################
### NOW PRE-PROCESSING FILE /Library/Frameworks/R.framework/Versions/4.3-arm64/Resources/library/CytoPipeline/extdata/Donor2.fcs...
#####################################################
Proceeding with step 1 [flowframe_read]: found in cache!
Proceeding with step 2 [remove_margins] ...
Removing margins from file : Donor2.fcs
no sample file passed as argument => defaulting to first sample file
#####################################################
### running SCALE TRANSFORMATION processing steps ###
#####################################################
Proceeding with step 1 [flowframe_read]: found in cache!
#####################################################
### NOW PRE-PROCESSING FILE /Library/Frameworks/R.framework/Versions/4.3-arm64/Resources/library/CytoPipeline/extdata/Donor1.fcs...
#####################################################
Proceeding with step 1 [flowframe_read] ...
Proceeding with step 2 [remove_margins] ...
Removing margins from file : Donor1.fcs
#####################################################
### NOW PRE-PROCESSING FILE /Library/Frameworks/R.framework/Versions/4.3-arm64/Resources/library/CytoPipeline/extdata/Donor2.fcs...
#####################################################
Proceeding with step 1 [flowframe_read]: found in cache!
Proceeding with step 2 [remove_margins]: found in cache!
no sample file passed as argument => defaulting to first sample file
Object of class "CytoProcessingStep"
Name: summing step
Function: user-provided function
Compensating file : Donor1.fcs
Compensating file : Donor1.fcs
Removing margins from file : Donor1.fcs
Removing margins from file : Donor1.fcs
Removing margins from file : Donor1.fcs
Removing margins from file : Donor1.fcs
Compensating file : Donor1.fcs
Compensating file : Donor1.fcs
Compensating file : Donor2.fcs
Compensating file : Donor1.fcs
Compensating file : Donor1.fcs
Compensating file : Donor1.fcs
Applying PeacoQC method...
Starting quality control analysis for Donor1.fcs
Calculating peaks
|
| | 0%
|
|++ | 5%
|
|+++++ | 10%
|
|++++++++ | 15%
|
|++++++++++ | 20%
|
|++++++++++++ | 25%
|
|+++++++++++++++ | 30%
|
|++++++++++++++++++ | 35%
|
|++++++++++++++++++++ | 40%
|
|++++++++++++++++++++++ | 45%
|
|+++++++++++++++++++++++++ | 50%
|
|++++++++++++++++++++++++++++ | 55%
|
|++++++++++++++++++++++++++++++ | 60%
|
|++++++++++++++++++++++++++++++++ | 65%
|
|+++++++++++++++++++++++++++++++++++ | 70%
|
|++++++++++++++++++++++++++++++++++++++ | 75%
|
|++++++++++++++++++++++++++++++++++++++++ | 80%
|
|++++++++++++++++++++++++++++++++++++++++++ | 85%
|
|+++++++++++++++++++++++++++++++++++++++++++++ | 90%
|
|++++++++++++++++++++++++++++++++++++++++++++++++ | 95%
|
|++++++++++++++++++++++++++++++++++++++++++++++++++| 100%
Applying flowAI method...
Quality control for the file: Donor1
0% of anomalous cells detected in the flow rate check.
0% of anomalous cells detected in signal acquisition check.
3% of anomalous cells detected in the dynamic range check.
[ FAIL 0 | WARN 0 | SKIP 3 | PASS 213 ]
══ Skipped tests (3) ═══════════════════════════════════════════════════════════
• On CRAN (3): 'test-ggplots.R:68:5', 'test-ggplots.R:185:5',
'test-ggplots.R:310:5'
[ FAIL 0 | WARN 0 | SKIP 3 | PASS 213 ]
Deleting unused snapshots:
• ggplots/ggplotevents-1d-fill-and-color.svg
• ggplots/ggplotevents-1d-linear-double.svg
• ggplots/ggplotevents-1d-linear-explicit-range-single.svg
• ggplots/ggplotevents-1d-logicle-single.svg
• ggplots/ggplotevents-1d-logicle-with-explicit-params-single.svg
• ggplots/ggplotevents-1d-sub-sampling.svg
• ggplots/ggplotevents-1d-transformlist-linear-not-run.svg
• ggplots/ggplotevents-1d-transformlist-linear-run.svg
• ggplots/ggplotevents-1d-transformlist-logicle-not-run.svg
• ggplots/ggplotevents-1d-transformlist-logicle-run.svg
• ggplots/ggplotevents-2d-x-linear-y-logicle.svg
• ggplots/ggplotevents-2d-x-logicle-y-linear.svg
• ggplots/ggplotevents-2d-x-logicle-y-logicle-bins.svg
• ggplots/ggplotevents-2d-x-logicle-y-logicle-by-markers.svg
• ggplots/ggplotevents-2d-x-logicle-y-logicle-translist-not-run.svg
• ggplots/ggplotevents-2d-x-logicle-y-logicle-translist-run.svg
• ggplots/ggplotfilterevents-2d-5000-points.svg
• ggplots/ggplotfilterevents-2d-all-points-interactive.svg
• ggplots/ggplotfilterevents-2d-infinite-nb-of-points.svg
• ggplots/ggplotfilterevents-2d-small-size.svg
• ggplots/ggplotfilterevents-2d-translist-not-run.svg
• ggplots/ggplotfilterevents-2d-translist-run.svg
>
> proc.time()
user system elapsed
86.696 4.888 165.045
CytoPipeline.Rcheck/CytoPipeline-Ex.timings
| name | user | system | elapsed | |
| CytoPipelineClass | 0.042 | 0.006 | 0.069 | |
| CytoProcessingStep | 0.006 | 0.001 | 0.009 | |
| aggregateAndSample | 0.261 | 0.011 | 0.419 | |
| appendCellID | 0.200 | 0.008 | 0.318 | |
| applyScaleTransforms | 0.347 | 0.010 | 0.547 | |
| areFluoCols | 0.199 | 0.007 | 0.312 | |
| areSignalCols | 0.196 | 0.005 | 0.305 | |
| compensateFromMatrix | 1.634 | 0.055 | 2.599 | |
| computeScatterChannelsLinearScale | 0.277 | 0.007 | 0.431 | |
| estimateScaleTransforms | 0.277 | 0.008 | 0.438 | |
| execute | 32.109 | 2.051 | 51.871 | |
| exportCytoPipeline | 0.015 | 0.002 | 0.026 | |
| findTimeChannel | 0.209 | 0.005 | 0.277 | |
| getAcquiredCompensationMatrix | 0.089 | 0.004 | 0.118 | |
| getChannelNamesFromMarkers | 0.211 | 0.006 | 0.272 | |
| getFCSFileName | 0.189 | 0.006 | 0.252 | |
| getTransfoParams | 0.204 | 0.007 | 0.268 | |
| ggplotEvents | 5.001 | 0.113 | 6.637 | |
| ggplotFilterEvents | 0.886 | 0.031 | 1.281 | |
| ggplotFlowRate | 1.233 | 0.023 | 1.871 | |
| handlingProcessingSteps | 0.007 | 0.003 | 0.016 | |
| inspectCytoPipelineObjects | 11.881 | 0.715 | 19.227 | |
| interactingWithCytoPipelineCache | 17.481 | 1.097 | 28.516 | |
| qualityControlFlowAI | 3.906 | 0.191 | 6.239 | |
| qualityControlPeacoQC | 0.884 | 0.029 | 1.401 | |
| readRDSObject | 0.310 | 0.008 | 0.481 | |
| readSampleFiles | 0.112 | 0.007 | 0.178 | |
| removeChannels | 0.230 | 0.006 | 0.367 | |
| removeDeadCellsManualGate | 0.151 | 0.006 | 0.252 | |
| removeDebrisManualGate | 0.133 | 0.005 | 0.213 | |
| removeDoubletsCytoPipeline | 0.150 | 0.006 | 0.245 | |
| removeMarginsPeacoQC | 0.301 | 0.016 | 0.483 | |
| runCompensation | 0.224 | 0.007 | 0.352 | |
| singletsGate | 1.172 | 0.046 | 1.867 | |
| subsample | 0.203 | 0.005 | 0.318 | |
| updateMarkerName | 0.203 | 0.005 | 0.317 | |
| writeFlowFrame | 0.263 | 0.020 | 0.435 | |