| Back to Mac ARM64 build report for BioC 3.17 | 
 | 
This page was generated on 2023-10-20 09:37:59 -0400 (Fri, 20 Oct 2023).
| Hostname | OS | Arch (*) | R version | Installed pkgs | 
|---|---|---|---|---|
| kjohnson2 | macOS 12.6.1 Monterey | arm64 | 4.3.1 (2023-06-16) -- "Beagle Scouts" | 4347 | 
| Click on any hostname to see more info about the system (e.g. compilers) (*) as reported by 'uname -p', except on Windows and Mac OS X | ||||
| Package 343/2230 | Hostname | OS / Arch | INSTALL | BUILD | CHECK | BUILD BIN | ||||||||
| CHRONOS 1.28.0  (landing page) Panos Balomenos 
 | kjohnson2 | macOS 12.6.1 Monterey / arm64 | OK | ERROR | skipped | skipped | ||||||||
| To the developers/maintainers of the CHRONOS package: - Use the following Renviron settings to reproduce errors and warnings. - If 'R CMD check' started to fail recently on the Linux builder(s) over a missing dependency, add the missing dependency to 'Suggests:' in your DESCRIPTION file. See Renviron.bioc for more information. | 
| Package: CHRONOS | 
| Version: 1.28.0 | 
| Command: /Library/Frameworks/R.framework/Resources/bin/R CMD build --keep-empty-dirs --no-resave-data CHRONOS | 
| StartedAt: 2023-10-15 23:24:07 -0400 (Sun, 15 Oct 2023) | 
| EndedAt: 2023-10-15 23:36:41 -0400 (Sun, 15 Oct 2023) | 
| EllapsedTime: 754.2 seconds | 
| RetCode: 1 | 
| Status: ERROR | 
| PackageFile: None | 
| PackageFileSize: NA | 
############################################################################## ############################################################################## ### ### Running command: ### ### /Library/Frameworks/R.framework/Resources/bin/R CMD build --keep-empty-dirs --no-resave-data CHRONOS ### ############################################################################## ############################################################################## * checking for file ‘CHRONOS/DESCRIPTION’ ... OK * preparing ‘CHRONOS’: * checking DESCRIPTION meta-information ... OK * installing the package to build vignettes * creating vignettes ...sh: line 1: 82392 Killed: 9 '/Library/Frameworks/R.framework/Resources/bin/Rscript' --vanilla --default-packages= -e "tools::buildVignettes(dir = '.', tangle = TRUE)" > '/tmp/RtmpbRHKCl/xshell14136a9c816b' 2>&1 ERROR --- re-building ‘CHRONOS.Rmd’ using rmarkdown