Back to Multiple platform build/check report for BioC 3.17: simplified long |
|
This page was generated on 2023-10-16 11:37:34 -0400 (Mon, 16 Oct 2023).
Hostname | OS | Arch (*) | R version | Installed pkgs |
---|---|---|---|---|
nebbiolo1 | Linux (Ubuntu 22.04.2 LTS) | x86_64 | 4.3.1 (2023-06-16) -- "Beagle Scouts" | 4626 |
palomino3 | Windows Server 2022 Datacenter | x64 | 4.3.1 (2023-06-16 ucrt) -- "Beagle Scouts" | 4379 |
merida1 | macOS 12.6.4 Monterey | x86_64 | 4.3.1 (2023-06-16) -- "Beagle Scouts" | 4395 |
Click on any hostname to see more info about the system (e.g. compilers) (*) as reported by 'uname -p', except on Windows and Mac OS X |
Package 1972/2230 | Hostname | OS / Arch | INSTALL | BUILD | CHECK | BUILD BIN | ||||||||
spatialDE 1.6.0 (landing page) Gabriele Sales
| nebbiolo1 | Linux (Ubuntu 22.04.2 LTS) / x86_64 | OK | OK | OK | ![]() | ||||||||
palomino3 | Windows Server 2022 Datacenter / x64 | OK | OK | OK | OK | ![]() | ||||||||
merida1 | macOS 12.6.4 Monterey / x86_64 | OK | OK | OK | OK | ![]() | ||||||||
kjohnson2 | macOS 12.6.1 Monterey / arm64 | see weekly results here | ||||||||||||
To the developers/maintainers of the spatialDE package: - Allow up to 24 hours (and sometimes 48 hours) for your latest push to git@git.bioconductor.org:packages/spatialDE.git to reflect on this report. See Troubleshooting Build Report for more information. - Use the following Renviron settings to reproduce errors and warnings. - If 'R CMD check' started to fail recently on the Linux builder(s) over a missing dependency, add the missing dependency to 'Suggests:' in your DESCRIPTION file. See Renviron.bioc for more information. |
Package: spatialDE |
Version: 1.6.0 |
Command: /Library/Frameworks/R.framework/Resources/bin/R CMD check --install=check:spatialDE.install-out.txt --library=/Library/Frameworks/R.framework/Resources/library --no-vignettes --timings spatialDE_1.6.0.tar.gz |
StartedAt: 2023-10-16 07:25:28 -0400 (Mon, 16 Oct 2023) |
EndedAt: 2023-10-16 07:50:00 -0400 (Mon, 16 Oct 2023) |
EllapsedTime: 1472.4 seconds |
RetCode: 0 |
Status: OK |
CheckDir: spatialDE.Rcheck |
Warnings: 0 |
############################################################################## ############################################################################## ### ### Running command: ### ### /Library/Frameworks/R.framework/Resources/bin/R CMD check --install=check:spatialDE.install-out.txt --library=/Library/Frameworks/R.framework/Resources/library --no-vignettes --timings spatialDE_1.6.0.tar.gz ### ############################################################################## ############################################################################## * using log directory ‘/Users/biocbuild/bbs-3.17-bioc/meat/spatialDE.Rcheck’ * using R version 4.3.1 (2023-06-16) * using platform: x86_64-apple-darwin20 (64-bit) * R was compiled by Apple clang version 14.0.3 (clang-1403.0.22.14.1) GNU Fortran (GCC) 12.2.0 * running under: macOS Monterey 12.6.4 * using session charset: UTF-8 * using option ‘--no-vignettes’ * checking for file ‘spatialDE/DESCRIPTION’ ... OK * this is package ‘spatialDE’ version ‘1.6.0’ * package encoding: UTF-8 * checking package namespace information ... OK * checking package dependencies ... OK * checking if this is a source package ... OK * checking if there is a namespace ... OK * checking for hidden files and directories ... OK * checking for portable file names ... OK * checking for sufficient/correct file permissions ... OK * checking whether package ‘spatialDE’ can be installed ... NOTE Found the following notes/warnings: Non-staged installation was used See ‘/Users/biocbuild/bbs-3.17-bioc/meat/spatialDE.Rcheck/00install.out’ for details. * checking installed package size ... OK * checking package directory ... OK * checking ‘build’ directory ... OK * checking DESCRIPTION meta-information ... OK * checking top-level files ... OK * checking for left-over files ... OK * checking index information ... OK * checking package subdirectories ... OK * checking R files for non-ASCII characters ... OK * checking R files for syntax errors ... OK * checking whether the package can be loaded ... OK * checking whether the package can be loaded with stated dependencies ... OK * checking whether the package can be unloaded cleanly ... OK * checking whether the namespace can be loaded with stated dependencies ... OK * checking whether the namespace can be unloaded cleanly ... OK * checking dependencies in R code ... OK * checking S3 generic/method consistency ... OK * checking replacement functions ... OK * checking foreign function calls ... OK * checking R code for possible problems ... OK * checking Rd files ... OK * checking Rd metadata ... OK * checking Rd cross-references ... OK * checking for missing documentation entries ... OK * checking for code/documentation mismatches ... OK * checking Rd \usage sections ... OK * checking Rd contents ... OK * checking for unstated dependencies in examples ... OK * checking contents of ‘data’ directory ... OK * checking data for non-ASCII characters ... OK * checking data for ASCII and uncompressed saves ... OK * checking line endings in shell scripts ... OK * checking files in ‘vignettes’ ... OK * checking examples ... OK Examples with CPU (user + system) or elapsed time > 5s user system elapsed spatial_patterns 40.137 7.545 496.407 FSV_sig 14.068 3.633 60.612 modelSearch 4.416 0.713 38.512 spatialPatterns 4.128 0.684 42.733 multiGenePlots 3.984 0.447 19.450 model_search 3.701 0.653 39.912 spatialDE 2.284 0.305 19.354 run 1.979 0.311 19.260 * checking for unstated dependencies in ‘tests’ ... OK * checking tests ... Running ‘testthat.R’ OK * checking for unstated dependencies in vignettes ... OK * checking package vignettes in ‘inst/doc’ ... OK * checking running R code from vignettes ... SKIPPED * checking re-building of vignette outputs ... SKIPPED * checking PDF version of manual ... OK * DONE Status: 1 NOTE See ‘/Users/biocbuild/bbs-3.17-bioc/meat/spatialDE.Rcheck/00check.log’ for details.
spatialDE.Rcheck/00install.out
############################################################################## ############################################################################## ### ### Running command: ### ### /Library/Frameworks/R.framework/Resources/bin/R CMD INSTALL spatialDE ### ############################################################################## ############################################################################## * installing to library ‘/Library/Frameworks/R.framework/Versions/4.3-x86_64/Resources/library’ * installing *source* package ‘spatialDE’ ... ** using non-staged installation via StagedInstall field ** R ** data ** inst ** byte-compile and prepare package for lazy loading ** help *** installing help indices ** building package indices ** installing vignettes ** testing if installed package can be loaded * DONE (spatialDE)
spatialDE.Rcheck/tests/testthat.Rout
R version 4.3.1 (2023-06-16) -- "Beagle Scouts" Copyright (C) 2023 The R Foundation for Statistical Computing Platform: x86_64-apple-darwin20 (64-bit) R is free software and comes with ABSOLUTELY NO WARRANTY. You are welcome to redistribute it under certain conditions. Type 'license()' or 'licence()' for distribution details. R is a collaborative project with many contributors. Type 'contributors()' for more information and 'citation()' on how to cite R or R packages in publications. Type 'demo()' for some demos, 'help()' for on-line help, or 'help.start()' for an HTML browser interface to help. Type 'q()' to quit R. > library(testthat) > library(spatialDE) > > test_check("spatialDE") Loading required package: SingleCellExperiment Loading required package: SummarizedExperiment Loading required package: MatrixGenerics Loading required package: matrixStats Attaching package: 'MatrixGenerics' The following objects are masked from 'package:matrixStats': colAlls, colAnyNAs, colAnys, colAvgsPerRowSet, colCollapse, colCounts, colCummaxs, colCummins, colCumprods, colCumsums, colDiffs, colIQRDiffs, colIQRs, colLogSumExps, colMadDiffs, colMads, colMaxs, colMeans2, colMedians, colMins, colOrderStats, colProds, colQuantiles, colRanges, colRanks, colSdDiffs, colSds, colSums2, colTabulates, colVarDiffs, colVars, colWeightedMads, colWeightedMeans, colWeightedMedians, colWeightedSds, colWeightedVars, rowAlls, rowAnyNAs, rowAnys, rowAvgsPerColSet, rowCollapse, rowCounts, rowCummaxs, rowCummins, rowCumprods, rowCumsums, rowDiffs, rowIQRDiffs, rowIQRs, rowLogSumExps, rowMadDiffs, rowMads, rowMaxs, rowMeans2, rowMedians, rowMins, rowOrderStats, rowProds, rowQuantiles, rowRanges, rowRanks, rowSdDiffs, rowSds, rowSums2, rowTabulates, rowVarDiffs, rowVars, rowWeightedMads, rowWeightedMeans, rowWeightedMedians, rowWeightedSds, rowWeightedVars Loading required package: GenomicRanges Loading required package: stats4 Loading required package: BiocGenerics Attaching package: 'BiocGenerics' The following objects are masked from 'package:stats': IQR, mad, sd, var, xtabs The following objects are masked from 'package:base': Filter, Find, Map, Position, Reduce, anyDuplicated, aperm, append, as.data.frame, basename, cbind, colnames, dirname, do.call, duplicated, eval, evalq, get, grep, grepl, intersect, is.unsorted, lapply, mapply, match, mget, order, paste, pmax, pmax.int, pmin, pmin.int, rank, rbind, rownames, sapply, setdiff, sort, table, tapply, union, unique, unsplit, which.max, which.min Loading required package: S4Vectors Attaching package: 'S4Vectors' The following object is masked from 'package:utils': findMatches The following objects are masked from 'package:base': I, expand.grid, unname Loading required package: IRanges Loading required package: GenomeInfoDb Loading required package: Biobase Welcome to Bioconductor Vignettes contain introductory material; view with 'browseVignettes()'. To cite Bioconductor, see 'citation("Biobase")', and for packages 'citation("pkgname")'. Attaching package: 'Biobase' The following object is masked from 'package:MatrixGenerics': rowMedians The following objects are masked from 'package:matrixStats': anyMissing, rowMedians Models: 0%| | 0/10 [00:00<?, ?it/s] 0%| | 0/100 [00:00<?, ?it/s][A 7%|▋ | 7/100 [00:00<00:01, 59.17it/s][A 17%|█▋ | 17/100 [00:00<00:01, 78.71it/s][A 26%|██▌ | 26/100 [00:00<00:00, 82.02it/s][A 35%|███▌ | 35/100 [00:00<00:00, 84.57it/s][A 44%|████▍ | 44/100 [00:00<00:00, 85.83it/s][A 55%|█████▌ | 55/100 [00:00<00:00, 91.99it/s][A 65%|██████▌ | 65/100 [00:00<00:00, 91.16it/s][A 75%|███████▌ | 75/100 [00:00<00:00, 83.94it/s][A 85%|████████▌ | 85/100 [00:01<00:00, 85.49it/s][A 94%|█████████▍| 94/100 [00:01<00:00, 77.12it/s][A [A Models: 10%|█ | 1/10 [00:01<00:11, 1.23s/it] 0%| | 0/100 [00:00<?, ?it/s][A 7%|▋ | 7/100 [00:00<00:01, 60.67it/s][A 14%|█▍ | 14/100 [00:00<00:01, 59.83it/s][A 21%|██ | 21/100 [00:00<00:01, 63.38it/s][A 28%|██▊ | 28/100 [00:00<00:01, 61.97it/s][A 35%|███▌ | 35/100 [00:00<00:01, 61.27it/s][A 42%|████▏ | 42/100 [00:00<00:00, 60.46it/s][A 49%|████▉ | 49/100 [00:00<00:00, 60.28it/s][A 56%|█████▌ | 56/100 [00:00<00:00, 61.24it/s][A 64%|██████▍ | 64/100 [00:01<00:00, 64.73it/s][A 71%|███████ | 71/100 [00:01<00:00, 62.49it/s][A 79%|███████▉ | 79/100 [00:01<00:00, 64.37it/s][A 86%|████████▌ | 86/100 [00:01<00:00, 63.71it/s][A 93%|█████████▎| 93/100 [00:01<00:00, 63.25it/s][A 100%|██████████| 100/100 [00:01<00:00, 63.60it/s][A [A Models: 20%|██ | 2/10 [00:02<00:11, 1.45s/it] 0%| | 0/100 [00:00<?, ?it/s][A 7%|▋ | 7/100 [00:00<00:01, 64.33it/s][A 14%|█▍ | 14/100 [00:00<00:01, 65.35it/s][A 22%|██▏ | 22/100 [00:00<00:01, 65.83it/s][A 29%|██▉ | 29/100 [00:00<00:01, 65.42it/s][A 36%|███▌ | 36/100 [00:00<00:01, 61.26it/s][A 43%|████▎ | 43/100 [00:00<00:00, 61.26it/s][A 50%|█████ | 50/100 [00:00<00:00, 59.90it/s][A 57%|█████▋ | 57/100 [00:00<00:00, 60.81it/s][A 64%|██████▍ | 64/100 [00:01<00:00, 60.42it/s][A 71%|███████ | 71/100 [00:01<00:00, 61.85it/s][A 78%|███████▊ | 78/100 [00:01<00:00, 62.10it/s][A 85%|████████▌ | 85/100 [00:01<00:00, 59.33it/s][A 92%|█████████▏| 92/100 [00:01<00:00, 61.45it/s][A 99%|█████████▉| 99/100 [00:01<00:00, 62.83it/s][A [A Models: 30%|███ | 3/10 [00:04<00:10, 1.53s/it] 0%| | 0/100 [00:00<?, ?it/s][A 7%|▋ | 7/100 [00:00<00:01, 65.55it/s][A 14%|█▍ | 14/100 [00:00<00:01, 63.50it/s][A 21%|██ | 21/100 [00:00<00:01, 61.85it/s][A 28%|██▊ | 28/100 [00:00<00:01, 59.11it/s][A 34%|███▍ | 34/100 [00:00<00:01, 58.90it/s][A 40%|████ | 40/100 [00:00<00:01, 56.03it/s][A 46%|████▌ | 46/100 [00:00<00:00, 55.68it/s][A 52%|█████▏ | 52/100 [00:00<00:00, 53.68it/s][A 58%|█████▊ | 58/100 [00:01<00:00, 55.44it/s][A 64%|██████▍ | 64/100 [00:01<00:00, 56.52it/s][A 71%|███████ | 71/100 [00:01<00:00, 58.04it/s][A 77%|███████▋ | 77/100 [00:01<00:00, 58.19it/s][A 83%|████████▎ | 83/100 [00:01<00:00, 57.75it/s][A 89%|████████▉ | 89/100 [00:01<00:00, 56.03it/s][A 95%|█████████▌| 95/100 [00:01<00:00, 56.91it/s][A [A Models: 40%|████ | 4/10 [00:06<00:09, 1.61s/it] 0%| | 0/100 [00:00<?, ?it/s][A 7%|▋ | 7/100 [00:00<00:01, 62.18it/s][A 14%|█▍ | 14/100 [00:00<00:01, 60.01it/s][A 21%|██ | 21/100 [00:00<00:01, 58.77it/s][A 27%|██▋ | 27/100 [00:00<00:01, 59.00it/s][A 33%|███▎ | 33/100 [00:00<00:01, 58.34it/s][A 39%|███▉ | 39/100 [00:00<00:01, 57.60it/s][A 45%|████▌ | 45/100 [00:00<00:00, 57.79it/s][A 52%|█████▏ | 52/100 [00:00<00:00, 59.42it/s][A 58%|█████▊ | 58/100 [00:00<00:00, 59.35it/s][A 64%|██████▍ | 64/100 [00:01<00:00, 58.77it/s][A 71%|███████ | 71/100 [00:01<00:00, 60.09it/s][A 78%|███████▊ | 78/100 [00:01<00:00, 59.80it/s][A 84%|████████▍ | 84/100 [00:01<00:00, 58.49it/s][A 90%|█████████ | 90/100 [00:01<00:00, 58.00it/s][A 97%|█████████▋| 97/100 [00:01<00:00, 58.22it/s][A [A Models: 50%|█████ | 5/10 [00:07<00:08, 1.64s/it] 0%| | 0/100 [00:00<?, ?it/s][A 7%|▋ | 7/100 [00:00<00:01, 59.31it/s][A 14%|█▍ | 14/100 [00:00<00:01, 60.83it/s][A 21%|██ | 21/100 [00:00<00:01, 60.02it/s][A 28%|██▊ | 28/100 [00:00<00:01, 47.43it/s][A 34%|███▍ | 34/100 [00:00<00:01, 50.35it/s][A 40%|████ | 40/100 [00:00<00:01, 50.91it/s][A 47%|████▋ | 47/100 [00:00<00:00, 53.95it/s][A 54%|█████▍ | 54/100 [00:00<00:00, 57.04it/s][A 60%|██████ | 60/100 [00:01<00:00, 57.23it/s][A 66%|██████▌ | 66/100 [00:01<00:00, 57.09it/s][A 73%|███████▎ | 73/100 [00:01<00:00, 59.98it/s][A 80%|████████ | 80/100 [00:01<00:00, 58.84it/s][A 86%|████████▌ | 86/100 [00:01<00:00, 57.33it/s][A 92%|█████████▏| 92/100 [00:01<00:00, 56.39it/s][A 98%|█████████▊| 98/100 [00:01<00:00, 57.14it/s][A [A Models: 60%|██████ | 6/10 [00:09<00:06, 1.69s/it] 0%| | 0/100 [00:00<?, ?it/s][A 7%|▋ | 7/100 [00:00<00:01, 61.00it/s][A 14%|█▍ | 14/100 [00:00<00:01, 59.09it/s][A 20%|██ | 20/100 [00:00<00:01, 58.65it/s][A 26%|██▌ | 26/100 [00:00<00:01, 54.82it/s][A 33%|███▎ | 33/100 [00:00<00:01, 55.43it/s][A 39%|███▉ | 39/100 [00:00<00:01, 53.96it/s][A 45%|████▌ | 45/100 [00:00<00:01, 53.63it/s][A 52%|█████▏ | 52/100 [00:00<00:00, 56.17it/s][A 59%|█████▉ | 59/100 [00:01<00:00, 58.29it/s][A 66%|██████▌ | 66/100 [00:01<00:00, 57.21it/s][A 72%|███████▏ | 72/100 [00:01<00:00, 56.94it/s][A 78%|███████▊ | 78/100 [00:01<00:00, 51.24it/s][A 84%|████████▍ | 84/100 [00:01<00:00, 50.81it/s][A 90%|█████████ | 90/100 [00:01<00:00, 51.26it/s][A 96%|█████████▌| 96/100 [00:01<00:00, 53.55it/s][A [A Models: 70%|███████ | 7/10 [00:11<00:05, 1.74s/it] 0%| | 0/100 [00:00<?, ?it/s][A 6%|▌ | 6/100 [00:00<00:01, 57.18it/s][A 12%|█▏ | 12/100 [00:00<00:01, 44.75it/s][A 19%|█▉ | 19/100 [00:00<00:01, 51.75it/s][A 25%|██▌ | 25/100 [00:00<00:01, 50.27it/s][A 31%|███ | 31/100 [00:00<00:01, 52.95it/s][A 37%|███▋ | 37/100 [00:00<00:01, 53.16it/s][A 43%|████▎ | 43/100 [00:00<00:01, 53.05it/s][A 49%|████▉ | 49/100 [00:00<00:00, 51.39it/s][A 55%|█████▌ | 55/100 [00:01<00:00, 49.20it/s][A 60%|██████ | 60/100 [00:01<00:00, 45.10it/s][A 65%|██████▌ | 65/100 [00:01<00:00, 42.24it/s][A 70%|███████ | 70/100 [00:01<00:00, 42.88it/s][A 75%|███████▌ | 75/100 [00:01<00:00, 43.35it/s][A 81%|████████ | 81/100 [00:01<00:00, 46.40it/s][A 87%|████████▋ | 87/100 [00:01<00:00, 47.28it/s][A 93%|█████████▎| 93/100 [00:01<00:00, 49.19it/s][A 98%|█████████▊| 98/100 [00:02<00:00, 47.56it/s][A [A Models: 80%|████████ | 8/10 [00:13<00:03, 1.85s/it] 0%| | 0/100 [00:00<?, ?it/s][A 6%|▌ | 6/100 [00:00<00:01, 49.80it/s][A 12%|█▏ | 12/100 [00:00<00:01, 53.85it/s][A 20%|██ | 20/100 [00:00<00:01, 61.15it/s][A 27%|██▋ | 27/100 [00:00<00:01, 60.44it/s][A 34%|███▍ | 34/100 [00:00<00:01, 60.40it/s][A 41%|████ | 41/100 [00:00<00:01, 58.73it/s][A 47%|████▋ | 47/100 [00:00<00:00, 56.32it/s][A 53%|█████▎ | 53/100 [00:00<00:00, 56.20it/s][A 59%|█████▉ | 59/100 [00:01<00:00, 56.57it/s][A 66%|██████▌ | 66/100 [00:01<00:00, 57.45it/s][A 74%|███████▍ | 74/100 [00:01<00:00, 60.10it/s][A 81%|████████ | 81/100 [00:01<00:00, 61.17it/s][A 88%|████████▊ | 88/100 [00:01<00:00, 62.42it/s][A 95%|█████████▌| 95/100 [00:01<00:00, 63.98it/s][A [A Models: 90%|█████████ | 9/10 [00:15<00:01, 1.80s/it] 0%| | 0/100 [00:00<?, ?it/s][A 9%|▉ | 9/100 [00:00<00:01, 75.47it/s][A 17%|█▋ | 17/100 [00:00<00:01, 74.31it/s][A 25%|██▌ | 25/100 [00:00<00:01, 70.33it/s][A 33%|███▎ | 33/100 [00:00<00:00, 70.09it/s][A 41%|████ | 41/100 [00:00<00:00, 69.84it/s][A 48%|████▊ | 48/100 [00:00<00:00, 66.81it/s][A 55%|█████▌ | 55/100 [00:00<00:00, 64.77it/s][A 62%|██████▏ | 62/100 [00:00<00:00, 63.63it/s][A 69%|██████▉ | 69/100 [00:01<00:00, 64.68it/s][A 76%|███████▌ | 76/100 [00:01<00:00, 63.51it/s][A 83%|████████▎ | 83/100 [00:01<00:00, 65.13it/s][A 90%|█████████ | 90/100 [00:01<00:00, 65.14it/s][A 97%|█████████▋| 97/100 [00:01<00:00, 65.69it/s][A [A Models: 100%|██████████| 10/10 [00:16<00:00, 1.71s/it] Models: 100%|██████████| 10/10 [00:16<00:00, 1.68s/it] Models: 0%| | 0/10 [00:00<?, ?it/s] 0%| | 0/100 [00:00<?, ?it/s][A 10%|█ | 10/100 [00:00<00:00, 96.69it/s][A 20%|██ | 20/100 [00:00<00:00, 97.80it/s][A 30%|███ | 30/100 [00:00<00:00, 92.39it/s][A 40%|████ | 40/100 [00:00<00:00, 87.83it/s][A 49%|████▉ | 49/100 [00:00<00:00, 83.95it/s][A 59%|█████▉ | 59/100 [00:00<00:00, 86.86it/s][A 68%|██████▊ | 68/100 [00:00<00:00, 84.57it/s][A 77%|███████▋ | 77/100 [00:00<00:00, 84.48it/s][A 86%|████████▌ | 86/100 [00:01<00:00, 82.72it/s][A 95%|█████████▌| 95/100 [00:01<00:00, 84.57it/s][A [A Models: 10%|█ | 1/10 [00:01<00:10, 1.17s/it] 0%| | 0/100 [00:00<?, ?it/s][A 9%|▉ | 9/100 [00:00<00:01, 84.38it/s][A 18%|█▊ | 18/100 [00:00<00:01, 71.77it/s][A 26%|██▌ | 26/100 [00:00<00:01, 67.30it/s][A 33%|███▎ | 33/100 [00:00<00:01, 62.86it/s][A 40%|████ | 40/100 [00:00<00:00, 61.06it/s][A 47%|████▋ | 47/100 [00:00<00:00, 60.72it/s][A 54%|█████▍ | 54/100 [00:00<00:00, 60.85it/s][A 61%|██████ | 61/100 [00:00<00:00, 61.54it/s][A 68%|██████▊ | 68/100 [00:01<00:00, 59.19it/s][A 74%|███████▍ | 74/100 [00:01<00:00, 58.20it/s][A 80%|████████ | 80/100 [00:01<00:00, 57.53it/s][A 87%|████████▋ | 87/100 [00:01<00:00, 58.83it/s][A 93%|█████████▎| 93/100 [00:01<00:00, 58.74it/s][A 99%|█████████▉| 99/100 [00:01<00:00, 58.48it/s][A [A Models: 20%|██ | 2/10 [00:02<00:11, 1.45s/it] 0%| | 0/100 [00:00<?, ?it/s][A 9%|▉ | 9/100 [00:00<00:01, 83.28it/s][A 18%|█▊ | 18/100 [00:00<00:01, 73.12it/s][A 26%|██▌ | 26/100 [00:00<00:01, 59.89it/s][A 33%|███▎ | 33/100 [00:00<00:01, 51.75it/s][A 39%|███▉ | 39/100 [00:00<00:01, 51.20it/s][A 45%|████▌ | 45/100 [00:00<00:01, 52.93it/s][A 51%|█████ | 51/100 [00:00<00:00, 53.09it/s][A 57%|█████▋ | 57/100 [00:01<00:00, 54.03it/s][A 63%|██████▎ | 63/100 [00:01<00:00, 54.64it/s][A 70%|███████ | 70/100 [00:01<00:00, 56.08it/s][A 77%|███████▋ | 77/100 [00:01<00:00, 57.35it/s][A 84%|████████▍ | 84/100 [00:01<00:00, 58.16it/s][A 90%|█████████ | 90/100 [00:01<00:00, 57.28it/s][A 96%|█████████▌| 96/100 [00:01<00:00, 57.37it/s][A [A Models: 30%|███ | 3/10 [00:04<00:11, 1.60s/it] 0%| | 0/100 [00:00<?, ?it/s][A 10%|█ | 10/100 [00:00<00:01, 86.35it/s][A 19%|█▉ | 19/100 [00:00<00:01, 68.34it/s][A 27%|██▋ | 27/100 [00:00<00:01, 63.29it/s][A 34%|███▍ | 34/100 [00:00<00:01, 55.39it/s][A 40%|████ | 40/100 [00:00<00:01, 53.11it/s][A 47%|████▋ | 47/100 [00:00<00:00, 55.18it/s][A 53%|█████▎ | 53/100 [00:00<00:00, 53.37it/s][A 59%|█████▉ | 59/100 [00:01<00:00, 52.99it/s][A 66%|██████▌ | 66/100 [00:01<00:00, 55.61it/s][A 72%|███████▏ | 72/100 [00:01<00:00, 54.52it/s][A 78%|███████▊ | 78/100 [00:01<00:00, 54.61it/s][A 84%|████████▍ | 84/100 [00:01<00:00, 55.61it/s][A 90%|█████████ | 90/100 [00:01<00:00, 54.23it/s][A 97%|█████████▋| 97/100 [00:01<00:00, 56.69it/s][A [A Models: 40%|████ | 4/10 [00:06<00:10, 1.67s/it] 0%| | 0/100 [00:00<?, ?it/s][A 9%|▉ | 9/100 [00:00<00:01, 85.19it/s][A 18%|█▊ | 18/100 [00:00<00:01, 69.33it/s][A 26%|██▌ | 26/100 [00:00<00:01, 62.88it/s][A 33%|███▎ | 33/100 [00:00<00:01, 56.58it/s][A 39%|███▉ | 39/100 [00:00<00:01, 53.54it/s][A 45%|████▌ | 45/100 [00:00<00:01, 54.65it/s][A 51%|█████ | 51/100 [00:00<00:00, 54.71it/s][A 57%|█████▋ | 57/100 [00:01<00:00, 53.45it/s][A 63%|██████▎ | 63/100 [00:01<00:00, 53.39it/s][A 69%|██████▉ | 69/100 [00:01<00:00, 53.20it/s][A 75%|███████▌ | 75/100 [00:01<00:00, 53.91it/s][A 81%|████████ | 81/100 [00:01<00:00, 53.07it/s][A 87%|████████▋ | 87/100 [00:01<00:00, 52.92it/s][A 93%|█████████▎| 93/100 [00:01<00:00, 52.89it/s][A 99%|█████████▉| 99/100 [00:01<00:00, 54.66it/s][A [A Models: 50%|█████ | 5/10 [00:08<00:08, 1.72s/it] 0%| | 0/100 [00:00<?, ?it/s][A 10%|█ | 10/100 [00:00<00:01, 86.23it/s][A 19%|█▉ | 19/100 [00:00<00:01, 70.71it/s][A 27%|██▋ | 27/100 [00:00<00:01, 63.44it/s][A 34%|███▍ | 34/100 [00:00<00:01, 58.59it/s][A 40%|████ | 40/100 [00:00<00:01, 58.15it/s][A 46%|████▌ | 46/100 [00:00<00:00, 57.63it/s][A 52%|█████▏ | 52/100 [00:00<00:00, 56.24it/s][A 58%|█████▊ | 58/100 [00:00<00:00, 55.53it/s][A 64%|██████▍ | 64/100 [00:01<00:00, 56.41it/s][A 70%|███████ | 70/100 [00:01<00:00, 55.59it/s][A 77%|███████▋ | 77/100 [00:01<00:00, 55.76it/s][A 83%|████████▎ | 83/100 [00:01<00:00, 54.90it/s][A 89%|████████▉ | 89/100 [00:01<00:00, 53.88it/s][A 95%|█████████▌| 95/100 [00:01<00:00, 55.49it/s][A [A Models: 60%|██████ | 6/10 [00:09<00:06, 1.73s/it] 0%| | 0/100 [00:00<?, ?it/s][A 10%|█ | 10/100 [00:00<00:01, 86.76it/s][A 19%|█▉ | 19/100 [00:00<00:01, 73.39it/s][A 27%|██▋ | 27/100 [00:00<00:01, 65.78it/s][A 34%|███▍ | 34/100 [00:00<00:01, 60.54it/s][A 41%|████ | 41/100 [00:00<00:01, 58.32it/s][A 48%|████▊ | 48/100 [00:00<00:00, 58.46it/s][A 54%|█████▍ | 54/100 [00:00<00:00, 57.88it/s][A 60%|██████ | 60/100 [00:00<00:00, 55.60it/s][A 66%|██████▌ | 66/100 [00:01<00:00, 56.19it/s][A 72%|███████▏ | 72/100 [00:01<00:00, 55.67it/s][A 78%|███████▊ | 78/100 [00:01<00:00, 55.60it/s][A 84%|████████▍ | 84/100 [00:01<00:00, 55.14it/s][A 91%|█████████ | 91/100 [00:01<00:00, 56.17it/s][A 98%|█████████▊| 98/100 [00:01<00:00, 56.81it/s][A [A Models: 70%|███████ | 7/10 [00:11<00:05, 1.72s/it] 0%| | 0/100 [00:00<?, ?it/s][A 8%|▊ | 8/100 [00:00<00:01, 78.60it/s][A 16%|█▌ | 16/100 [00:00<00:01, 69.37it/s][A 24%|██▍ | 24/100 [00:00<00:01, 63.44it/s][A 31%|███ | 31/100 [00:00<00:01, 60.27it/s][A 38%|███▊ | 38/100 [00:00<00:01, 58.06it/s][A 45%|████▌ | 45/100 [00:00<00:00, 58.54it/s][A 51%|█████ | 51/100 [00:00<00:00, 58.61it/s][A 57%|█████▋ | 57/100 [00:00<00:00, 56.96it/s][A 63%|██████▎ | 63/100 [00:01<00:00, 56.45it/s][A 69%|██████▉ | 69/100 [00:01<00:00, 56.37it/s][A 75%|███████▌ | 75/100 [00:01<00:00, 55.41it/s][A 81%|████████ | 81/100 [00:01<00:00, 56.09it/s][A 87%|████████▋ | 87/100 [00:01<00:00, 55.67it/s][A 93%|█████████▎| 93/100 [00:01<00:00, 54.67it/s][A 99%|█████████▉| 99/100 [00:01<00:00, 55.64it/s][A [A Models: 80%|████████ | 8/10 [00:13<00:03, 1.73s/it] 0%| | 0/100 [00:00<?, ?it/s][A 9%|▉ | 9/100 [00:00<00:01, 87.38it/s][A 18%|█▊ | 18/100 [00:00<00:01, 67.88it/s][A 26%|██▌ | 26/100 [00:00<00:01, 64.96it/s][A 33%|███▎ | 33/100 [00:00<00:01, 60.66it/s][A 40%|████ | 40/100 [00:00<00:01, 59.75it/s][A 47%|████▋ | 47/100 [00:00<00:00, 60.41it/s][A 54%|█████▍ | 54/100 [00:00<00:00, 59.23it/s][A 60%|██████ | 60/100 [00:00<00:00, 58.09it/s][A 67%|██████▋ | 67/100 [00:01<00:00, 59.24it/s][A 73%|███████▎ | 73/100 [00:01<00:00, 57.84it/s][A 80%|████████ | 80/100 [00:01<00:00, 59.31it/s][A 86%|████████▌ | 86/100 [00:01<00:00, 58.85it/s][A 93%|█████████▎| 93/100 [00:01<00:00, 60.25it/s][A 100%|██████████| 100/100 [00:01<00:00, 59.76it/s][A [A Models: 90%|█████████ | 9/10 [00:15<00:01, 1.71s/it] 0%| | 0/100 [00:00<?, ?it/s][A 8%|▊ | 8/100 [00:00<00:01, 78.39it/s][A 16%|█▌ | 16/100 [00:00<00:01, 74.78it/s][A 24%|██▍ | 24/100 [00:00<00:01, 72.59it/s][A 32%|███▏ | 32/100 [00:00<00:01, 64.58it/s][A 39%|███▉ | 39/100 [00:00<00:01, 59.99it/s][A 46%|████▌ | 46/100 [00:00<00:00, 61.04it/s][A 53%|█████▎ | 53/100 [00:00<00:00, 60.52it/s][A 60%|██████ | 60/100 [00:00<00:00, 59.03it/s][A 67%|██████▋ | 67/100 [00:01<00:00, 61.34it/s][A 74%|███████▍ | 74/100 [00:01<00:00, 60.98it/s][A 82%|████████▏ | 82/100 [00:01<00:00, 63.84it/s][A 89%|████████▉ | 89/100 [00:01<00:00, 59.48it/s][A 96%|█████████▌| 96/100 [00:01<00:00, 60.33it/s][A [A Models: 100%|██████████| 10/10 [00:16<00:00, 1.68s/it] Models: 100%|██████████| 10/10 [00:16<00:00, 1.67s/it] /Users/biocbuild/Library/Caches/org.R-project.R/R/basilisk/1.12.1/spatialDE/1.6.0/env/lib/python3.8/site-packages/pandas/core/internals/blocks.py:351: RuntimeWarning: invalid value encountered in log result = func(self.values, **kwargs) Models: 0%| | 0/10 [00:00<?, ?it/s] 0%| | 0/100 [00:00<?, ?it/s][A 9%|▉ | 9/100 [00:00<00:01, 89.45it/s][A 19%|█▉ | 19/100 [00:00<00:00, 92.14it/s][A 29%|██▉ | 29/100 [00:00<00:00, 79.82it/s][A 38%|███▊ | 38/100 [00:00<00:00, 78.31it/s][A 47%|████▋ | 47/100 [00:00<00:00, 81.66it/s][A 59%|█████▉ | 59/100 [00:00<00:00, 91.31it/s][A 69%|██████▉ | 69/100 [00:00<00:00, 89.81it/s][A 79%|███████▉ | 79/100 [00:00<00:00, 89.45it/s][A 89%|████████▉ | 89/100 [00:01<00:00, 92.15it/s][A 99%|█████████▉| 99/100 [00:01<00:00, 93.93it/s][A [A Models: 10%|█ | 1/10 [00:01<00:10, 1.13s/it] 0%| | 0/100 [00:00<?, ?it/s][A 10%|█ | 10/100 [00:00<00:01, 89.31it/s][A 19%|█▉ | 19/100 [00:00<00:00, 84.34it/s][A 28%|██▊ | 28/100 [00:00<00:00, 78.16it/s][A 36%|███▌ | 36/100 [00:00<00:00, 73.21it/s][A 44%|████▍ | 44/100 [00:00<00:00, 72.55it/s][A 52%|█████▏ | 52/100 [00:00<00:00, 71.57it/s][A 60%|██████ | 60/100 [00:00<00:00, 70.00it/s][A 68%|██████▊ | 68/100 [00:00<00:00, 71.16it/s][A 76%|███████▌ | 76/100 [00:01<00:00, 68.96it/s][A 83%|████████▎ | 83/100 [00:01<00:00, 65.93it/s][A 91%|█████████ | 91/100 [00:01<00:00, 67.92it/s][A 98%|█████████▊| 98/100 [00:01<00:00, 66.99it/s][A [A Models: 20%|██ | 2/10 [00:02<00:10, 1.30s/it] 0%| | 0/100 [00:00<?, ?it/s][A 10%|█ | 10/100 [00:00<00:01, 87.77it/s][A 19%|█▉ | 19/100 [00:00<00:01, 72.34it/s][A 27%|██▋ | 27/100 [00:00<00:01, 66.37it/s][A 34%|███▍ | 34/100 [00:00<00:01, 64.96it/s][A 41%|████ | 41/100 [00:00<00:00, 63.24it/s][A 48%|████▊ | 48/100 [00:00<00:00, 62.29it/s][A 55%|█████▌ | 55/100 [00:00<00:00, 62.70it/s][A 62%|██████▏ | 62/100 [00:00<00:00, 62.74it/s][A 69%|██████▉ | 69/100 [00:01<00:00, 64.13it/s][A 76%|███████▌ | 76/100 [00:01<00:00, 64.04it/s][A 83%|████████▎ | 83/100 [00:01<00:00, 62.90it/s][A 90%|█████████ | 90/100 [00:01<00:00, 64.47it/s][A 97%|█████████▋| 97/100 [00:01<00:00, 63.72it/s][A [A Models: 30%|███ | 3/10 [00:04<00:09, 1.42s/it] 0%| | 0/100 [00:00<?, ?it/s][A 10%|█ | 10/100 [00:00<00:01, 85.37it/s][A 19%|█▉ | 19/100 [00:00<00:01, 72.27it/s][A 27%|██▋ | 27/100 [00:00<00:01, 63.84it/s][A 34%|███▍ | 34/100 [00:00<00:01, 62.95it/s][A 41%|████ | 41/100 [00:00<00:00, 59.81it/s][A 48%|████▊ | 48/100 [00:00<00:00, 60.11it/s][A 55%|█████▌ | 55/100 [00:00<00:00, 60.08it/s][A 62%|██████▏ | 62/100 [00:00<00:00, 60.92it/s][A 69%|██████▉ | 69/100 [00:01<00:00, 62.38it/s][A 76%|███████▌ | 76/100 [00:01<00:00, 62.82it/s][A 83%|████████▎ | 83/100 [00:01<00:00, 62.01it/s][A 90%|█████████ | 90/100 [00:01<00:00, 62.66it/s][A 97%|█████████▋| 97/100 [00:01<00:00, 64.19it/s][A [A Models: 40%|████ | 4/10 [00:05<00:08, 1.49s/it] 0%| | 0/100 [00:00<?, ?it/s][A 9%|▉ | 9/100 [00:00<00:01, 85.78it/s][A 18%|█▊ | 18/100 [00:00<00:01, 69.01it/s][A 26%|██▌ | 26/100 [00:00<00:01, 64.57it/s][A 33%|███▎ | 33/100 [00:00<00:01, 63.79it/s][A 40%|████ | 40/100 [00:00<00:01, 57.46it/s][A 47%|████▋ | 47/100 [00:00<00:00, 58.83it/s][A 53%|█████▎ | 53/100 [00:00<00:00, 58.81it/s][A 59%|█████▉ | 59/100 [00:00<00:00, 58.82it/s][A 66%|██████▌ | 66/100 [00:01<00:00, 61.58it/s][A 73%|███████▎ | 73/100 [00:01<00:00, 60.50it/s][A 80%|████████ | 80/100 [00:01<00:00, 60.95it/s][A 87%|████████▋ | 87/100 [00:01<00:00, 59.69it/s][A 95%|█████████▌| 95/100 [00:01<00:00, 61.92it/s][A [A Models: 50%|█████ | 5/10 [00:07<00:07, 1.54s/it] 0%| | 0/100 [00:00<?, ?it/s][A 9%|▉ | 9/100 [00:00<00:01, 80.10it/s][A 18%|█▊ | 18/100 [00:00<00:01, 65.29it/s][A 25%|██▌ | 25/100 [00:00<00:01, 60.40it/s][A 32%|███▏ | 32/100 [00:00<00:01, 56.88it/s][A 38%|███▊ | 38/100 [00:00<00:01, 54.62it/s][A 44%|████▍ | 44/100 [00:00<00:01, 55.08it/s][A 50%|█████ | 50/100 [00:00<00:00, 55.04it/s][A 56%|█████▌ | 56/100 [00:00<00:00, 55.22it/s][A 62%|██████▏ | 62/100 [00:01<00:00, 56.43it/s][A 68%|██████▊ | 68/100 [00:01<00:00, 53.98it/s][A 75%|███████▌ | 75/100 [00:01<00:00, 56.31it/s][A 81%|████████ | 81/100 [00:01<00:00, 56.60it/s][A 88%|████████▊ | 88/100 [00:01<00:00, 57.73it/s][A 95%|█████████▌| 95/100 [00:01<00:00, 59.67it/s][A [A Models: 60%|██████ | 6/10 [00:09<00:06, 1.61s/it] 0%| | 0/100 [00:00<?, ?it/s][A 9%|▉ | 9/100 [00:00<00:01, 79.23it/s][A 17%|█▋ | 17/100 [00:00<00:01, 67.95it/s][A 24%|██▍ | 24/100 [00:00<00:01, 62.94it/s][A 31%|███ | 31/100 [00:00<00:01, 63.26it/s][A 38%|███▊ | 38/100 [00:00<00:00, 62.25it/s][A 45%|████▌ | 45/100 [00:00<00:00, 62.08it/s][A 52%|█████▏ | 52/100 [00:00<00:00, 59.16it/s][A 58%|█████▊ | 58/100 [00:00<00:00, 58.36it/s][A 65%|██████▌ | 65/100 [00:01<00:00, 59.52it/s][A 71%|███████ | 71/100 [00:01<00:00, 59.40it/s][A 77%|███████▋ | 77/100 [00:01<00:00, 57.68it/s][A 84%|████████▍ | 84/100 [00:01<00:00, 59.81it/s][A 91%|█████████ | 91/100 [00:01<00:00, 60.91it/s][A 98%|█████████▊| 98/100 [00:01<00:00, 61.23it/s][A [A Models: 70%|███████ | 7/10 [00:10<00:04, 1.62s/it] 0%| | 0/100 [00:00<?, ?it/s][A 9%|▉ | 9/100 [00:00<00:01, 86.59it/s][A 18%|█▊ | 18/100 [00:00<00:01, 71.89it/s][A 26%|██▌ | 26/100 [00:00<00:01, 65.12it/s][A 33%|███▎ | 33/100 [00:00<00:01, 63.55it/s][A 40%|████ | 40/100 [00:00<00:00, 61.80it/s][A 47%|████▋ | 47/100 [00:00<00:00, 60.83it/s][A 54%|█████▍ | 54/100 [00:00<00:00, 60.45it/s][A 61%|██████ | 61/100 [00:00<00:00, 60.25it/s][A 68%|██████▊ | 68/100 [00:01<00:00, 59.64it/s][A 74%|███████▍ | 74/100 [00:01<00:00, 59.25it/s][A 80%|████████ | 80/100 [00:01<00:00, 57.74it/s][A 86%|████████▌ | 86/100 [00:01<00:00, 57.44it/s][A 93%|█████████▎| 93/100 [00:01<00:00, 59.40it/s][A 100%|██████████| 100/100 [00:01<00:00, 61.34it/s][A [A Models: 80%|████████ | 8/10 [00:12<00:03, 1.62s/it] 0%| | 0/100 [00:00<?, ?it/s][A 10%|█ | 10/100 [00:00<00:01, 86.77it/s][A 19%|█▉ | 19/100 [00:00<00:01, 74.30it/s][A 27%|██▋ | 27/100 [00:00<00:01, 68.62it/s][A 34%|███▍ | 34/100 [00:00<00:00, 66.29it/s][A 41%|████ | 41/100 [00:00<00:00, 63.83it/s][A 48%|████▊ | 48/100 [00:00<00:00, 62.06it/s][A 55%|█████▌ | 55/100 [00:00<00:00, 61.29it/s][A 62%|██████▏ | 62/100 [00:00<00:00, 62.80it/s][A 69%|██████▉ | 69/100 [00:01<00:00, 62.72it/s][A 76%|███████▌ | 76/100 [00:01<00:00, 63.41it/s][A 83%|████████▎ | 83/100 [00:01<00:00, 62.01it/s][A 90%|█████████ | 90/100 [00:01<00:00, 62.29it/s][A 97%|█████████▋| 97/100 [00:01<00:00, 62.71it/s][A [A Models: 90%|█████████ | 9/10 [00:13<00:01, 1.61s/it] 0%| | 0/100 [00:00<?, ?it/s][A 8%|▊ | 8/100 [00:00<00:01, 72.60it/s][A 16%|█▌ | 16/100 [00:00<00:01, 64.85it/s][A 23%|██▎ | 23/100 [00:00<00:01, 66.07it/s][A 30%|███ | 30/100 [00:00<00:01, 66.27it/s][A 37%|███▋ | 37/100 [00:00<00:00, 66.43it/s][A 45%|████▌ | 45/100 [00:00<00:00, 69.11it/s][A 52%|█████▏ | 52/100 [00:00<00:00, 67.95it/s][A 59%|█████▉ | 59/100 [00:00<00:00, 63.46it/s][A 67%|██████▋ | 67/100 [00:01<00:00, 66.00it/s][A 74%|███████▍ | 74/100 [00:01<00:00, 66.35it/s][A 81%|████████ | 81/100 [00:01<00:00, 65.82it/s][A 88%|████████▊ | 88/100 [00:01<00:00, 66.68it/s][A 95%|█████████▌| 95/100 [00:01<00:00, 66.54it/s][A [A Models: 100%|██████████| 10/10 [00:15<00:00, 1.57s/it] Models: 100%|██████████| 10/10 [00:15<00:00, 1.54s/it] Models: 0%| | 0/10 [00:00<?, ?it/s] 0%| | 0/100 [00:00<?, ?it/s][A 11%|█ | 11/100 [00:00<00:00, 108.53it/s][A 22%|██▏ | 22/100 [00:00<00:00, 92.09it/s] [A 32%|███▏ | 32/100 [00:00<00:00, 88.58it/s][A 41%|████ | 41/100 [00:00<00:00, 85.35it/s][A 51%|█████ | 51/100 [00:00<00:00, 87.60it/s][A 62%|██████▏ | 62/100 [00:00<00:00, 93.11it/s][A 72%|███████▏ | 72/100 [00:00<00:00, 66.00it/s][A 80%|████████ | 80/100 [00:01<00:00, 55.21it/s][A 87%|████████▋ | 87/100 [00:01<00:00, 52.17it/s][A 93%|█████████▎| 93/100 [00:01<00:00, 51.31it/s][A 99%|█████████▉| 99/100 [00:01<00:00, 46.96it/s][A [A Models: 10%|█ | 1/10 [00:01<00:14, 1.62s/it] 0%| | 0/100 [00:00<?, ?it/s][A 4%|▍ | 4/100 [00:00<00:02, 35.39it/s][A 8%|▊ | 8/100 [00:00<00:02, 37.40it/s][A 13%|█▎ | 13/100 [00:00<00:02, 40.20it/s][A 18%|█▊ | 18/100 [00:00<00:02, 34.22it/s][A 22%|██▏ | 22/100 [00:00<00:02, 30.84it/s][A 26%|██▌ | 26/100 [00:00<00:02, 28.96it/s][A 30%|███ | 30/100 [00:00<00:02, 29.66it/s][A 34%|███▍ | 34/100 [00:01<00:02, 29.09it/s][A 37%|███▋ | 37/100 [00:01<00:02, 27.51it/s][A 41%|████ | 41/100 [00:01<00:02, 29.42it/s][A 44%|████▍ | 44/100 [00:01<00:01, 28.86it/s][A 48%|████▊ | 48/100 [00:01<00:01, 30.37it/s][A 52%|█████▏ | 52/100 [00:01<00:01, 29.12it/s][A 56%|█████▌ | 56/100 [00:01<00:01, 29.09it/s][A 59%|█████▉ | 59/100 [00:01<00:01, 28.97it/s][A 63%|██████▎ | 63/100 [00:02<00:01, 30.75it/s][A 67%|██████▋ | 67/100 [00:02<00:01, 31.75it/s][A 71%|███████ | 71/100 [00:02<00:00, 29.83it/s][A 75%|███████▌ | 75/100 [00:02<00:00, 31.35it/s][A 79%|███████▉ | 79/100 [00:02<00:00, 29.98it/s][A 83%|████████▎ | 83/100 [00:02<00:00, 31.08it/s][A 87%|████████▋ | 87/100 [00:02<00:00, 31.09it/s][A 91%|█████████ | 91/100 [00:02<00:00, 31.84it/s][A 95%|█████████▌| 95/100 [00:03<00:00, 31.37it/s][A 99%|█████████▉| 99/100 [00:03<00:00, 29.94it/s][A [A Models: 20%|██ | 2/10 [00:04<00:20, 2.60s/it] 0%| | 0/100 [00:00<?, ?it/s][A 5%|▌ | 5/100 [00:00<00:02, 37.32it/s][A 9%|▉ | 9/100 [00:00<00:02, 38.08it/s][A 13%|█▎ | 13/100 [00:00<00:02, 33.82it/s][A 17%|█▋ | 17/100 [00:00<00:02, 29.88it/s][A 21%|██ | 21/100 [00:00<00:02, 26.80it/s][A 24%|██▍ | 24/100 [00:00<00:02, 26.52it/s][A 27%|██▋ | 27/100 [00:00<00:02, 25.69it/s][A 31%|███ | 31/100 [00:01<00:02, 26.94it/s][A 34%|███▍ | 34/100 [00:01<00:02, 26.80it/s][A 37%|███▋ | 37/100 [00:01<00:02, 25.58it/s][A 40%|████ | 40/100 [00:01<00:02, 26.07it/s][A 44%|████▍ | 44/100 [00:01<00:01, 28.55it/s][A 47%|████▋ | 47/100 [00:01<00:01, 27.19it/s][A 51%|█████ | 51/100 [00:01<00:01, 27.79it/s][A 54%|█████▍ | 54/100 [00:01<00:01, 27.54it/s][A 57%|█████▋ | 57/100 [00:02<00:01, 27.10it/s][A 60%|██████ | 60/100 [00:02<00:01, 25.64it/s][A 64%|██████▍ | 64/100 [00:02<00:01, 28.40it/s][A 68%|██████▊ | 68/100 [00:02<00:01, 28.55it/s][A 71%|███████ | 71/100 [00:02<00:01, 26.95it/s][A 74%|███████▍ | 74/100 [00:02<00:00, 26.88it/s][A 77%|███████▋ | 77/100 [00:02<00:00, 26.19it/s][A 80%|████████ | 80/100 [00:02<00:00, 26.03it/s][A 83%|████████▎ | 83/100 [00:03<00:00, 24.97it/s][A 86%|████████▌ | 86/100 [00:03<00:00, 23.75it/s][A 89%|████████▉ | 89/100 [00:03<00:00, 24.15it/s][A 93%|█████████▎| 93/100 [00:03<00:00, 25.76it/s][A 96%|█████████▌| 96/100 [00:03<00:00, 25.05it/s][A 100%|██████████| 100/100 [00:03<00:00, 26.53it/s][A [A Models: 30%|███ | 3/10 [00:08<00:21, 3.11s/it] 0%| | 0/100 [00:00<?, ?it/s][A 5%|▌ | 5/100 [00:00<00:02, 38.13it/s][A 10%|█ | 10/100 [00:00<00:02, 34.53it/s][A 14%|█▍ | 14/100 [00:00<00:02, 30.58it/s][A 18%|█▊ | 18/100 [00:00<00:02, 27.70it/s][A 21%|██ | 21/100 [00:00<00:02, 26.84it/s][A 24%|██▍ | 24/100 [00:00<00:03, 25.20it/s][A 27%|██▋ | 27/100 [00:00<00:02, 25.63it/s][A 30%|███ | 30/100 [00:01<00:02, 24.88it/s][A 33%|███▎ | 33/100 [00:01<00:02, 25.77it/s][A 36%|███▌ | 36/100 [00:01<00:02, 24.78it/s][A 39%|███▉ | 39/100 [00:01<00:02, 25.29it/s][A 43%|████▎ | 43/100 [00:01<00:02, 26.48it/s][A 46%|████▌ | 46/100 [00:01<00:02, 26.70it/s][A 49%|████▉ | 49/100 [00:01<00:01, 26.78it/s][A 52%|█████▏ | 52/100 [00:01<00:01, 26.84it/s][A 55%|█████▌ | 55/100 [00:02<00:01, 26.33it/s][A 58%|█████▊ | 58/100 [00:02<00:01, 26.20it/s][A 61%|██████ | 61/100 [00:02<00:01, 26.41it/s][A 64%|██████▍ | 64/100 [00:02<00:01, 26.44it/s][A 67%|██████▋ | 67/100 [00:02<00:01, 26.82it/s][A 70%|███████ | 70/100 [00:02<00:01, 24.13it/s][A 73%|███████▎ | 73/100 [00:02<00:01, 23.94it/s][A 76%|███████▌ | 76/100 [00:02<00:00, 24.30it/s][A 79%|███████▉ | 79/100 [00:03<00:00, 23.58it/s][A 82%|████████▏ | 82/100 [00:03<00:00, 23.40it/s][A 85%|████████▌ | 85/100 [00:03<00:00, 23.45it/s][A 88%|████████▊ | 88/100 [00:03<00:00, 23.61it/s][A 91%|█████████ | 91/100 [00:03<00:00, 24.47it/s][A 95%|█████████▌| 95/100 [00:03<00:00, 26.21it/s][A 99%|█████████▉| 99/100 [00:03<00:00, 28.43it/s][A [A Models: 40%|████ | 4/10 [00:12<00:20, 3.40s/it] 0%| | 0/100 [00:00<?, ?it/s][A 5%|▌ | 5/100 [00:00<00:01, 48.66it/s][A 10%|█ | 10/100 [00:00<00:02, 40.82it/s][A 15%|█▌ | 15/100 [00:00<00:02, 35.61it/s][A 19%|█▉ | 19/100 [00:00<00:02, 32.84it/s][A 23%|██▎ | 23/100 [00:00<00:02, 31.09it/s][A 27%|██▋ | 27/100 [00:00<00:02, 30.77it/s][A 31%|███ | 31/100 [00:00<00:02, 32.08it/s][A 35%|███▌ | 35/100 [00:01<00:01, 33.12it/s][A 39%|███▉ | 39/100 [00:01<00:01, 33.23it/s][A 44%|████▍ | 44/100 [00:01<00:01, 36.19it/s][A 50%|█████ | 50/100 [00:01<00:01, 40.64it/s][A 55%|█████▌ | 55/100 [00:01<00:01, 42.15it/s][A 60%|██████ | 60/100 [00:01<00:00, 43.38it/s][A 66%|██████▌ | 66/100 [00:01<00:00, 47.31it/s][A 71%|███████ | 71/100 [00:01<00:00, 48.05it/s][A 77%|███████▋ | 77/100 [00:01<00:00, 49.05it/s][A 83%|████████▎ | 83/100 [00:02<00:00, 50.89it/s][A 90%|█████████ | 90/100 [00:02<00:00, 55.79it/s][A 96%|█████████▌| 96/100 [00:02<00:00, 55.17it/s][A [A Models: 50%|█████ | 5/10 [00:14<00:15, 3.02s/it] 0%| | 0/100 [00:00<?, ?it/s][A 9%|▉ | 9/100 [00:00<00:01, 84.35it/s][A 18%|█▊ | 18/100 [00:00<00:01, 69.03it/s][A 26%|██▌ | 26/100 [00:00<00:01, 63.28it/s][A 33%|███▎ | 33/100 [00:00<00:01, 63.37it/s][A 40%|████ | 40/100 [00:00<00:00, 61.90it/s][A 47%|████▋ | 47/100 [00:00<00:00, 60.29it/s][A 54%|█████▍ | 54/100 [00:00<00:00, 60.42it/s][A 61%|██████ | 61/100 [00:00<00:00, 60.60it/s][A 68%|██████▊ | 68/100 [00:01<00:00, 62.53it/s][A 75%|███████▌ | 75/100 [00:01<00:00, 61.35it/s][A 82%|████████▏ | 82/100 [00:01<00:00, 62.69it/s][A 89%|████████▉ | 89/100 [00:01<00:00, 61.13it/s][A 96%|█████████▌| 96/100 [00:01<00:00, 63.33it/s][A [A Models: 60%|██████ | 6/10 [00:16<00:10, 2.54s/it] 0%| | 0/100 [00:00<?, ?it/s][A 9%|▉ | 9/100 [00:00<00:01, 77.40it/s][A 17%|█▋ | 17/100 [00:00<00:01, 66.13it/s][A 24%|██▍ | 24/100 [00:00<00:01, 61.82it/s][A 31%|███ | 31/100 [00:00<00:01, 59.60it/s][A 38%|███▊ | 38/100 [00:00<00:01, 59.66it/s][A 45%|████▌ | 45/100 [00:00<00:00, 62.21it/s][A 52%|█████▏ | 52/100 [00:00<00:00, 59.96it/s][A 59%|█████▉ | 59/100 [00:00<00:00, 59.00it/s][A 66%|██████▌ | 66/100 [00:01<00:00, 60.64it/s][A 73%|███████▎ | 73/100 [00:01<00:00, 61.44it/s][A 80%|████████ | 80/100 [00:01<00:00, 61.96it/s][A 87%|████████▋ | 87/100 [00:01<00:00, 62.68it/s][A 94%|█████████▍| 94/100 [00:01<00:00, 63.75it/s][A [A Models: 70%|███████ | 7/10 [00:18<00:06, 2.24s/it] 0%| | 0/100 [00:00<?, ?it/s][A 10%|█ | 10/100 [00:00<00:01, 86.37it/s][A 19%|█▉ | 19/100 [00:00<00:01, 74.52it/s][A 27%|██▋ | 27/100 [00:00<00:01, 66.63it/s][A 34%|███▍ | 34/100 [00:00<00:01, 65.96it/s][A 41%|████ | 41/100 [00:00<00:00, 63.44it/s][A 48%|████▊ | 48/100 [00:00<00:00, 61.87it/s][A 55%|█████▌ | 55/100 [00:00<00:00, 59.43it/s][A 61%|██████ | 61/100 [00:00<00:00, 58.78it/s][A 67%|██████▋ | 67/100 [00:01<00:00, 39.42it/s][A 74%|███████▍ | 74/100 [00:01<00:00, 44.73it/s][A 80%|████████ | 80/100 [00:01<00:00, 47.96it/s][A 87%|████████▋ | 87/100 [00:01<00:00, 52.29it/s][A 94%|█████████▍| 94/100 [00:01<00:00, 55.89it/s][A 100%|██████████| 100/100 [00:01<00:00, 56.67it/s][A [A Models: 80%|████████ | 8/10 [00:19<00:04, 2.09s/it] 0%| | 0/100 [00:00<?, ?it/s][A 9%|▉ | 9/100 [00:00<00:01, 89.26it/s][A 18%|█▊ | 18/100 [00:00<00:01, 72.73it/s][A 26%|██▌ | 26/100 [00:00<00:01, 67.32it/s][A 33%|███▎ | 33/100 [00:00<00:01, 66.33it/s][A 40%|████ | 40/100 [00:00<00:00, 64.94it/s][A 47%|████▋ | 47/100 [00:00<00:00, 64.26it/s][A 54%|█████▍ | 54/100 [00:00<00:00, 63.44it/s][A 61%|██████ | 61/100 [00:00<00:00, 62.45it/s][A 68%|██████▊ | 68/100 [00:01<00:00, 61.71it/s][A 75%|███████▌ | 75/100 [00:01<00:00, 63.16it/s][A 82%|████████▏ | 82/100 [00:01<00:00, 61.05it/s][A 89%|████████▉ | 89/100 [00:01<00:00, 61.59it/s][A 96%|█████████▌| 96/100 [00:01<00:00, 62.98it/s][A [A Models: 90%|█████████ | 9/10 [00:21<00:01, 1.93s/it] 0%| | 0/100 [00:00<?, ?it/s][A 8%|▊ | 8/100 [00:00<00:01, 75.33it/s][A 16%|█▌ | 16/100 [00:00<00:01, 69.39it/s][A 24%|██▍ | 24/100 [00:00<00:01, 70.58it/s][A 32%|███▏ | 32/100 [00:00<00:00, 71.09it/s][A 40%|████ | 40/100 [00:00<00:00, 69.56it/s][A 47%|████▋ | 47/100 [00:00<00:00, 69.36it/s][A 55%|█████▌ | 55/100 [00:00<00:00, 68.33it/s][A 63%|██████▎ | 63/100 [00:00<00:00, 70.65it/s][A 71%|███████ | 71/100 [00:01<00:00, 69.77it/s][A 78%|███████▊ | 78/100 [00:01<00:00, 68.44it/s][A 85%|████████▌ | 85/100 [00:01<00:00, 68.79it/s][A 92%|█████████▏| 92/100 [00:01<00:00, 68.37it/s][A 99%|█████████▉| 99/100 [00:01<00:00, 68.74it/s][A [A Models: 100%|██████████| 10/10 [00:22<00:00, 1.78s/it] Models: 100%|██████████| 10/10 [00:22<00:00, 2.29s/it] Models: 0%| | 0/10 [00:00<?, ?it/s] 0%| | 0/100 [00:00<?, ?it/s][A 11%|█ | 11/100 [00:00<00:00, 105.75it/s][A 22%|██▏ | 22/100 [00:00<00:00, 92.65it/s] [A 32%|███▏ | 32/100 [00:00<00:00, 88.10it/s][A 41%|████ | 41/100 [00:00<00:00, 83.94it/s][A 50%|█████ | 50/100 [00:00<00:00, 84.47it/s][A 61%|██████ | 61/100 [00:00<00:00, 92.03it/s][A 71%|███████ | 71/100 [00:00<00:00, 89.28it/s][A 80%|████████ | 80/100 [00:00<00:00, 86.91it/s][A 91%|█████████ | 91/100 [00:01<00:00, 93.42it/s][A [A Models: 10%|█ | 1/10 [00:01<00:10, 1.12s/it] 0%| | 0/100 [00:00<?, ?it/s][A 9%|▉ | 9/100 [00:00<00:01, 88.48it/s][A 18%|█▊ | 18/100 [00:00<00:01, 81.34it/s][A 27%|██▋ | 27/100 [00:00<00:01, 69.12it/s][A 35%|███▌ | 35/100 [00:00<00:00, 70.67it/s][A 43%|████▎ | 43/100 [00:00<00:00, 68.76it/s][A 50%|█████ | 50/100 [00:00<00:00, 68.39it/s][A 57%|█████▋ | 57/100 [00:00<00:00, 66.76it/s][A 64%|██████▍ | 64/100 [00:00<00:00, 67.35it/s][A 71%|███████ | 71/100 [00:01<00:00, 67.97it/s][A 78%|███████▊ | 78/100 [00:01<00:00, 68.16it/s][A 85%|████████▌ | 85/100 [00:01<00:00, 68.04it/s][A 92%|█████████▏| 92/100 [00:01<00:00, 67.53it/s][A 100%|██████████| 100/100 [00:01<00:00, 67.76it/s][A [A Models: 20%|██ | 2/10 [00:02<00:10, 1.32s/it] 0%| | 0/100 [00:00<?, ?it/s][A 10%|█ | 10/100 [00:00<00:01, 89.16it/s][A 19%|█▉ | 19/100 [00:00<00:01, 73.90it/s][A 27%|██▋ | 27/100 [00:00<00:01, 66.03it/s][A 34%|███▍ | 34/100 [00:00<00:01, 64.81it/s][A 41%|████ | 41/100 [00:00<00:00, 63.90it/s][A 48%|████▊ | 48/100 [00:00<00:00, 61.38it/s][A 55%|█████▌ | 55/100 [00:00<00:00, 60.00it/s][A 62%|██████▏ | 62/100 [00:00<00:00, 60.57it/s][A 69%|██████▉ | 69/100 [00:01<00:00, 59.79it/s][A 76%|███████▌ | 76/100 [00:01<00:00, 60.60it/s][A 83%|████████▎ | 83/100 [00:01<00:00, 60.12it/s][A 90%|█████████ | 90/100 [00:01<00:00, 61.72it/s][A 97%|█████████▋| 97/100 [00:01<00:00, 62.61it/s][A [A Models: 30%|███ | 3/10 [00:04<00:10, 1.44s/it] 0%| | 0/100 [00:00<?, ?it/s][A 9%|▉ | 9/100 [00:00<00:01, 87.47it/s][A 18%|█▊ | 18/100 [00:00<00:01, 70.37it/s][A 26%|██▌ | 26/100 [00:00<00:01, 62.70it/s][A 33%|███▎ | 33/100 [00:00<00:01, 61.96it/s][A 40%|████ | 40/100 [00:00<00:01, 49.72it/s][A 47%|████▋ | 47/100 [00:00<00:00, 53.22it/s][A 53%|█████▎ | 53/100 [00:00<00:00, 54.09it/s][A 59%|█████▉ | 59/100 [00:01<00:00, 54.36it/s][A 67%|██████▋ | 67/100 [00:01<00:00, 58.40it/s][A 74%|███████▍ | 74/100 [00:01<00:00, 59.27it/s][A 81%|████████ | 81/100 [00:01<00:00, 59.20it/s][A 87%|████████▋ | 87/100 [00:01<00:00, 59.23it/s][A 93%|█████████▎| 93/100 [00:01<00:00, 59.16it/s][A 100%|██████████| 100/100 [00:01<00:00, 60.85it/s][A [A Models: 40%|████ | 4/10 [00:05<00:09, 1.54s/it] 0%| | 0/100 [00:00<?, ?it/s][A 9%|▉ | 9/100 [00:00<00:01, 83.67it/s][A 18%|█▊ | 18/100 [00:00<00:01, 68.99it/s][A 26%|██▌ | 26/100 [00:00<00:01, 61.17it/s][A 33%|███▎ | 33/100 [00:00<00:01, 60.83it/s][A 40%|████ | 40/100 [00:00<00:01, 58.94it/s][A 47%|████▋ | 47/100 [00:00<00:00, 60.01it/s][A 54%|█████▍ | 54/100 [00:00<00:00, 60.07it/s][A 61%|██████ | 61/100 [00:01<00:00, 58.33it/s][A 68%|██████▊ | 68/100 [00:01<00:00, 59.85it/s][A 75%|███████▌ | 75/100 [00:01<00:00, 58.72it/s][A 82%|████████▏ | 82/100 [00:01<00:00, 60.01it/s][A 89%|████████▉ | 89/100 [00:01<00:00, 60.25it/s][A 96%|█████████▌| 96/100 [00:01<00:00, 61.05it/s][A [A Models: 50%|█████ | 5/10 [00:07<00:07, 1.58s/it] 0%| | 0/100 [00:00<?, ?it/s][A 9%|▉ | 9/100 [00:00<00:01, 85.28it/s][A 18%|█▊ | 18/100 [00:00<00:01, 68.65it/s][A 26%|██▌ | 26/100 [00:00<00:01, 60.80it/s][A 33%|███▎ | 33/100 [00:00<00:01, 60.50it/s][A 40%|████ | 40/100 [00:00<00:01, 57.53it/s][A 46%|████▌ | 46/100 [00:00<00:00, 57.74it/s][A 52%|█████▏ | 52/100 [00:00<00:00, 58.05it/s][A 58%|█████▊ | 58/100 [00:00<00:00, 57.63it/s][A 65%|██████▌ | 65/100 [00:01<00:00, 58.36it/s][A 71%|███████ | 71/100 [00:01<00:00, 58.58it/s][A 77%|███████▋ | 77/100 [00:01<00:00, 58.22it/s][A 84%|████████▍ | 84/100 [00:01<00:00, 58.98it/s][A 91%|█████████ | 91/100 [00:01<00:00, 58.96it/s][A 98%|█████████▊| 98/100 [00:01<00:00, 61.26it/s][A [A Models: 60%|██████ | 6/10 [00:09<00:06, 1.61s/it] 0%| | 0/100 [00:00<?, ?it/s][A 9%|▉ | 9/100 [00:00<00:01, 80.76it/s][A 18%|█▊ | 18/100 [00:00<00:01, 67.21it/s][A 25%|██▌ | 25/100 [00:00<00:01, 63.39it/s][A 32%|███▏ | 32/100 [00:00<00:01, 63.85it/s][A 39%|███▉ | 39/100 [00:00<00:00, 64.14it/s][A 46%|████▌ | 46/100 [00:00<00:00, 62.77it/s][A 53%|█████▎ | 53/100 [00:00<00:00, 60.76it/s][A 60%|██████ | 60/100 [00:00<00:00, 60.05it/s][A 67%|██████▋ | 67/100 [00:01<00:00, 61.68it/s][A 74%|███████▍ | 74/100 [00:01<00:00, 61.73it/s][A 81%|████████ | 81/100 [00:01<00:00, 62.12it/s][A 88%|████████▊ | 88/100 [00:01<00:00, 62.29it/s][A 95%|█████████▌| 95/100 [00:01<00:00, 62.24it/s][A [A Models: 70%|███████ | 7/10 [00:10<00:04, 1.61s/it] 0%| | 0/100 [00:00<?, ?it/s][A 9%|▉ | 9/100 [00:00<00:01, 88.61it/s][A 18%|█▊ | 18/100 [00:00<00:01, 68.74it/s][A 26%|██▌ | 26/100 [00:00<00:01, 63.18it/s][A 33%|███▎ | 33/100 [00:00<00:01, 61.79it/s][A 40%|████ | 40/100 [00:00<00:00, 61.01it/s][A 47%|████▋ | 47/100 [00:00<00:00, 61.05it/s][A 54%|█████▍ | 54/100 [00:00<00:00, 59.87it/s][A 61%|██████ | 61/100 [00:00<00:00, 60.46it/s][A 68%|██████▊ | 68/100 [00:01<00:00, 61.93it/s][A 75%|███████▌ | 75/100 [00:01<00:00, 61.31it/s][A 82%|████████▏ | 82/100 [00:01<00:00, 61.43it/s][A 89%|████████▉ | 89/100 [00:01<00:00, 60.50it/s][A 96%|█████████▌| 96/100 [00:01<00:00, 61.53it/s][A [A Models: 80%|████████ | 8/10 [00:12<00:03, 1.61s/it] 0%| | 0/100 [00:00<?, ?it/s][A 10%|█ | 10/100 [00:00<00:00, 90.86it/s][A 20%|██ | 20/100 [00:00<00:01, 73.52it/s][A 28%|██▊ | 28/100 [00:00<00:01, 66.75it/s][A 35%|███▌ | 35/100 [00:00<00:00, 65.23it/s][A 42%|████▏ | 42/100 [00:00<00:00, 65.04it/s][A 49%|████▉ | 49/100 [00:00<00:00, 63.78it/s][A 56%|█████▌ | 56/100 [00:00<00:00, 61.86it/s][A 64%|██████▍ | 64/100 [00:00<00:00, 65.13it/s][A 71%|███████ | 71/100 [00:01<00:00, 63.46it/s][A 78%|███████▊ | 78/100 [00:01<00:00, 63.17it/s][A 85%|████████▌ | 85/100 [00:01<00:00, 62.75it/s][A 92%|█████████▏| 92/100 [00:01<00:00, 64.00it/s][A 99%|█████████▉| 99/100 [00:01<00:00, 63.85it/s][A [A Models: 90%|█████████ | 9/10 [00:13<00:01, 1.59s/it] 0%| | 0/100 [00:00<?, ?it/s][A 8%|▊ | 8/100 [00:00<00:01, 76.43it/s][A 16%|█▌ | 16/100 [00:00<00:01, 70.50it/s][A 24%|██▍ | 24/100 [00:00<00:01, 69.94it/s][A 32%|███▏ | 32/100 [00:00<00:00, 70.20it/s][A 40%|████ | 40/100 [00:00<00:00, 71.03it/s][A 48%|████▊ | 48/100 [00:00<00:00, 70.70it/s][A 56%|█████▌ | 56/100 [00:00<00:00, 68.31it/s][A 64%|██████▍ | 64/100 [00:00<00:00, 70.48it/s][A 72%|███████▏ | 72/100 [00:01<00:00, 68.99it/s][A 79%|███████▉ | 79/100 [00:01<00:00, 67.41it/s][A 86%|████████▌ | 86/100 [00:01<00:00, 67.63it/s][A 94%|█████████▍| 94/100 [00:01<00:00, 69.13it/s][A [A Models: 100%|██████████| 10/10 [00:15<00:00, 1.55s/it] Models: 100%|██████████| 10/10 [00:15<00:00, 1.54s/it][ FAIL 0 | WARN 0 | SKIP 0 | PASS 29 ] > > proc.time() user system elapsed 162.572 5.581 267.714 /Users/biocbuild/Library/Caches/org.R-project.R/R/basilisk/1.12.1/spatialDE/1.6.0/env/lib/python3.8/multiprocessing/resource_tracker.py:216: UserWarning: resource_tracker: There appear to be 1 leaked semaphore objects to clean up at shutdown warnings.warn('resource_tracker: There appear to be %d '
spatialDE.Rcheck/spatialDE-Ex.timings
name | user | system | elapsed | |
FSV_sig | 14.068 | 3.633 | 60.612 | |
mockSVG | 0.714 | 0.090 | 1.028 | |
modelSearch | 4.416 | 0.713 | 38.512 | |
model_search | 3.701 | 0.653 | 39.912 | |
multiGenePlots | 3.984 | 0.447 | 19.450 | |
regress_out | 0.318 | 0.009 | 0.420 | |
run | 1.979 | 0.311 | 19.260 | |
spatialDE | 2.284 | 0.305 | 19.354 | |
spatialPatterns | 4.128 | 0.684 | 42.733 | |
spatial_patterns | 40.137 | 7.545 | 496.407 | |
stabilize | 0.204 | 0.007 | 0.215 | |