Back to Multiple platform build/check report for BioC 3.17: simplified long |
|
This page was generated on 2023-10-16 11:36:40 -0400 (Mon, 16 Oct 2023).
Hostname | OS | Arch (*) | R version | Installed pkgs |
---|---|---|---|---|
nebbiolo1 | Linux (Ubuntu 22.04.2 LTS) | x86_64 | 4.3.1 (2023-06-16) -- "Beagle Scouts" | 4626 |
palomino3 | Windows Server 2022 Datacenter | x64 | 4.3.1 (2023-06-16 ucrt) -- "Beagle Scouts" | 4379 |
merida1 | macOS 12.6.4 Monterey | x86_64 | 4.3.1 (2023-06-16) -- "Beagle Scouts" | 4395 |
Click on any hostname to see more info about the system (e.g. compilers) (*) as reported by 'uname -p', except on Windows and Mac OS X |
Package 1944/2230 | Hostname | OS / Arch | INSTALL | BUILD | CHECK | BUILD BIN | ||||||||
slalom 1.22.0 (landing page) Davis McCarthy
| nebbiolo1 | Linux (Ubuntu 22.04.2 LTS) / x86_64 | OK | OK | OK | ![]() | ||||||||
palomino3 | Windows Server 2022 Datacenter / x64 | OK | OK | OK | OK | ![]() | ||||||||
merida1 | macOS 12.6.4 Monterey / x86_64 | ERROR | ERROR | skipped | skipped | |||||||||
kjohnson2 | macOS 12.6.1 Monterey / arm64 | see weekly results here | ||||||||||||
To the developers/maintainers of the slalom package: - Allow up to 24 hours (and sometimes 48 hours) for your latest push to git@git.bioconductor.org:packages/slalom.git to reflect on this report. See Troubleshooting Build Report for more information. - Use the following Renviron settings to reproduce errors and warnings. - If 'R CMD check' started to fail recently on the Linux builder(s) over a missing dependency, add the missing dependency to 'Suggests:' in your DESCRIPTION file. See Renviron.bioc for more information. |
Package: slalom |
Version: 1.22.0 |
Command: rm -rf slalom.buildbin-libdir && mkdir slalom.buildbin-libdir && F:\biocbuild\bbs-3.17-bioc\R\bin\R.exe CMD INSTALL --build --library=slalom.buildbin-libdir slalom_1.22.0.tar.gz |
StartedAt: 2023-10-16 09:33:49 -0400 (Mon, 16 Oct 2023) |
EndedAt: 2023-10-16 09:35:01 -0400 (Mon, 16 Oct 2023) |
EllapsedTime: 71.5 seconds |
RetCode: 0 |
Status: OK |
PackageFile: slalom_1.22.0.zip |
PackageFileSize: 18.42 MiB |
############################################################################## ############################################################################## ### ### Running command: ### ### rm -rf slalom.buildbin-libdir && mkdir slalom.buildbin-libdir && F:\biocbuild\bbs-3.17-bioc\R\bin\R.exe CMD INSTALL --build --library=slalom.buildbin-libdir slalom_1.22.0.tar.gz ### ############################################################################## ############################################################################## * installing *source* package 'slalom' ... ** using staged installation ** libs using C++ compiler: 'G__~1.EXE (GCC) 12.2.0' g++ -std=gnu++17 -I"F:/biocbuild/bbs-3.17-bioc/R/include" -DNDEBUG -I'F:/biocbuild/bbs-3.17-bioc/R/library/Rcpp/include' -I'F:/biocbuild/bbs-3.17-bioc/R/library/RcppArmadillo/include' -I'F:/biocbuild/bbs-3.17-bioc/R/library/BH/include' -I"C:/rtools43/x86_64-w64-mingw32.static.posix/include" -O2 -Wall -mfpmath=sse -msse2 -mstackrealign -c RcppExports.cpp -o RcppExports.o g++ -std=gnu++17 -I"F:/biocbuild/bbs-3.17-bioc/R/include" -DNDEBUG -I'F:/biocbuild/bbs-3.17-bioc/R/library/Rcpp/include' -I'F:/biocbuild/bbs-3.17-bioc/R/library/RcppArmadillo/include' -I'F:/biocbuild/bbs-3.17-bioc/R/library/BH/include' -I"C:/rtools43/x86_64-w64-mingw32.static.posix/include" -O2 -Wall -mfpmath=sse -msse2 -mstackrealign -c slalom-classes.cpp -o slalom-classes.o In file included from F:/biocbuild/bbs-3.17-bioc/R/library/BH/include/boost/mpl/aux_/na_assert.hpp:23, from F:/biocbuild/bbs-3.17-bioc/R/library/BH/include/boost/mpl/arg.hpp:25, from F:/biocbuild/bbs-3.17-bioc/R/library/BH/include/boost/mpl/placeholders.hpp:24, from F:/biocbuild/bbs-3.17-bioc/R/library/BH/include/boost/iterator/iterator_categories.hpp:16, from F:/biocbuild/bbs-3.17-bioc/R/library/BH/include/boost/iterator/iterator_facade.hpp:13, from F:/biocbuild/bbs-3.17-bioc/R/library/BH/include/boost/range/iterator_range_core.hpp:27, from F:/biocbuild/bbs-3.17-bioc/R/library/BH/include/boost/lexical_cast.hpp:30, from F:/biocbuild/bbs-3.17-bioc/R/library/BH/include/boost/math/tools/convert_from_string.hpp:15, from F:/biocbuild/bbs-3.17-bioc/R/library/BH/include/boost/math/constants/constants.hpp:14, from F:/biocbuild/bbs-3.17-bioc/R/library/BH/include/boost/math/special_functions/digamma.hpp:20, from slalom-classes.cpp:20: F:/biocbuild/bbs-3.17-bioc/R/library/BH/include/boost/mpl/assert.hpp:194:21: warning: unnecessary parentheses in declaration of 'assert_arg' [-Wparentheses] 194 | failed ************ (Pred::************ | ^~~~~~~~~~~~~~~~~~~ 195 | assert_arg( void (*)(Pred), typename assert_arg_pred<Pred>::type ) | ~~~~~~~~~~~~~~~~~~~~~~~~~~~~~~~~~~~~~~~~~~~~~~~~~~~~~~~~~~~~~~~~~~ 196 | ); | ~ F:/biocbuild/bbs-3.17-bioc/R/library/BH/include/boost/mpl/assert.hpp:194:21: note: remove parentheses 194 | failed ************ (Pred::************ | ^~~~~~~~~~~~~~~~~~~ | - 195 | assert_arg( void (*)(Pred), typename assert_arg_pred<Pred>::type ) | ~~~~~~~~~~~~~~~~~~~~~~~~~~~~~~~~~~~~~~~~~~~~~~~~~~~~~~~~~~~~~~~~~~ 196 | ); | ~ | - F:/biocbuild/bbs-3.17-bioc/R/library/BH/include/boost/mpl/assert.hpp:199:21: warning: unnecessary parentheses in declaration of 'assert_not_arg' [-Wparentheses] 199 | failed ************ (boost::mpl::not_<Pred>::************ | ^~~~~~~~~~~~~~~~~~~~~~~~~~~~~~~~~~~~~ 200 | assert_not_arg( void (*)(Pred), typename assert_arg_pred_not<Pred>::type ) | ~~~~~~~~~~~~~~~~~~~~~~~~~~~~~~~~~~~~~~~~~~~~~~~~~~~~~~~~~~~~~~~~~~~~~~~~~~ 201 | ); | ~ F:/biocbuild/bbs-3.17-bioc/R/library/BH/include/boost/mpl/assert.hpp:199:21: note: remove parentheses 199 | failed ************ (boost::mpl::not_<Pred>::************ | ^~~~~~~~~~~~~~~~~~~~~~~~~~~~~~~~~~~~~ | - 200 | assert_not_arg( void (*)(Pred), typename assert_arg_pred_not<Pred>::type ) | ~~~~~~~~~~~~~~~~~~~~~~~~~~~~~~~~~~~~~~~~~~~~~~~~~~~~~~~~~~~~~~~~~~~~~~~~~~ 201 | ); | ~ | - slalom-classes.cpp: In member function 'void SlalomModel::train()': slalom-classes.cpp:223:20: warning: unused variable 'meanerr' [-Wunused-variable] 223 | double meanerr = arma::mean(error); | ^~~~~~~ slalom-classes.cpp:202:12: warning: unused variable 'meanerr' [-Wunused-variable] 202 | double meanerr = arma::mean(error); | ^~~~~~~ slalom-classes.cpp: In member function 'void SlalomModel::updateEpsilon()': slalom-classes.cpp:431:23: warning: comparison of integer expressions of different signedness: 'int' and 'const arma::uword' {aka 'const unsigned int'} [-Wsign-compare] 431 | for (int i = 0; i < this->epsilon_E1.n_elem; i++) { | ~~^~~~~~~~~~~~~~~~~~~~~~~~~ g++ -std=gnu++17 -shared -s -static-libgcc -o slalom.dll tmp.def RcppExports.o slalom-classes.o -LF:/biocbuild/bbs-3.17-bioc/R/bin/x64 -lRlapack -LF:/biocbuild/bbs-3.17-bioc/R/bin/x64 -lRblas -lgfortran -lm -lquadmath -LC:/rtools43/x86_64-w64-mingw32.static.posix/lib/x64 -LC:/rtools43/x86_64-w64-mingw32.static.posix/lib -LF:/biocbuild/bbs-3.17-bioc/R/bin/x64 -lR installing to F:/biocbuild/bbs-3.17-bioc/meat/slalom.buildbin-libdir/00LOCK-slalom/00new/slalom/libs/x64 ** R ** data *** moving datasets to lazyload DB ** inst ** byte-compile and prepare package for lazy loading ** help *** installing help indices ** building package indices ** installing vignettes ** testing if installed package can be loaded from temporary location ** testing if installed package can be loaded from final location ** testing if installed package keeps a record of temporary installation path * MD5 sums packaged installation of 'slalom' as slalom_1.22.0.zip * DONE (slalom)