Back to Multiple platform build/check report for BioC 3.17: simplified long |
|
This page was generated on 2023-10-16 11:36:37 -0400 (Mon, 16 Oct 2023).
Hostname | OS | Arch (*) | R version | Installed pkgs |
---|---|---|---|---|
nebbiolo1 | Linux (Ubuntu 22.04.2 LTS) | x86_64 | 4.3.1 (2023-06-16) -- "Beagle Scouts" | 4626 |
palomino3 | Windows Server 2022 Datacenter | x64 | 4.3.1 (2023-06-16 ucrt) -- "Beagle Scouts" | 4379 |
merida1 | macOS 12.6.4 Monterey | x86_64 | 4.3.1 (2023-06-16) -- "Beagle Scouts" | 4395 |
Click on any hostname to see more info about the system (e.g. compilers) (*) as reported by 'uname -p', except on Windows and Mac OS X |
Package 1838/2230 | Hostname | OS / Arch | INSTALL | BUILD | CHECK | BUILD BIN | ||||||||
scFeatures 1.0.0 (landing page) Yue Cao
| nebbiolo1 | Linux (Ubuntu 22.04.2 LTS) / x86_64 | OK | OK | OK | ![]() | ||||||||
palomino3 | Windows Server 2022 Datacenter / x64 | OK | OK | OK | OK | ![]() | ||||||||
merida1 | macOS 12.6.4 Monterey / x86_64 | OK | OK | OK | OK | ![]() | ||||||||
kjohnson2 | macOS 12.6.1 Monterey / arm64 | see weekly results here | ||||||||||||
To the developers/maintainers of the scFeatures package: - Allow up to 24 hours (and sometimes 48 hours) for your latest push to git@git.bioconductor.org:packages/scFeatures.git to reflect on this report. See Troubleshooting Build Report for more information. - Use the following Renviron settings to reproduce errors and warnings. - If 'R CMD check' started to fail recently on the Linux builder(s) over a missing dependency, add the missing dependency to 'Suggests:' in your DESCRIPTION file. See Renviron.bioc for more information. |
Package: scFeatures |
Version: 1.0.0 |
Command: F:\biocbuild\bbs-3.17-bioc\R\bin\R.exe CMD check --no-multiarch --install=check:scFeatures.install-out.txt --library=F:\biocbuild\bbs-3.17-bioc\R\library --no-vignettes --timings scFeatures_1.0.0.tar.gz |
StartedAt: 2023-10-16 06:30:09 -0400 (Mon, 16 Oct 2023) |
EndedAt: 2023-10-16 06:38:04 -0400 (Mon, 16 Oct 2023) |
EllapsedTime: 474.7 seconds |
RetCode: 0 |
Status: OK |
CheckDir: scFeatures.Rcheck |
Warnings: 0 |
############################################################################## ############################################################################## ### ### Running command: ### ### F:\biocbuild\bbs-3.17-bioc\R\bin\R.exe CMD check --no-multiarch --install=check:scFeatures.install-out.txt --library=F:\biocbuild\bbs-3.17-bioc\R\library --no-vignettes --timings scFeatures_1.0.0.tar.gz ### ############################################################################## ############################################################################## * using log directory 'F:/biocbuild/bbs-3.17-bioc/meat/scFeatures.Rcheck' * using R version 4.3.1 (2023-06-16 ucrt) * using platform: x86_64-w64-mingw32 (64-bit) * R was compiled by gcc.exe (GCC) 12.2.0 GNU Fortran (GCC) 12.2.0 * running under: Windows Server 2022 x64 (build 20348) * using session charset: UTF-8 * using option '--no-vignettes' * checking for file 'scFeatures/DESCRIPTION' ... OK * this is package 'scFeatures' version '1.0.0' * package encoding: UTF-8 * checking package namespace information ... OK * checking package dependencies ... OK * checking if this is a source package ... OK * checking if there is a namespace ... OK * checking for hidden files and directories ... OK * checking for portable file names ... OK * checking whether package 'scFeatures' can be installed ... OK * checking installed package size ... OK * checking package directory ... OK * checking 'build' directory ... OK * checking DESCRIPTION meta-information ... OK * checking top-level files ... OK * checking for left-over files ... OK * checking index information ... OK * checking package subdirectories ... OK * checking R files for non-ASCII characters ... OK * checking R files for syntax errors ... OK * checking whether the package can be loaded ... OK * checking whether the package can be loaded with stated dependencies ... OK * checking whether the package can be unloaded cleanly ... OK * checking whether the namespace can be loaded with stated dependencies ... OK * checking whether the namespace can be unloaded cleanly ... OK * checking dependencies in R code ... NOTE Namespace in Imports field not imported from: 'DT' All declared Imports should be used. * checking S3 generic/method consistency ... OK * checking replacement functions ... OK * checking foreign function calls ... OK * checking R code for possible problems ... NOTE helper_CCI: no visible binding for global variable 'LRdb' helper_CCI: no visible global function definition for 'capture.output' run_pathway_gsva: no visible global function definition for 'capture.output' Undefined global functions or variables: LRdb capture.output Consider adding importFrom("utils", "capture.output") to your NAMESPACE file. * checking Rd files ... OK * checking Rd metadata ... OK * checking Rd cross-references ... OK * checking for missing documentation entries ... OK * checking for code/documentation mismatches ... OK * checking Rd \usage sections ... OK * checking Rd contents ... OK * checking for unstated dependencies in examples ... OK * checking contents of 'data' directory ... OK * checking data for non-ASCII characters ... OK * checking data for ASCII and uncompressed saves ... OK * checking files in 'vignettes' ... OK * checking examples ... OK Examples with CPU (user + system) or elapsed time > 5s user system elapsed run_pathway_prop 14.92 0.69 15.61 run_pathway_mean 9.03 0.68 9.72 run_pathway_gsva 6.91 0.68 7.57 run_association_study_report 5.38 0.82 8.92 run_gene_mean_celltype 5.09 0.14 5.23 * checking for unstated dependencies in vignettes ... OK * checking package vignettes in 'inst/doc' ... OK * checking running R code from vignettes ... SKIPPED * checking re-building of vignette outputs ... SKIPPED * checking PDF version of manual ... OK * DONE Status: 2 NOTEs See 'F:/biocbuild/bbs-3.17-bioc/meat/scFeatures.Rcheck/00check.log' for details.
scFeatures.Rcheck/00install.out
############################################################################## ############################################################################## ### ### Running command: ### ### F:\biocbuild\bbs-3.17-bioc\R\bin\R.exe CMD INSTALL scFeatures ### ############################################################################## ############################################################################## * installing to library 'F:/biocbuild/bbs-3.17-bioc/R/library' * installing *source* package 'scFeatures' ... ** using staged installation ** R ** data ** inst ** byte-compile and prepare package for lazy loading ** help *** installing help indices ** building package indices ** installing vignettes ** testing if installed package can be loaded from temporary location ** testing if installed package can be loaded from final location ** testing if installed package keeps a record of temporary installation path * DONE (scFeatures)
scFeatures.Rcheck/scFeatures-Ex.timings
name | user | system | elapsed | |
get_num_cell_per_spot | 1.41 | 0.39 | 1.28 | |
makeSeurat | 0.13 | 0.02 | 0.14 | |
process_data | 0.36 | 0.03 | 0.39 | |
remove_mito_ribo | 2.09 | 0.03 | 1.58 | |
run_CCI | 1.38 | 0.14 | 1.55 | |
run_L_function | 0.89 | 0.05 | 0.94 | |
run_Morans_I | 1.34 | 0.04 | 1.39 | |
run_association_study_report | 5.38 | 0.82 | 8.92 | |
run_celltype_interaction | 0.75 | 0.00 | 0.75 | |
run_gene_cor | 2.44 | 0.04 | 2.49 | |
run_gene_cor_celltype | 3.44 | 0.11 | 3.51 | |
run_gene_mean | 3.05 | 0.16 | 3.21 | |
run_gene_mean_celltype | 5.09 | 0.14 | 5.23 | |
run_gene_prop | 2.03 | 0.05 | 2.08 | |
run_gene_prop_celltype | 3.84 | 0.04 | 3.89 | |
run_nn_correlation | 0.74 | 0.03 | 0.77 | |
run_pathway_gsva | 6.91 | 0.68 | 7.57 | |
run_pathway_mean | 9.03 | 0.68 | 9.72 | |
run_pathway_prop | 14.92 | 0.69 | 15.61 | |
run_proportion_logit | 0.26 | 0.00 | 0.27 | |
run_proportion_ratio | 0.35 | 0.03 | 0.37 | |
run_proportion_raw | 0.28 | 0.02 | 0.30 | |
scFeatures | 0.78 | 0.23 | 0.36 | |