Back to Multiple platform build/check report for BioC 3.17: simplified long |
|
This page was generated on 2023-10-16 11:37:27 -0400 (Mon, 16 Oct 2023).
Hostname | OS | Arch (*) | R version | Installed pkgs |
---|---|---|---|---|
nebbiolo1 | Linux (Ubuntu 22.04.2 LTS) | x86_64 | 4.3.1 (2023-06-16) -- "Beagle Scouts" | 4626 |
palomino3 | Windows Server 2022 Datacenter | x64 | 4.3.1 (2023-06-16 ucrt) -- "Beagle Scouts" | 4379 |
merida1 | macOS 12.6.4 Monterey | x86_64 | 4.3.1 (2023-06-16) -- "Beagle Scouts" | 4395 |
Click on any hostname to see more info about the system (e.g. compilers) (*) as reported by 'uname -p', except on Windows and Mac OS X |
Package 1720/2230 | Hostname | OS / Arch | INSTALL | BUILD | CHECK | BUILD BIN | ||||||||
rifi 1.4.1 (landing page) Jens Georg
| nebbiolo1 | Linux (Ubuntu 22.04.2 LTS) / x86_64 | OK | OK | WARNINGS | ![]() | ||||||||
palomino3 | Windows Server 2022 Datacenter / x64 | ... NOT SUPPORTED ... | ||||||||||||
merida1 | macOS 12.6.4 Monterey / x86_64 | OK | OK | WARNINGS | OK | ![]() | ||||||||
kjohnson2 | macOS 12.6.1 Monterey / arm64 | see weekly results here | ||||||||||||
To the developers/maintainers of the rifi package: - Allow up to 24 hours (and sometimes 48 hours) for your latest push to git@git.bioconductor.org:packages/rifi.git to reflect on this report. See Troubleshooting Build Report for more information. - Use the following Renviron settings to reproduce errors and warnings. - If 'R CMD check' started to fail recently on the Linux builder(s) over a missing dependency, add the missing dependency to 'Suggests:' in your DESCRIPTION file. See Renviron.bioc for more information. |
Package: rifi |
Version: 1.4.1 |
Command: /Library/Frameworks/R.framework/Resources/bin/R CMD check --install=check:rifi.install-out.txt --library=/Library/Frameworks/R.framework/Resources/library --no-vignettes --timings rifi_1.4.1.tar.gz |
StartedAt: 2023-10-16 06:05:38 -0400 (Mon, 16 Oct 2023) |
EndedAt: 2023-10-16 06:30:37 -0400 (Mon, 16 Oct 2023) |
EllapsedTime: 1499.1 seconds |
RetCode: 0 |
Status: WARNINGS |
CheckDir: rifi.Rcheck |
Warnings: 2 |
############################################################################## ############################################################################## ### ### Running command: ### ### /Library/Frameworks/R.framework/Resources/bin/R CMD check --install=check:rifi.install-out.txt --library=/Library/Frameworks/R.framework/Resources/library --no-vignettes --timings rifi_1.4.1.tar.gz ### ############################################################################## ############################################################################## * using log directory ‘/Users/biocbuild/bbs-3.17-bioc/meat/rifi.Rcheck’ * using R version 4.3.1 (2023-06-16) * using platform: x86_64-apple-darwin20 (64-bit) * R was compiled by Apple clang version 14.0.3 (clang-1403.0.22.14.1) GNU Fortran (GCC) 12.2.0 * running under: macOS Monterey 12.6.4 * using session charset: UTF-8 * using option ‘--no-vignettes’ * checking for file ‘rifi/DESCRIPTION’ ... OK * this is package ‘rifi’ version ‘1.4.1’ * package encoding: UTF-8 * checking package namespace information ... OK * checking package dependencies ... OK * checking if this is a source package ... OK * checking if there is a namespace ... OK * checking for hidden files and directories ... NOTE Found the following hidden files and directories: .BBSoptions R/.ipynb_checkpoints vignettes/.ipynb_checkpoints These were most likely included in error. See section ‘Package structure’ in the ‘Writing R Extensions’ manual. * checking for portable file names ... OK * checking for sufficient/correct file permissions ... OK * checking whether package ‘rifi’ can be installed ... WARNING Found the following significant warnings: Note: next used in wrong context: no loop is visible Warning: apply_Ttest_delay.Rd:55: unexpected '}' Warning: predict_ps_itss.Rd:57: unexpected '}' See ‘/Users/biocbuild/bbs-3.17-bioc/meat/rifi.Rcheck/00install.out’ for details. Information on the location(s) of code generating the ‘Note’s can be obtained by re-running with environment variable R_KEEP_PKG_SOURCE set to ‘yes’. * checking installed package size ... OK * checking package directory ... OK * checking ‘build’ directory ... OK * checking DESCRIPTION meta-information ... OK * checking top-level files ... OK * checking for left-over files ... OK * checking index information ... OK * checking package subdirectories ... OK * checking R files for non-ASCII characters ... OK * checking R files for syntax errors ... OK * checking whether the package can be loaded ... OK * checking whether the package can be loaded with stated dependencies ... OK * checking whether the package can be unloaded cleanly ... OK * checking whether the namespace can be loaded with stated dependencies ... OK * checking whether the namespace can be unloaded cleanly ... OK * checking dependencies in R code ... OK * checking S3 generic/method consistency ... OK * checking replacement functions ... OK * checking foreign function calls ... OK * checking R code for possible problems ... OK * checking Rd files ... WARNING prepare_Rd: apply_Ttest_delay.Rd:55: unexpected '}' prepare_Rd: predict_ps_itss.Rd:57: unexpected '}' * checking Rd metadata ... OK * checking Rd cross-references ... OK * checking for missing documentation entries ... OK * checking for code/documentation mismatches ... OK * checking Rd \usage sections ... OK * checking Rd contents ... OK * checking for unstated dependencies in examples ... OK * checking contents of ‘data’ directory ... OK * checking data for non-ASCII characters ... OK * checking data for ASCII and uncompressed saves ... OK * checking files in ‘vignettes’ ... OK * checking examples ... OK Examples with CPU (user + system) or elapsed time > 5s user system elapsed rifi_wrapper 246.871 69.861 360.917 rifi_penalties 117.438 46.288 202.863 nls2_fit 93.607 3.004 81.549 rifi_fit 60.504 0.668 81.306 rifi_visualization 45.740 2.370 60.813 make_pen 23.147 8.682 37.983 TI_fit 27.566 2.534 23.762 rifi_stats 11.617 0.278 14.738 rifi_fragmentation 8.449 1.872 12.440 fold_change 7.492 0.223 9.288 rifi_preprocess 3.993 1.100 5.264 rifi_summary 4.467 0.062 5.769 * checking for unstated dependencies in vignettes ... OK * checking package vignettes in ‘inst/doc’ ... OK * checking running R code from vignettes ... SKIPPED * checking re-building of vignette outputs ... SKIPPED * checking PDF version of manual ... OK * DONE Status: 2 WARNINGs, 1 NOTE See ‘/Users/biocbuild/bbs-3.17-bioc/meat/rifi.Rcheck/00check.log’ for details.
rifi.Rcheck/00install.out
############################################################################## ############################################################################## ### ### Running command: ### ### /Library/Frameworks/R.framework/Resources/bin/R CMD INSTALL rifi ### ############################################################################## ############################################################################## * installing to library ‘/Library/Frameworks/R.framework/Versions/4.3-x86_64/Resources/library’ * installing *source* package ‘rifi’ ... ** using staged installation ** R ** data ** inst ** byte-compile and prepare package for lazy loading Note: next used in wrong context: no loop is visible ** help Warning: apply_Ttest_delay.Rd:55: unexpected '}' Warning: predict_ps_itss.Rd:57: unexpected '}' *** installing help indices ** building package indices ** installing vignettes ** testing if installed package can be loaded from temporary location ** testing if installed package can be loaded from final location ** testing if installed package keeps a record of temporary installation path * DONE (rifi)
rifi.Rcheck/rifi-Ex.timings
name | user | system | elapsed | |
TI_fit | 27.566 | 2.534 | 23.762 | |
TUgether | 1.073 | 0.236 | 1.627 | |
apply_Ttest_delay | 0.243 | 0.041 | 0.349 | |
apply_ancova | 0.737 | 0.096 | 1.020 | |
apply_event_position | 0.241 | 0.032 | 0.343 | |
apply_manova | 1.379 | 0.078 | 1.866 | |
apply_t_test | 1.508 | 0.010 | 1.889 | |
apply_t_test_ti | 0.403 | 0.007 | 0.503 | |
check_input | 0.807 | 0.018 | 1.022 | |
dataframe_summary | 0.226 | 0.024 | 0.303 | |
dataframe_summary_TI | 0.098 | 0.009 | 0.133 | |
dataframe_summary_events | 1.729 | 0.052 | 2.152 | |
dataframe_summary_events_HL_int | 1.440 | 0.033 | 1.762 | |
dataframe_summary_events_ps_itss | 0.550 | 0.026 | 0.690 | |
dataframe_summary_events_velocity | 0.511 | 0.025 | 0.628 | |
event_dataframe | 1.772 | 0.045 | 2.143 | |
finding_PDD | 0.506 | 0.123 | 0.726 | |
finding_TI | 0.872 | 0.225 | 1.318 | |
fold_change | 7.492 | 0.223 | 9.288 | |
fragment_HL | 1.416 | 0.248 | 1.911 | |
fragment_TI | 1.075 | 0.126 | 1.417 | |
fragment_delay | 2.322 | 0.544 | 3.188 | |
fragment_inty | 1.564 | 0.336 | 2.212 | |
gff3_preprocess | 1.112 | 0.122 | 1.492 | |
make_df | 1.713 | 0.676 | 1.841 | |
make_pen | 23.147 | 8.682 | 37.983 | |
nls2_fit | 93.607 | 3.004 | 81.549 | |
predict_ps_itss | 0.687 | 0.088 | 1.158 | |
rifi_fit | 60.504 | 0.668 | 81.306 | |
rifi_fragmentation | 8.449 | 1.872 | 12.440 | |
rifi_penalties | 117.438 | 46.288 | 202.863 | |
rifi_preprocess | 3.993 | 1.100 | 5.264 | |
rifi_stats | 11.617 | 0.278 | 14.738 | |
rifi_summary | 4.467 | 0.062 | 5.769 | |
rifi_visualization | 45.740 | 2.370 | 60.813 | |
rifi_wrapper | 246.871 | 69.861 | 360.917 | |
segment_pos | 0.409 | 0.004 | 0.542 | |
viz_pen_obj | 0.015 | 0.011 | 0.029 | |